BEGIN:VCALENDAR
VERSION:2.0
PRODID:-//Algonquin Township - ECPv6.15.18//NONSGML v1.0//EN
CALSCALE:GREGORIAN
METHOD:PUBLISH
X-ORIGINAL-URL:https://www.algonquintownship.com
X-WR-CALDESC:Events for Algonquin Township
REFRESH-INTERVAL;VALUE=DURATION:PT1H
X-Robots-Tag:noindex
X-PUBLISHED-TTL:PT1H
BEGIN:VTIMEZONE
TZID:America/Chicago
BEGIN:DAYLIGHT
TZOFFSETFROM:-0600
TZOFFSETTO:-0500
TZNAME:CDT
DTSTART:20270314T080000
END:DAYLIGHT
BEGIN:STANDARD
TZOFFSETFROM:-0500
TZOFFSETTO:-0600
TZNAME:CST
DTSTART:20271107T070000
END:STANDARD
BEGIN:DAYLIGHT
TZOFFSETFROM:-0600
TZOFFSETTO:-0500
TZNAME:CDT
DTSTART:20280312T080000
END:DAYLIGHT
BEGIN:STANDARD
TZOFFSETFROM:-0500
TZOFFSETTO:-0600
TZNAME:CST
DTSTART:20281105T070000
END:STANDARD
BEGIN:DAYLIGHT
TZOFFSETFROM:-0600
TZOFFSETTO:-0500
TZNAME:CDT
DTSTART:20290311T080000
END:DAYLIGHT
BEGIN:STANDARD
TZOFFSETFROM:-0500
TZOFFSETTO:-0600
TZNAME:CST
DTSTART:20291104T070000
END:STANDARD
END:VTIMEZONE
BEGIN:VEVENT
DTSTART;TZID=America/Chicago:20280112T190000
DTEND;TZID=America/Chicago:20280112T210000
DTSTAMP:20260425T123838
CREATED:20240617T171043Z
LAST-MODIFIED:20240710T133539Z
UID:10006671-1831316400-1831323600@www.algonquintownship.com
SUMMARY:Algonquin Township Board Meeting
DESCRIPTION:
URL:https://www.algonquintownship.com/event/algonquin-township-board-meeting-2024-08-14/2028-01-12/
LOCATION:Meeting room #2 Board Room\, 3702 U.S. Highway 14\, Crystal Lake\, IL\, 60012\, United States
END:VEVENT
BEGIN:VEVENT
DTSTART;TZID=America/Chicago:20280113T073000
DTEND;TZID=America/Chicago:20280113T090000
DTSTAMP:20260425T123838
CREATED:20240617T164830Z
LAST-MODIFIED:20240625T191954Z
UID:10006412-1831361400-1831366800@www.algonquintownship.com
SUMMARY:Toastmasters / Crystal Clear
DESCRIPTION:
URL:https://www.algonquintownship.com/event/toastmasters-crystal-clear-2-2024-07-11/2028-01-13/
LOCATION:Meeting room #2 Board Room\, 3702 U.S. Highway 14\, Crystal Lake\, IL\, 60012\, United States
END:VEVENT
BEGIN:VEVENT
DTSTART;TZID=America/Chicago:20280113T183000
DTEND;TZID=America/Chicago:20280113T220000
DTSTAMP:20260425T123838
CREATED:20240617T152947Z
LAST-MODIFIED:20260127T173342Z
UID:10006460-1831401000-1831413600@www.algonquintownship.com
SUMMARY:Friendship Star Quilters Guild
DESCRIPTION:
URL:https://www.algonquintownship.com/event/friendship-star-quilters-guild-2/2028-01-13/
LOCATION:Meeting room #2 Board Room\, 3702 U.S. Highway 14\, Crystal Lake\, IL\, 60012\, United States
END:VEVENT
BEGIN:VEVENT
DTSTART;TZID=America/Chicago:20280114T110000
DTEND;TZID=America/Chicago:20280114T121500
DTSTAMP:20260425T123838
CREATED:20250114T142556Z
LAST-MODIFIED:20260107T153225Z
UID:10007834-1831460400-1831464900@www.algonquintownship.com
SUMMARY:Simple Strength Class
DESCRIPTION:
URL:https://www.algonquintownship.com/event/simple-strength-class/2028-01-14/
LOCATION:Meeting room #2 Board Room\, 3702 U.S. Highway 14\, Crystal Lake\, IL\, 60012\, United States
END:VEVENT
BEGIN:VEVENT
DTSTART;TZID=America/Chicago:20280117T101500
DTEND;TZID=America/Chicago:20280117T111500
DTSTAMP:20260425T123838
CREATED:20240617T133653Z
LAST-MODIFIED:20260107T153547Z
UID:10009763-1831716900-1831720500@www.algonquintownship.com
SUMMARY:Monday Chair Yoga
DESCRIPTION:
URL:https://www.algonquintownship.com/event/monday-chair-yoga/2028-01-17/
LOCATION:Meeting room #2 Board Room\, 3702 U.S. Highway 14\, Crystal Lake\, IL\, 60012\, United States
END:VEVENT
BEGIN:VEVENT
DTSTART;TZID=America/Chicago:20280118T180000
DTEND;TZID=America/Chicago:20280118T200000
DTSTAMP:20260425T123838
CREATED:20240617T142319Z
LAST-MODIFIED:20250204T162209Z
UID:10007380-1831831200-1831838400@www.algonquintownship.com
SUMMARY:TOPS
DESCRIPTION:TOPS – Taking off Pounds Sensibly.  Meets every Tuesday 6pm-8pm.
URL:https://www.algonquintownship.com/event/tops-2025-02-04/2028-01-18/
LOCATION:Meeting room #2 Board Room\, 3702 U.S. Highway 14\, Crystal Lake\, IL\, 60012\, United States
END:VEVENT
BEGIN:VEVENT
DTSTART;TZID=America/Chicago:20280119T090000
DTEND;TZID=America/Chicago:20280119T130000
DTSTAMP:20260425T123838
CREATED:20240617T142826Z
LAST-MODIFIED:20240617T142826Z
UID:10004848-1831885200-1831899600@www.algonquintownship.com
SUMMARY:SWAT
DESCRIPTION:SWAT – Striders Walkers and Talkers.
URL:https://www.algonquintownship.com/event/swat/2028-01-19/
LOCATION:Meeting room #2 Board Room\, 3702 U.S. Highway 14\, Crystal Lake\, IL\, 60012\, United States
END:VEVENT
BEGIN:VEVENT
DTSTART;TZID=America/Chicago:20280121T110000
DTEND;TZID=America/Chicago:20280121T121500
DTSTAMP:20260425T123838
CREATED:20250114T142556Z
LAST-MODIFIED:20260107T153225Z
UID:10007835-1832065200-1832069700@www.algonquintownship.com
SUMMARY:Simple Strength Class
DESCRIPTION:
URL:https://www.algonquintownship.com/event/simple-strength-class/2028-01-21/
LOCATION:Meeting room #2 Board Room\, 3702 U.S. Highway 14\, Crystal Lake\, IL\, 60012\, United States
END:VEVENT
BEGIN:VEVENT
DTSTART;TZID=America/Chicago:20280124T101500
DTEND;TZID=America/Chicago:20280124T111500
DTSTAMP:20260425T123838
CREATED:20240617T133653Z
LAST-MODIFIED:20260107T153547Z
UID:10009764-1832321700-1832325300@www.algonquintownship.com
SUMMARY:Monday Chair Yoga
DESCRIPTION:
URL:https://www.algonquintownship.com/event/monday-chair-yoga/2028-01-24/
LOCATION:Meeting room #2 Board Room\, 3702 U.S. Highway 14\, Crystal Lake\, IL\, 60012\, United States
END:VEVENT
BEGIN:VEVENT
DTSTART;TZID=America/Chicago:20280125T100000
DTEND;TZID=America/Chicago:20280125T140000
DTSTAMP:20260425T123838
CREATED:20250909T183922Z
LAST-MODIFIED:20250909T183924Z
UID:10008620-1832407200-1832421600@www.algonquintownship.com
SUMMARY:Computer Class
DESCRIPTION:Personalized Computer Class.  Meets every other Tuesday.  This is a one-on-one class for 1 hour sessions beginning at 10am
URL:https://www.algonquintownship.com/event/computer-class-2/2028-01-25/
LOCATION:Meeting room #2 Board Room\, 3702 U.S. Highway 14\, Crystal Lake\, IL\, 60012\, United States
END:VEVENT
BEGIN:VEVENT
DTSTART;TZID=America/Chicago:20280125T180000
DTEND;TZID=America/Chicago:20280125T200000
DTSTAMP:20260425T123838
CREATED:20240617T142319Z
LAST-MODIFIED:20250204T162209Z
UID:10007381-1832436000-1832443200@www.algonquintownship.com
SUMMARY:TOPS
DESCRIPTION:TOPS – Taking off Pounds Sensibly.  Meets every Tuesday 6pm-8pm.
URL:https://www.algonquintownship.com/event/tops-2025-02-04/2028-01-25/
LOCATION:Meeting room #2 Board Room\, 3702 U.S. Highway 14\, Crystal Lake\, IL\, 60012\, United States
END:VEVENT
BEGIN:VEVENT
DTSTART;TZID=America/Chicago:20280126T090000
DTEND;TZID=America/Chicago:20280126T130000
DTSTAMP:20260425T123838
CREATED:20240617T142826Z
LAST-MODIFIED:20240617T142826Z
UID:10004849-1832490000-1832504400@www.algonquintownship.com
SUMMARY:SWAT
DESCRIPTION:SWAT – Striders Walkers and Talkers.
URL:https://www.algonquintownship.com/event/swat/2028-01-26/
LOCATION:Meeting room #2 Board Room\, 3702 U.S. Highway 14\, Crystal Lake\, IL\, 60012\, United States
END:VEVENT
BEGIN:VEVENT
DTSTART;TZID=America/Chicago:20280126T180000
DTEND;TZID=America/Chicago:20280126T210000
DTSTAMP:20260425T123838
CREATED:20240617T153424Z
LAST-MODIFIED:20240617T153424Z
UID:10005724-1832522400-1832533200@www.algonquintownship.com
SUMMARY:VNC
DESCRIPTION:
URL:https://www.algonquintownship.com/event/vnc/2028-01-26/
LOCATION:Meeting room #2 Board Room\, 3702 U.S. Highway 14\, Crystal Lake\, IL\, 60012\, United States
END:VEVENT
BEGIN:VEVENT
DTSTART;TZID=America/Chicago:20280127T073000
DTEND;TZID=America/Chicago:20280127T090000
DTSTAMP:20260425T123838
CREATED:20240617T164633Z
LAST-MODIFIED:20260127T184340Z
UID:10005772-1832571000-1832576400@www.algonquintownship.com
SUMMARY:Toastmasters / Crystal Clear
DESCRIPTION:
URL:https://www.algonquintownship.com/event/toastmasters-crystal-clear/2028-01-27/
LOCATION:Meeting room #2 Board Room\, 3702 U.S. Highway 14\, Crystal Lake\, IL\, 60012\, United States
END:VEVENT
BEGIN:VEVENT
DTSTART;TZID=America/Chicago:20280127T170000
DTEND;TZID=America/Chicago:20280127T210000
DTSTAMP:20260425T123838
CREATED:20240617T153753Z
LAST-MODIFIED:20240617T153753Z
UID:10005820-1832605200-1832619600@www.algonquintownship.com
SUMMARY:Amvets
DESCRIPTION:
URL:https://www.algonquintownship.com/event/amvets/2028-01-27/
LOCATION:Meeting room #2 Board Room\, 3702 U.S. Highway 14\, Crystal Lake\, IL\, 60012\, United States
END:VEVENT
BEGIN:VEVENT
DTSTART;TZID=America/Chicago:20280128T110000
DTEND;TZID=America/Chicago:20280128T121500
DTSTAMP:20260425T123838
CREATED:20250114T142556Z
LAST-MODIFIED:20260107T153225Z
UID:10007836-1832670000-1832674500@www.algonquintownship.com
SUMMARY:Simple Strength Class
DESCRIPTION:
URL:https://www.algonquintownship.com/event/simple-strength-class/2028-01-28/
LOCATION:Meeting room #2 Board Room\, 3702 U.S. Highway 14\, Crystal Lake\, IL\, 60012\, United States
END:VEVENT
BEGIN:VEVENT
DTSTART;TZID=America/Chicago:20280131T101500
DTEND;TZID=America/Chicago:20280131T111500
DTSTAMP:20260425T123838
CREATED:20240617T133653Z
LAST-MODIFIED:20260107T153547Z
UID:10009765-1832926500-1832930100@www.algonquintownship.com
SUMMARY:Monday Chair Yoga
DESCRIPTION:
URL:https://www.algonquintownship.com/event/monday-chair-yoga/2028-01-31/
LOCATION:Meeting room #2 Board Room\, 3702 U.S. Highway 14\, Crystal Lake\, IL\, 60012\, United States
END:VEVENT
BEGIN:VEVENT
DTSTART;TZID=America/Chicago:20280201T180000
DTEND;TZID=America/Chicago:20280201T200000
DTSTAMP:20260425T123838
CREATED:20240617T142319Z
LAST-MODIFIED:20250204T162209Z
UID:10007382-1833040800-1833048000@www.algonquintownship.com
SUMMARY:TOPS
DESCRIPTION:TOPS – Taking off Pounds Sensibly.  Meets every Tuesday 6pm-8pm.
URL:https://www.algonquintownship.com/event/tops-2025-02-04/2028-02-01/
LOCATION:Meeting room #2 Board Room\, 3702 U.S. Highway 14\, Crystal Lake\, IL\, 60012\, United States
END:VEVENT
BEGIN:VEVENT
DTSTART;TZID=America/Chicago:20280202T090000
DTEND;TZID=America/Chicago:20280202T130000
DTSTAMP:20260425T123838
CREATED:20240617T142826Z
LAST-MODIFIED:20240617T142826Z
UID:10004850-1833094800-1833109200@www.algonquintownship.com
SUMMARY:SWAT
DESCRIPTION:SWAT – Striders Walkers and Talkers.
URL:https://www.algonquintownship.com/event/swat/2028-02-02/
LOCATION:Meeting room #2 Board Room\, 3702 U.S. Highway 14\, Crystal Lake\, IL\, 60012\, United States
END:VEVENT
BEGIN:VEVENT
DTSTART;TZID=America/Chicago:20280204T110000
DTEND;TZID=America/Chicago:20280204T121500
DTSTAMP:20260425T123838
CREATED:20250114T142556Z
LAST-MODIFIED:20260107T153225Z
UID:10007837-1833274800-1833279300@www.algonquintownship.com
SUMMARY:Simple Strength Class
DESCRIPTION:
URL:https://www.algonquintownship.com/event/simple-strength-class/2028-02-04/
LOCATION:Meeting room #2 Board Room\, 3702 U.S. Highway 14\, Crystal Lake\, IL\, 60012\, United States
END:VEVENT
BEGIN:VEVENT
DTSTART;TZID=America/Chicago:20280205T090000
DTEND;TZID=America/Chicago:20280205T150000
DTSTAMP:20260425T123838
CREATED:20240617T165815Z
LAST-MODIFIED:20240617T165815Z
UID:10006221-1833354000-1833375600@www.algonquintownship.com
SUMMARY:Country Quilters
DESCRIPTION:
URL:https://www.algonquintownship.com/event/country-quilters/2028-02-05/
LOCATION:Meeting room #2 Board Room\, 3702 U.S. Highway 14\, Crystal Lake\, IL\, 60012\, United States
END:VEVENT
BEGIN:VEVENT
DTSTART;TZID=America/Chicago:20280207T101500
DTEND;TZID=America/Chicago:20280207T111500
DTSTAMP:20260425T123838
CREATED:20240617T133653Z
LAST-MODIFIED:20260107T153547Z
UID:10009766-1833531300-1833534900@www.algonquintownship.com
SUMMARY:Monday Chair Yoga
DESCRIPTION:
URL:https://www.algonquintownship.com/event/monday-chair-yoga/2028-02-07/
LOCATION:Meeting room #2 Board Room\, 3702 U.S. Highway 14\, Crystal Lake\, IL\, 60012\, United States
END:VEVENT
BEGIN:VEVENT
DTSTART;TZID=America/Chicago:20280208T100000
DTEND;TZID=America/Chicago:20280208T140000
DTSTAMP:20260425T123838
CREATED:20250909T183922Z
LAST-MODIFIED:20250909T183924Z
UID:10008621-1833616800-1833631200@www.algonquintownship.com
SUMMARY:Computer Class
DESCRIPTION:Personalized Computer Class.  Meets every other Tuesday.  This is a one-on-one class for 1 hour sessions beginning at 10am
URL:https://www.algonquintownship.com/event/computer-class-2/2028-02-08/
LOCATION:Meeting room #2 Board Room\, 3702 U.S. Highway 14\, Crystal Lake\, IL\, 60012\, United States
END:VEVENT
BEGIN:VEVENT
DTSTART;TZID=America/Chicago:20280208T180000
DTEND;TZID=America/Chicago:20280208T200000
DTSTAMP:20260425T123838
CREATED:20240617T142319Z
LAST-MODIFIED:20250204T162209Z
UID:10007383-1833645600-1833652800@www.algonquintownship.com
SUMMARY:TOPS
DESCRIPTION:TOPS – Taking off Pounds Sensibly.  Meets every Tuesday 6pm-8pm.
URL:https://www.algonquintownship.com/event/tops-2025-02-04/2028-02-08/
LOCATION:Meeting room #2 Board Room\, 3702 U.S. Highway 14\, Crystal Lake\, IL\, 60012\, United States
END:VEVENT
BEGIN:VEVENT
DTSTART;TZID=America/Chicago:20280208T180000
DTEND;TZID=America/Chicago:20280208T210000
DTSTAMP:20260425T123838
CREATED:20240617T170852Z
LAST-MODIFIED:20240617T170852Z
UID:10006365-1833645600-1833656400@www.algonquintownship.com
SUMMARY:Crystal Lake Camera Club
DESCRIPTION:
URL:https://www.algonquintownship.com/event/crystal-lake-camera-club/2028-02-08/
LOCATION:Meeting room #2 Board Room\, 3702 U.S. Highway 14\, Crystal Lake\, IL\, 60012\, United States
END:VEVENT
BEGIN:VEVENT
DTSTART;TZID=America/Chicago:20280209T090000
DTEND;TZID=America/Chicago:20280209T130000
DTSTAMP:20260425T123838
CREATED:20240617T142826Z
LAST-MODIFIED:20240617T142826Z
UID:10004851-1833699600-1833714000@www.algonquintownship.com
SUMMARY:SWAT
DESCRIPTION:SWAT – Striders Walkers and Talkers.
URL:https://www.algonquintownship.com/event/swat/2028-02-09/
LOCATION:Meeting room #2 Board Room\, 3702 U.S. Highway 14\, Crystal Lake\, IL\, 60012\, United States
END:VEVENT
BEGIN:VEVENT
DTSTART;TZID=America/Chicago:20280209T190000
DTEND;TZID=America/Chicago:20280209T210000
DTSTAMP:20260425T123838
CREATED:20240617T171043Z
LAST-MODIFIED:20240710T133539Z
UID:10006672-1833735600-1833742800@www.algonquintownship.com
SUMMARY:Algonquin Township Board Meeting
DESCRIPTION:
URL:https://www.algonquintownship.com/event/algonquin-township-board-meeting-2024-08-14/2028-02-09/
LOCATION:Meeting room #2 Board Room\, 3702 U.S. Highway 14\, Crystal Lake\, IL\, 60012\, United States
END:VEVENT
BEGIN:VEVENT
DTSTART;TZID=America/Chicago:20280210T073000
DTEND;TZID=America/Chicago:20280210T090000
DTSTAMP:20260425T123838
CREATED:20240617T164830Z
LAST-MODIFIED:20240625T191954Z
UID:10006413-1833780600-1833786000@www.algonquintownship.com
SUMMARY:Toastmasters / Crystal Clear
DESCRIPTION:
URL:https://www.algonquintownship.com/event/toastmasters-crystal-clear-2-2024-07-11/2028-02-10/
LOCATION:Meeting room #2 Board Room\, 3702 U.S. Highway 14\, Crystal Lake\, IL\, 60012\, United States
END:VEVENT
BEGIN:VEVENT
DTSTART;TZID=America/Chicago:20280210T183000
DTEND;TZID=America/Chicago:20280210T220000
DTSTAMP:20260425T123838
CREATED:20240617T152947Z
LAST-MODIFIED:20260127T173342Z
UID:10006461-1833820200-1833832800@www.algonquintownship.com
SUMMARY:Friendship Star Quilters Guild
DESCRIPTION:
URL:https://www.algonquintownship.com/event/friendship-star-quilters-guild-2/2028-02-10/
LOCATION:Meeting room #2 Board Room\, 3702 U.S. Highway 14\, Crystal Lake\, IL\, 60012\, United States
END:VEVENT
BEGIN:VEVENT
DTSTART;TZID=America/Chicago:20280211T110000
DTEND;TZID=America/Chicago:20280211T121500
DTSTAMP:20260425T123838
CREATED:20250114T142556Z
LAST-MODIFIED:20260107T153225Z
UID:10007838-1833879600-1833884100@www.algonquintownship.com
SUMMARY:Simple Strength Class
DESCRIPTION:
URL:https://www.algonquintownship.com/event/simple-strength-class/2028-02-11/
LOCATION:Meeting room #2 Board Room\, 3702 U.S. Highway 14\, Crystal Lake\, IL\, 60012\, United States
END:VEVENT
END:VCALENDAR