BEGIN:VCALENDAR
VERSION:2.0
PRODID:-//Algonquin Township - ECPv6.15.18//NONSGML v1.0//EN
CALSCALE:GREGORIAN
METHOD:PUBLISH
X-ORIGINAL-URL:https://www.algonquintownship.com
X-WR-CALDESC:Events for Algonquin Township
REFRESH-INTERVAL;VALUE=DURATION:PT1H
X-Robots-Tag:noindex
X-PUBLISHED-TTL:PT1H
BEGIN:VTIMEZONE
TZID:America/Chicago
BEGIN:DAYLIGHT
TZOFFSETFROM:-0600
TZOFFSETTO:-0500
TZNAME:CDT
DTSTART:20260308T080000
END:DAYLIGHT
BEGIN:STANDARD
TZOFFSETFROM:-0500
TZOFFSETTO:-0600
TZNAME:CST
DTSTART:20261101T070000
END:STANDARD
BEGIN:DAYLIGHT
TZOFFSETFROM:-0600
TZOFFSETTO:-0500
TZNAME:CDT
DTSTART:20270314T080000
END:DAYLIGHT
BEGIN:STANDARD
TZOFFSETFROM:-0500
TZOFFSETTO:-0600
TZNAME:CST
DTSTART:20271107T070000
END:STANDARD
BEGIN:DAYLIGHT
TZOFFSETFROM:-0600
TZOFFSETTO:-0500
TZNAME:CDT
DTSTART:20280312T080000
END:DAYLIGHT
BEGIN:STANDARD
TZOFFSETFROM:-0500
TZOFFSETTO:-0600
TZNAME:CST
DTSTART:20281105T070000
END:STANDARD
END:VTIMEZONE
BEGIN:VEVENT
DTSTART;TZID=America/Chicago:20270917T110000
DTEND;TZID=America/Chicago:20270917T121500
DTSTAMP:20260424T185104
CREATED:20250114T142556Z
LAST-MODIFIED:20260107T153225Z
UID:10007817-1821178800-1821183300@www.algonquintownship.com
SUMMARY:Simple Strength Class
DESCRIPTION:
URL:https://www.algonquintownship.com/event/simple-strength-class/2027-09-17/
LOCATION:Meeting room #2 Board Room\, 3702 U.S. Highway 14\, Crystal Lake\, IL\, 60012\, United States
END:VEVENT
BEGIN:VEVENT
DTSTART;TZID=America/Chicago:20270918T083000
DTEND;TZID=America/Chicago:20270918T223000
DTSTAMP:20260424T185104
CREATED:20260127T173724Z
LAST-MODIFIED:20260127T173724Z
UID:10010009-1821256200-1821306600@www.algonquintownship.com
SUMMARY:Friendship Star Quilters Guild
DESCRIPTION:
URL:https://www.algonquintownship.com/event/friendship-star-quilters-guild/2027-09-18/
LOCATION:Meeting room #2 Board Room\, 3702 U.S. Highway 14\, Crystal Lake\, IL\, 60012\, United States
END:VEVENT
BEGIN:VEVENT
DTSTART;TZID=America/Chicago:20270920T101500
DTEND;TZID=America/Chicago:20270920T111500
DTSTAMP:20260424T185104
CREATED:20240617T133653Z
LAST-MODIFIED:20260107T153547Z
UID:10009746-1821435300-1821438900@www.algonquintownship.com
SUMMARY:Monday Chair Yoga
DESCRIPTION:
URL:https://www.algonquintownship.com/event/monday-chair-yoga/2027-09-20/
LOCATION:Meeting room #2 Board Room\, 3702 U.S. Highway 14\, Crystal Lake\, IL\, 60012\, United States
END:VEVENT
BEGIN:VEVENT
DTSTART;TZID=America/Chicago:20270921T100000
DTEND;TZID=America/Chicago:20270921T140000
DTSTAMP:20260424T185104
CREATED:20250909T183922Z
LAST-MODIFIED:20250909T183924Z
UID:10008611-1821520800-1821535200@www.algonquintownship.com
SUMMARY:Computer Class
DESCRIPTION:Personalized Computer Class.  Meets every other Tuesday.  This is a one-on-one class for 1 hour sessions beginning at 10am
URL:https://www.algonquintownship.com/event/computer-class-2/2027-09-21/
LOCATION:Meeting room #2 Board Room\, 3702 U.S. Highway 14\, Crystal Lake\, IL\, 60012\, United States
END:VEVENT
BEGIN:VEVENT
DTSTART;TZID=America/Chicago:20270921T180000
DTEND;TZID=America/Chicago:20270921T200000
DTSTAMP:20260424T185104
CREATED:20240617T142319Z
LAST-MODIFIED:20250204T162209Z
UID:10007363-1821549600-1821556800@www.algonquintownship.com
SUMMARY:TOPS
DESCRIPTION:TOPS – Taking off Pounds Sensibly.  Meets every Tuesday 6pm-8pm.
URL:https://www.algonquintownship.com/event/tops-2025-02-04/2027-09-21/
LOCATION:Meeting room #2 Board Room\, 3702 U.S. Highway 14\, Crystal Lake\, IL\, 60012\, United States
END:VEVENT
BEGIN:VEVENT
DTSTART;TZID=America/Chicago:20270922T090000
DTEND;TZID=America/Chicago:20270922T130000
DTSTAMP:20260424T185104
CREATED:20240617T142826Z
LAST-MODIFIED:20240617T142826Z
UID:10004831-1821603600-1821618000@www.algonquintownship.com
SUMMARY:SWAT
DESCRIPTION:SWAT – Striders Walkers and Talkers.
URL:https://www.algonquintownship.com/event/swat/2027-09-22/
LOCATION:Meeting room #2 Board Room\, 3702 U.S. Highway 14\, Crystal Lake\, IL\, 60012\, United States
END:VEVENT
BEGIN:VEVENT
DTSTART;TZID=America/Chicago:20270923T073000
DTEND;TZID=America/Chicago:20270923T090000
DTSTAMP:20260424T185104
CREATED:20240617T164633Z
LAST-MODIFIED:20260127T184340Z
UID:10005768-1821684600-1821690000@www.algonquintownship.com
SUMMARY:Toastmasters / Crystal Clear
DESCRIPTION:
URL:https://www.algonquintownship.com/event/toastmasters-crystal-clear/2027-09-23/
LOCATION:Meeting room #2 Board Room\, 3702 U.S. Highway 14\, Crystal Lake\, IL\, 60012\, United States
END:VEVENT
BEGIN:VEVENT
DTSTART;TZID=America/Chicago:20270924T110000
DTEND;TZID=America/Chicago:20270924T121500
DTSTAMP:20260424T185104
CREATED:20250114T142556Z
LAST-MODIFIED:20260107T153225Z
UID:10007818-1821783600-1821788100@www.algonquintownship.com
SUMMARY:Simple Strength Class
DESCRIPTION:
URL:https://www.algonquintownship.com/event/simple-strength-class/2027-09-24/
LOCATION:Meeting room #2 Board Room\, 3702 U.S. Highway 14\, Crystal Lake\, IL\, 60012\, United States
END:VEVENT
BEGIN:VEVENT
DTSTART;TZID=America/Chicago:20270927T101500
DTEND;TZID=America/Chicago:20270927T111500
DTSTAMP:20260424T185104
CREATED:20240617T133653Z
LAST-MODIFIED:20260107T153547Z
UID:10009747-1822040100-1822043700@www.algonquintownship.com
SUMMARY:Monday Chair Yoga
DESCRIPTION:
URL:https://www.algonquintownship.com/event/monday-chair-yoga/2027-09-27/
LOCATION:Meeting room #2 Board Room\, 3702 U.S. Highway 14\, Crystal Lake\, IL\, 60012\, United States
END:VEVENT
BEGIN:VEVENT
DTSTART;TZID=America/Chicago:20270928T180000
DTEND;TZID=America/Chicago:20270928T200000
DTSTAMP:20260424T185104
CREATED:20240617T142319Z
LAST-MODIFIED:20250204T162209Z
UID:10007364-1822154400-1822161600@www.algonquintownship.com
SUMMARY:TOPS
DESCRIPTION:TOPS – Taking off Pounds Sensibly.  Meets every Tuesday 6pm-8pm.
URL:https://www.algonquintownship.com/event/tops-2025-02-04/2027-09-28/
LOCATION:Meeting room #2 Board Room\, 3702 U.S. Highway 14\, Crystal Lake\, IL\, 60012\, United States
END:VEVENT
BEGIN:VEVENT
DTSTART;TZID=America/Chicago:20270929T090000
DTEND;TZID=America/Chicago:20270929T130000
DTSTAMP:20260424T185104
CREATED:20240617T142826Z
LAST-MODIFIED:20240617T142826Z
UID:10004832-1822208400-1822222800@www.algonquintownship.com
SUMMARY:SWAT
DESCRIPTION:SWAT – Striders Walkers and Talkers.
URL:https://www.algonquintownship.com/event/swat/2027-09-29/
LOCATION:Meeting room #2 Board Room\, 3702 U.S. Highway 14\, Crystal Lake\, IL\, 60012\, United States
END:VEVENT
BEGIN:VEVENT
DTSTART;TZID=America/Chicago:20270929T180000
DTEND;TZID=America/Chicago:20270929T210000
DTSTAMP:20260424T185104
CREATED:20240617T153424Z
LAST-MODIFIED:20240617T153424Z
UID:10005720-1822240800-1822251600@www.algonquintownship.com
SUMMARY:VNC
DESCRIPTION:
URL:https://www.algonquintownship.com/event/vnc/2027-09-29/
LOCATION:Meeting room #2 Board Room\, 3702 U.S. Highway 14\, Crystal Lake\, IL\, 60012\, United States
END:VEVENT
BEGIN:VEVENT
DTSTART;TZID=America/Chicago:20270930T170000
DTEND;TZID=America/Chicago:20270930T210000
DTSTAMP:20260424T185104
CREATED:20240617T153753Z
LAST-MODIFIED:20240617T153753Z
UID:10005816-1822323600-1822338000@www.algonquintownship.com
SUMMARY:Amvets
DESCRIPTION:
URL:https://www.algonquintownship.com/event/amvets/2027-09-30/
LOCATION:Meeting room #2 Board Room\, 3702 U.S. Highway 14\, Crystal Lake\, IL\, 60012\, United States
END:VEVENT
BEGIN:VEVENT
DTSTART;TZID=America/Chicago:20271001T110000
DTEND;TZID=America/Chicago:20271001T121500
DTSTAMP:20260424T185104
CREATED:20250114T142556Z
LAST-MODIFIED:20260107T153225Z
UID:10007819-1822388400-1822392900@www.algonquintownship.com
SUMMARY:Simple Strength Class
DESCRIPTION:
URL:https://www.algonquintownship.com/event/simple-strength-class/2027-10-01/
LOCATION:Meeting room #2 Board Room\, 3702 U.S. Highway 14\, Crystal Lake\, IL\, 60012\, United States
END:VEVENT
BEGIN:VEVENT
DTSTART;TZID=America/Chicago:20271002T090000
DTEND;TZID=America/Chicago:20271002T150000
DTSTAMP:20260424T185104
CREATED:20240617T165815Z
LAST-MODIFIED:20240617T165815Z
UID:10006217-1822467600-1822489200@www.algonquintownship.com
SUMMARY:Country Quilters
DESCRIPTION:
URL:https://www.algonquintownship.com/event/country-quilters/2027-10-02/
LOCATION:Meeting room #2 Board Room\, 3702 U.S. Highway 14\, Crystal Lake\, IL\, 60012\, United States
END:VEVENT
BEGIN:VEVENT
DTSTART;TZID=America/Chicago:20271004T101500
DTEND;TZID=America/Chicago:20271004T111500
DTSTAMP:20260424T185104
CREATED:20240617T133653Z
LAST-MODIFIED:20260107T153547Z
UID:10009748-1822644900-1822648500@www.algonquintownship.com
SUMMARY:Monday Chair Yoga
DESCRIPTION:
URL:https://www.algonquintownship.com/event/monday-chair-yoga/2027-10-04/
LOCATION:Meeting room #2 Board Room\, 3702 U.S. Highway 14\, Crystal Lake\, IL\, 60012\, United States
END:VEVENT
BEGIN:VEVENT
DTSTART;TZID=America/Chicago:20271005T100000
DTEND;TZID=America/Chicago:20271005T140000
DTSTAMP:20260424T185104
CREATED:20250909T183922Z
LAST-MODIFIED:20250909T183924Z
UID:10008612-1822730400-1822744800@www.algonquintownship.com
SUMMARY:Computer Class
DESCRIPTION:Personalized Computer Class.  Meets every other Tuesday.  This is a one-on-one class for 1 hour sessions beginning at 10am
URL:https://www.algonquintownship.com/event/computer-class-2/2027-10-05/
LOCATION:Meeting room #2 Board Room\, 3702 U.S. Highway 14\, Crystal Lake\, IL\, 60012\, United States
END:VEVENT
BEGIN:VEVENT
DTSTART;TZID=America/Chicago:20271005T180000
DTEND;TZID=America/Chicago:20271005T200000
DTSTAMP:20260424T185104
CREATED:20240617T142319Z
LAST-MODIFIED:20250204T162209Z
UID:10007365-1822759200-1822766400@www.algonquintownship.com
SUMMARY:TOPS
DESCRIPTION:TOPS – Taking off Pounds Sensibly.  Meets every Tuesday 6pm-8pm.
URL:https://www.algonquintownship.com/event/tops-2025-02-04/2027-10-05/
LOCATION:Meeting room #2 Board Room\, 3702 U.S. Highway 14\, Crystal Lake\, IL\, 60012\, United States
END:VEVENT
BEGIN:VEVENT
DTSTART;TZID=America/Chicago:20271006T090000
DTEND;TZID=America/Chicago:20271006T130000
DTSTAMP:20260424T185104
CREATED:20240617T142826Z
LAST-MODIFIED:20240617T142826Z
UID:10004833-1822813200-1822827600@www.algonquintownship.com
SUMMARY:SWAT
DESCRIPTION:SWAT – Striders Walkers and Talkers.
URL:https://www.algonquintownship.com/event/swat/2027-10-06/
LOCATION:Meeting room #2 Board Room\, 3702 U.S. Highway 14\, Crystal Lake\, IL\, 60012\, United States
END:VEVENT
BEGIN:VEVENT
DTSTART;TZID=America/Chicago:20271008T110000
DTEND;TZID=America/Chicago:20271008T121500
DTSTAMP:20260424T185104
CREATED:20250114T142556Z
LAST-MODIFIED:20260107T153225Z
UID:10007820-1822993200-1822997700@www.algonquintownship.com
SUMMARY:Simple Strength Class
DESCRIPTION:
URL:https://www.algonquintownship.com/event/simple-strength-class/2027-10-08/
LOCATION:Meeting room #2 Board Room\, 3702 U.S. Highway 14\, Crystal Lake\, IL\, 60012\, United States
END:VEVENT
BEGIN:VEVENT
DTSTART;TZID=America/Chicago:20271011T101500
DTEND;TZID=America/Chicago:20271011T111500
DTSTAMP:20260424T185104
CREATED:20240617T133653Z
LAST-MODIFIED:20260107T153547Z
UID:10009749-1823249700-1823253300@www.algonquintownship.com
SUMMARY:Monday Chair Yoga
DESCRIPTION:
URL:https://www.algonquintownship.com/event/monday-chair-yoga/2027-10-11/
LOCATION:Meeting room #2 Board Room\, 3702 U.S. Highway 14\, Crystal Lake\, IL\, 60012\, United States
END:VEVENT
BEGIN:VEVENT
DTSTART;TZID=America/Chicago:20271012T180000
DTEND;TZID=America/Chicago:20271012T200000
DTSTAMP:20260424T185104
CREATED:20240617T142319Z
LAST-MODIFIED:20250204T162209Z
UID:10007366-1823364000-1823371200@www.algonquintownship.com
SUMMARY:TOPS
DESCRIPTION:TOPS – Taking off Pounds Sensibly.  Meets every Tuesday 6pm-8pm.
URL:https://www.algonquintownship.com/event/tops-2025-02-04/2027-10-12/
LOCATION:Meeting room #2 Board Room\, 3702 U.S. Highway 14\, Crystal Lake\, IL\, 60012\, United States
END:VEVENT
BEGIN:VEVENT
DTSTART;TZID=America/Chicago:20271012T180000
DTEND;TZID=America/Chicago:20271012T210000
DTSTAMP:20260424T185104
CREATED:20240617T170852Z
LAST-MODIFIED:20240617T170852Z
UID:10006361-1823364000-1823374800@www.algonquintownship.com
SUMMARY:Crystal Lake Camera Club
DESCRIPTION:
URL:https://www.algonquintownship.com/event/crystal-lake-camera-club/2027-10-12/
LOCATION:Meeting room #2 Board Room\, 3702 U.S. Highway 14\, Crystal Lake\, IL\, 60012\, United States
END:VEVENT
BEGIN:VEVENT
DTSTART;TZID=America/Chicago:20271013T090000
DTEND;TZID=America/Chicago:20271013T130000
DTSTAMP:20260424T185104
CREATED:20240617T142826Z
LAST-MODIFIED:20240617T142826Z
UID:10004834-1823418000-1823432400@www.algonquintownship.com
SUMMARY:SWAT
DESCRIPTION:SWAT – Striders Walkers and Talkers.
URL:https://www.algonquintownship.com/event/swat/2027-10-13/
LOCATION:Meeting room #2 Board Room\, 3702 U.S. Highway 14\, Crystal Lake\, IL\, 60012\, United States
END:VEVENT
BEGIN:VEVENT
DTSTART;TZID=America/Chicago:20271013T190000
DTEND;TZID=America/Chicago:20271013T210000
DTSTAMP:20260424T185104
CREATED:20240617T171043Z
LAST-MODIFIED:20240710T133539Z
UID:10006668-1823454000-1823461200@www.algonquintownship.com
SUMMARY:Algonquin Township Board Meeting
DESCRIPTION:
URL:https://www.algonquintownship.com/event/algonquin-township-board-meeting-2024-08-14/2027-10-13/
LOCATION:Meeting room #2 Board Room\, 3702 U.S. Highway 14\, Crystal Lake\, IL\, 60012\, United States
END:VEVENT
BEGIN:VEVENT
DTSTART;TZID=America/Chicago:20271014T073000
DTEND;TZID=America/Chicago:20271014T090000
DTSTAMP:20260424T185104
CREATED:20240617T164830Z
LAST-MODIFIED:20240625T191954Z
UID:10006409-1823499000-1823504400@www.algonquintownship.com
SUMMARY:Toastmasters / Crystal Clear
DESCRIPTION:
URL:https://www.algonquintownship.com/event/toastmasters-crystal-clear-2-2024-07-11/2027-10-14/
LOCATION:Meeting room #2 Board Room\, 3702 U.S. Highway 14\, Crystal Lake\, IL\, 60012\, United States
END:VEVENT
BEGIN:VEVENT
DTSTART;TZID=America/Chicago:20271014T183000
DTEND;TZID=America/Chicago:20271014T220000
DTSTAMP:20260424T185104
CREATED:20240617T152947Z
LAST-MODIFIED:20260127T173342Z
UID:10006457-1823538600-1823551200@www.algonquintownship.com
SUMMARY:Friendship Star Quilters Guild
DESCRIPTION:
URL:https://www.algonquintownship.com/event/friendship-star-quilters-guild-2/2027-10-14/
LOCATION:Meeting room #2 Board Room\, 3702 U.S. Highway 14\, Crystal Lake\, IL\, 60012\, United States
END:VEVENT
BEGIN:VEVENT
DTSTART;TZID=America/Chicago:20271015T110000
DTEND;TZID=America/Chicago:20271015T121500
DTSTAMP:20260424T185104
CREATED:20250114T142556Z
LAST-MODIFIED:20260107T153225Z
UID:10007821-1823598000-1823602500@www.algonquintownship.com
SUMMARY:Simple Strength Class
DESCRIPTION:
URL:https://www.algonquintownship.com/event/simple-strength-class/2027-10-15/
LOCATION:Meeting room #2 Board Room\, 3702 U.S. Highway 14\, Crystal Lake\, IL\, 60012\, United States
END:VEVENT
BEGIN:VEVENT
DTSTART;TZID=America/Chicago:20271016T083000
DTEND;TZID=America/Chicago:20271016T223000
DTSTAMP:20260424T185104
CREATED:20260127T173724Z
LAST-MODIFIED:20260127T173724Z
UID:10010010-1823675400-1823725800@www.algonquintownship.com
SUMMARY:Friendship Star Quilters Guild
DESCRIPTION:
URL:https://www.algonquintownship.com/event/friendship-star-quilters-guild/2027-10-16/
LOCATION:Meeting room #2 Board Room\, 3702 U.S. Highway 14\, Crystal Lake\, IL\, 60012\, United States
END:VEVENT
BEGIN:VEVENT
DTSTART;TZID=America/Chicago:20271018T101500
DTEND;TZID=America/Chicago:20271018T111500
DTSTAMP:20260424T185104
CREATED:20240617T133653Z
LAST-MODIFIED:20260107T153547Z
UID:10009750-1823854500-1823858100@www.algonquintownship.com
SUMMARY:Monday Chair Yoga
DESCRIPTION:
URL:https://www.algonquintownship.com/event/monday-chair-yoga/2027-10-18/
LOCATION:Meeting room #2 Board Room\, 3702 U.S. Highway 14\, Crystal Lake\, IL\, 60012\, United States
END:VEVENT
END:VCALENDAR