BEGIN:VCALENDAR
VERSION:2.0
PRODID:-//Algonquin Township - ECPv6.15.18//NONSGML v1.0//EN
CALSCALE:GREGORIAN
METHOD:PUBLISH
X-ORIGINAL-URL:https://www.algonquintownship.com
X-WR-CALDESC:Events for Algonquin Township
REFRESH-INTERVAL;VALUE=DURATION:PT1H
X-Robots-Tag:noindex
X-PUBLISHED-TTL:PT1H
BEGIN:VTIMEZONE
TZID:America/Chicago
BEGIN:DAYLIGHT
TZOFFSETFROM:-0600
TZOFFSETTO:-0500
TZNAME:CDT
DTSTART:20260308T080000
END:DAYLIGHT
BEGIN:STANDARD
TZOFFSETFROM:-0500
TZOFFSETTO:-0600
TZNAME:CST
DTSTART:20261101T070000
END:STANDARD
BEGIN:DAYLIGHT
TZOFFSETFROM:-0600
TZOFFSETTO:-0500
TZNAME:CDT
DTSTART:20270314T080000
END:DAYLIGHT
BEGIN:STANDARD
TZOFFSETFROM:-0500
TZOFFSETTO:-0600
TZNAME:CST
DTSTART:20271107T070000
END:STANDARD
BEGIN:DAYLIGHT
TZOFFSETFROM:-0600
TZOFFSETTO:-0500
TZNAME:CDT
DTSTART:20280312T080000
END:DAYLIGHT
BEGIN:STANDARD
TZOFFSETFROM:-0500
TZOFFSETTO:-0600
TZNAME:CST
DTSTART:20281105T070000
END:STANDARD
END:VTIMEZONE
BEGIN:VEVENT
DTSTART;TZID=America/Chicago:20270713T180000
DTEND;TZID=America/Chicago:20270713T210000
DTSTAMP:20260424T103748
CREATED:20240617T170852Z
LAST-MODIFIED:20240617T170852Z
UID:10006358-1815501600-1815512400@www.algonquintownship.com
SUMMARY:Crystal Lake Camera Club
DESCRIPTION:
URL:https://www.algonquintownship.com/event/crystal-lake-camera-club/2027-07-13/
LOCATION:Meeting room #2 Board Room\, 3702 U.S. Highway 14\, Crystal Lake\, IL\, 60012\, United States
END:VEVENT
BEGIN:VEVENT
DTSTART;TZID=America/Chicago:20270714T090000
DTEND;TZID=America/Chicago:20270714T130000
DTSTAMP:20260424T103748
CREATED:20240617T142826Z
LAST-MODIFIED:20240617T142826Z
UID:10004821-1815555600-1815570000@www.algonquintownship.com
SUMMARY:SWAT
DESCRIPTION:SWAT – Striders Walkers and Talkers.
URL:https://www.algonquintownship.com/event/swat/2027-07-14/
LOCATION:Meeting room #2 Board Room\, 3702 U.S. Highway 14\, Crystal Lake\, IL\, 60012\, United States
END:VEVENT
BEGIN:VEVENT
DTSTART;TZID=America/Chicago:20270714T190000
DTEND;TZID=America/Chicago:20270714T210000
DTSTAMP:20260424T103748
CREATED:20240617T171043Z
LAST-MODIFIED:20240710T133539Z
UID:10006665-1815591600-1815598800@www.algonquintownship.com
SUMMARY:Algonquin Township Board Meeting
DESCRIPTION:
URL:https://www.algonquintownship.com/event/algonquin-township-board-meeting-2024-08-14/2027-07-14/
LOCATION:Meeting room #2 Board Room\, 3702 U.S. Highway 14\, Crystal Lake\, IL\, 60012\, United States
END:VEVENT
BEGIN:VEVENT
DTSTART;TZID=America/Chicago:20270716T110000
DTEND;TZID=America/Chicago:20270716T121500
DTSTAMP:20260424T103748
CREATED:20250114T142556Z
LAST-MODIFIED:20260107T153225Z
UID:10007808-1815735600-1815740100@www.algonquintownship.com
SUMMARY:Simple Strength Class
DESCRIPTION:
URL:https://www.algonquintownship.com/event/simple-strength-class/2027-07-16/
LOCATION:Meeting room #2 Board Room\, 3702 U.S. Highway 14\, Crystal Lake\, IL\, 60012\, United States
END:VEVENT
BEGIN:VEVENT
DTSTART;TZID=America/Chicago:20270717T083000
DTEND;TZID=America/Chicago:20270717T223000
DTSTAMP:20260424T103748
CREATED:20260127T173724Z
LAST-MODIFIED:20260127T173724Z
UID:10010007-1815813000-1815863400@www.algonquintownship.com
SUMMARY:Friendship Star Quilters Guild
DESCRIPTION:
URL:https://www.algonquintownship.com/event/friendship-star-quilters-guild/2027-07-17/
LOCATION:Meeting room #2 Board Room\, 3702 U.S. Highway 14\, Crystal Lake\, IL\, 60012\, United States
END:VEVENT
BEGIN:VEVENT
DTSTART;TZID=America/Chicago:20270719T101500
DTEND;TZID=America/Chicago:20270719T111500
DTSTAMP:20260424T103748
CREATED:20240617T133653Z
LAST-MODIFIED:20260107T153547Z
UID:10009737-1815992100-1815995700@www.algonquintownship.com
SUMMARY:Monday Chair Yoga
DESCRIPTION:
URL:https://www.algonquintownship.com/event/monday-chair-yoga/2027-07-19/
LOCATION:Meeting room #2 Board Room\, 3702 U.S. Highway 14\, Crystal Lake\, IL\, 60012\, United States
END:VEVENT
BEGIN:VEVENT
DTSTART;TZID=America/Chicago:20270720T180000
DTEND;TZID=America/Chicago:20270720T200000
DTSTAMP:20260424T103748
CREATED:20240617T142319Z
LAST-MODIFIED:20250204T162209Z
UID:10007354-1816106400-1816113600@www.algonquintownship.com
SUMMARY:TOPS
DESCRIPTION:TOPS – Taking off Pounds Sensibly.  Meets every Tuesday 6pm-8pm.
URL:https://www.algonquintownship.com/event/tops-2025-02-04/2027-07-20/
LOCATION:Meeting room #2 Board Room\, 3702 U.S. Highway 14\, Crystal Lake\, IL\, 60012\, United States
END:VEVENT
BEGIN:VEVENT
DTSTART;TZID=America/Chicago:20270721T090000
DTEND;TZID=America/Chicago:20270721T130000
DTSTAMP:20260424T103748
CREATED:20240617T142826Z
LAST-MODIFIED:20240617T142826Z
UID:10004822-1816160400-1816174800@www.algonquintownship.com
SUMMARY:SWAT
DESCRIPTION:SWAT – Striders Walkers and Talkers.
URL:https://www.algonquintownship.com/event/swat/2027-07-21/
LOCATION:Meeting room #2 Board Room\, 3702 U.S. Highway 14\, Crystal Lake\, IL\, 60012\, United States
END:VEVENT
BEGIN:VEVENT
DTSTART;TZID=America/Chicago:20270722T073000
DTEND;TZID=America/Chicago:20270722T090000
DTSTAMP:20260424T103748
CREATED:20240617T164633Z
LAST-MODIFIED:20260127T184340Z
UID:10005766-1816241400-1816246800@www.algonquintownship.com
SUMMARY:Toastmasters / Crystal Clear
DESCRIPTION:
URL:https://www.algonquintownship.com/event/toastmasters-crystal-clear/2027-07-22/
LOCATION:Meeting room #2 Board Room\, 3702 U.S. Highway 14\, Crystal Lake\, IL\, 60012\, United States
END:VEVENT
BEGIN:VEVENT
DTSTART;TZID=America/Chicago:20270723T110000
DTEND;TZID=America/Chicago:20270723T121500
DTSTAMP:20260424T103748
CREATED:20250114T142556Z
LAST-MODIFIED:20260107T153225Z
UID:10007809-1816340400-1816344900@www.algonquintownship.com
SUMMARY:Simple Strength Class
DESCRIPTION:
URL:https://www.algonquintownship.com/event/simple-strength-class/2027-07-23/
LOCATION:Meeting room #2 Board Room\, 3702 U.S. Highway 14\, Crystal Lake\, IL\, 60012\, United States
END:VEVENT
BEGIN:VEVENT
DTSTART;TZID=America/Chicago:20270726T101500
DTEND;TZID=America/Chicago:20270726T111500
DTSTAMP:20260424T103748
CREATED:20240617T133653Z
LAST-MODIFIED:20260107T153547Z
UID:10009738-1816596900-1816600500@www.algonquintownship.com
SUMMARY:Monday Chair Yoga
DESCRIPTION:
URL:https://www.algonquintownship.com/event/monday-chair-yoga/2027-07-26/
LOCATION:Meeting room #2 Board Room\, 3702 U.S. Highway 14\, Crystal Lake\, IL\, 60012\, United States
END:VEVENT
BEGIN:VEVENT
DTSTART;TZID=America/Chicago:20270727T100000
DTEND;TZID=America/Chicago:20270727T140000
DTSTAMP:20260424T103748
CREATED:20250909T183922Z
LAST-MODIFIED:20250909T183924Z
UID:10008607-1816682400-1816696800@www.algonquintownship.com
SUMMARY:Computer Class
DESCRIPTION:Personalized Computer Class.  Meets every other Tuesday.  This is a one-on-one class for 1 hour sessions beginning at 10am
URL:https://www.algonquintownship.com/event/computer-class-2/2027-07-27/
LOCATION:Meeting room #2 Board Room\, 3702 U.S. Highway 14\, Crystal Lake\, IL\, 60012\, United States
END:VEVENT
BEGIN:VEVENT
DTSTART;TZID=America/Chicago:20270727T180000
DTEND;TZID=America/Chicago:20270727T200000
DTSTAMP:20260424T103748
CREATED:20240617T142319Z
LAST-MODIFIED:20250204T162209Z
UID:10007355-1816711200-1816718400@www.algonquintownship.com
SUMMARY:TOPS
DESCRIPTION:TOPS – Taking off Pounds Sensibly.  Meets every Tuesday 6pm-8pm.
URL:https://www.algonquintownship.com/event/tops-2025-02-04/2027-07-27/
LOCATION:Meeting room #2 Board Room\, 3702 U.S. Highway 14\, Crystal Lake\, IL\, 60012\, United States
END:VEVENT
BEGIN:VEVENT
DTSTART;TZID=America/Chicago:20270728T090000
DTEND;TZID=America/Chicago:20270728T130000
DTSTAMP:20260424T103748
CREATED:20240617T142826Z
LAST-MODIFIED:20240617T142826Z
UID:10004823-1816765200-1816779600@www.algonquintownship.com
SUMMARY:SWAT
DESCRIPTION:SWAT – Striders Walkers and Talkers.
URL:https://www.algonquintownship.com/event/swat/2027-07-28/
LOCATION:Meeting room #2 Board Room\, 3702 U.S. Highway 14\, Crystal Lake\, IL\, 60012\, United States
END:VEVENT
BEGIN:VEVENT
DTSTART;TZID=America/Chicago:20270728T180000
DTEND;TZID=America/Chicago:20270728T210000
DTSTAMP:20260424T103748
CREATED:20240617T153424Z
LAST-MODIFIED:20240617T153424Z
UID:10005718-1816797600-1816808400@www.algonquintownship.com
SUMMARY:VNC
DESCRIPTION:
URL:https://www.algonquintownship.com/event/vnc/2027-07-28/
LOCATION:Meeting room #2 Board Room\, 3702 U.S. Highway 14\, Crystal Lake\, IL\, 60012\, United States
END:VEVENT
BEGIN:VEVENT
DTSTART;TZID=America/Chicago:20270729T170000
DTEND;TZID=America/Chicago:20270729T210000
DTSTAMP:20260424T103748
CREATED:20240617T153753Z
LAST-MODIFIED:20240617T153753Z
UID:10005814-1816880400-1816894800@www.algonquintownship.com
SUMMARY:Amvets
DESCRIPTION:
URL:https://www.algonquintownship.com/event/amvets/2027-07-29/
LOCATION:Meeting room #2 Board Room\, 3702 U.S. Highway 14\, Crystal Lake\, IL\, 60012\, United States
END:VEVENT
BEGIN:VEVENT
DTSTART;TZID=America/Chicago:20270730T110000
DTEND;TZID=America/Chicago:20270730T121500
DTSTAMP:20260424T103748
CREATED:20250114T142556Z
LAST-MODIFIED:20260107T153225Z
UID:10007810-1816945200-1816949700@www.algonquintownship.com
SUMMARY:Simple Strength Class
DESCRIPTION:
URL:https://www.algonquintownship.com/event/simple-strength-class/2027-07-30/
LOCATION:Meeting room #2 Board Room\, 3702 U.S. Highway 14\, Crystal Lake\, IL\, 60012\, United States
END:VEVENT
BEGIN:VEVENT
DTSTART;TZID=America/Chicago:20270802T101500
DTEND;TZID=America/Chicago:20270802T111500
DTSTAMP:20260424T103748
CREATED:20240617T133653Z
LAST-MODIFIED:20260107T153547Z
UID:10009739-1817201700-1817205300@www.algonquintownship.com
SUMMARY:Monday Chair Yoga
DESCRIPTION:
URL:https://www.algonquintownship.com/event/monday-chair-yoga/2027-08-02/
LOCATION:Meeting room #2 Board Room\, 3702 U.S. Highway 14\, Crystal Lake\, IL\, 60012\, United States
END:VEVENT
BEGIN:VEVENT
DTSTART;TZID=America/Chicago:20270803T180000
DTEND;TZID=America/Chicago:20270803T200000
DTSTAMP:20260424T103748
CREATED:20240617T142319Z
LAST-MODIFIED:20250204T162209Z
UID:10007356-1817316000-1817323200@www.algonquintownship.com
SUMMARY:TOPS
DESCRIPTION:TOPS – Taking off Pounds Sensibly.  Meets every Tuesday 6pm-8pm.
URL:https://www.algonquintownship.com/event/tops-2025-02-04/2027-08-03/
LOCATION:Meeting room #2 Board Room\, 3702 U.S. Highway 14\, Crystal Lake\, IL\, 60012\, United States
END:VEVENT
BEGIN:VEVENT
DTSTART;TZID=America/Chicago:20270804T090000
DTEND;TZID=America/Chicago:20270804T130000
DTSTAMP:20260424T103748
CREATED:20240617T142826Z
LAST-MODIFIED:20240617T142826Z
UID:10004824-1817370000-1817384400@www.algonquintownship.com
SUMMARY:SWAT
DESCRIPTION:SWAT – Striders Walkers and Talkers.
URL:https://www.algonquintownship.com/event/swat/2027-08-04/
LOCATION:Meeting room #2 Board Room\, 3702 U.S. Highway 14\, Crystal Lake\, IL\, 60012\, United States
END:VEVENT
BEGIN:VEVENT
DTSTART;TZID=America/Chicago:20270806T110000
DTEND;TZID=America/Chicago:20270806T121500
DTSTAMP:20260424T103748
CREATED:20250114T142556Z
LAST-MODIFIED:20260107T153225Z
UID:10007811-1817550000-1817554500@www.algonquintownship.com
SUMMARY:Simple Strength Class
DESCRIPTION:
URL:https://www.algonquintownship.com/event/simple-strength-class/2027-08-06/
LOCATION:Meeting room #2 Board Room\, 3702 U.S. Highway 14\, Crystal Lake\, IL\, 60012\, United States
END:VEVENT
BEGIN:VEVENT
DTSTART;TZID=America/Chicago:20270807T090000
DTEND;TZID=America/Chicago:20270807T150000
DTSTAMP:20260424T103748
CREATED:20240617T165815Z
LAST-MODIFIED:20240617T165815Z
UID:10006215-1817629200-1817650800@www.algonquintownship.com
SUMMARY:Country Quilters
DESCRIPTION:
URL:https://www.algonquintownship.com/event/country-quilters/2027-08-07/
LOCATION:Meeting room #2 Board Room\, 3702 U.S. Highway 14\, Crystal Lake\, IL\, 60012\, United States
END:VEVENT
BEGIN:VEVENT
DTSTART;TZID=America/Chicago:20270809T101500
DTEND;TZID=America/Chicago:20270809T111500
DTSTAMP:20260424T103748
CREATED:20240617T133653Z
LAST-MODIFIED:20260107T153547Z
UID:10009740-1817806500-1817810100@www.algonquintownship.com
SUMMARY:Monday Chair Yoga
DESCRIPTION:
URL:https://www.algonquintownship.com/event/monday-chair-yoga/2027-08-09/
LOCATION:Meeting room #2 Board Room\, 3702 U.S. Highway 14\, Crystal Lake\, IL\, 60012\, United States
END:VEVENT
BEGIN:VEVENT
DTSTART;TZID=America/Chicago:20270810T100000
DTEND;TZID=America/Chicago:20270810T140000
DTSTAMP:20260424T103748
CREATED:20250909T183922Z
LAST-MODIFIED:20250909T183924Z
UID:10008608-1817892000-1817906400@www.algonquintownship.com
SUMMARY:Computer Class
DESCRIPTION:Personalized Computer Class.  Meets every other Tuesday.  This is a one-on-one class for 1 hour sessions beginning at 10am
URL:https://www.algonquintownship.com/event/computer-class-2/2027-08-10/
LOCATION:Meeting room #2 Board Room\, 3702 U.S. Highway 14\, Crystal Lake\, IL\, 60012\, United States
END:VEVENT
BEGIN:VEVENT
DTSTART;TZID=America/Chicago:20270810T180000
DTEND;TZID=America/Chicago:20270810T200000
DTSTAMP:20260424T103748
CREATED:20240617T142319Z
LAST-MODIFIED:20250204T162209Z
UID:10007357-1817920800-1817928000@www.algonquintownship.com
SUMMARY:TOPS
DESCRIPTION:TOPS – Taking off Pounds Sensibly.  Meets every Tuesday 6pm-8pm.
URL:https://www.algonquintownship.com/event/tops-2025-02-04/2027-08-10/
LOCATION:Meeting room #2 Board Room\, 3702 U.S. Highway 14\, Crystal Lake\, IL\, 60012\, United States
END:VEVENT
BEGIN:VEVENT
DTSTART;TZID=America/Chicago:20270810T180000
DTEND;TZID=America/Chicago:20270810T210000
DTSTAMP:20260424T103748
CREATED:20240617T170852Z
LAST-MODIFIED:20240617T170852Z
UID:10006359-1817920800-1817931600@www.algonquintownship.com
SUMMARY:Crystal Lake Camera Club
DESCRIPTION:
URL:https://www.algonquintownship.com/event/crystal-lake-camera-club/2027-08-10/
LOCATION:Meeting room #2 Board Room\, 3702 U.S. Highway 14\, Crystal Lake\, IL\, 60012\, United States
END:VEVENT
BEGIN:VEVENT
DTSTART;TZID=America/Chicago:20270811T090000
DTEND;TZID=America/Chicago:20270811T130000
DTSTAMP:20260424T103748
CREATED:20240617T142826Z
LAST-MODIFIED:20240617T142826Z
UID:10004825-1817974800-1817989200@www.algonquintownship.com
SUMMARY:SWAT
DESCRIPTION:SWAT – Striders Walkers and Talkers.
URL:https://www.algonquintownship.com/event/swat/2027-08-11/
LOCATION:Meeting room #2 Board Room\, 3702 U.S. Highway 14\, Crystal Lake\, IL\, 60012\, United States
END:VEVENT
BEGIN:VEVENT
DTSTART;TZID=America/Chicago:20270811T190000
DTEND;TZID=America/Chicago:20270811T210000
DTSTAMP:20260424T103748
CREATED:20240617T171043Z
LAST-MODIFIED:20240710T133539Z
UID:10006666-1818010800-1818018000@www.algonquintownship.com
SUMMARY:Algonquin Township Board Meeting
DESCRIPTION:
URL:https://www.algonquintownship.com/event/algonquin-township-board-meeting-2024-08-14/2027-08-11/
LOCATION:Meeting room #2 Board Room\, 3702 U.S. Highway 14\, Crystal Lake\, IL\, 60012\, United States
END:VEVENT
BEGIN:VEVENT
DTSTART;TZID=America/Chicago:20270812T073000
DTEND;TZID=America/Chicago:20270812T090000
DTSTAMP:20260424T103748
CREATED:20240617T164830Z
LAST-MODIFIED:20240625T191954Z
UID:10006407-1818055800-1818061200@www.algonquintownship.com
SUMMARY:Toastmasters / Crystal Clear
DESCRIPTION:
URL:https://www.algonquintownship.com/event/toastmasters-crystal-clear-2-2024-07-11/2027-08-12/
LOCATION:Meeting room #2 Board Room\, 3702 U.S. Highway 14\, Crystal Lake\, IL\, 60012\, United States
END:VEVENT
BEGIN:VEVENT
DTSTART;TZID=America/Chicago:20270812T183000
DTEND;TZID=America/Chicago:20270812T220000
DTSTAMP:20260424T103748
CREATED:20240617T152947Z
LAST-MODIFIED:20260127T173342Z
UID:10006455-1818095400-1818108000@www.algonquintownship.com
SUMMARY:Friendship Star Quilters Guild
DESCRIPTION:
URL:https://www.algonquintownship.com/event/friendship-star-quilters-guild-2/2027-08-12/
LOCATION:Meeting room #2 Board Room\, 3702 U.S. Highway 14\, Crystal Lake\, IL\, 60012\, United States
END:VEVENT
END:VCALENDAR