BEGIN:VCALENDAR
VERSION:2.0
PRODID:-//Algonquin Township - ECPv6.15.18//NONSGML v1.0//EN
CALSCALE:GREGORIAN
METHOD:PUBLISH
X-ORIGINAL-URL:https://www.algonquintownship.com
X-WR-CALDESC:Events for Algonquin Township
REFRESH-INTERVAL;VALUE=DURATION:PT1H
X-Robots-Tag:noindex
X-PUBLISHED-TTL:PT1H
BEGIN:VTIMEZONE
TZID:America/Chicago
BEGIN:DAYLIGHT
TZOFFSETFROM:-0600
TZOFFSETTO:-0500
TZNAME:CDT
DTSTART:20260308T080000
END:DAYLIGHT
BEGIN:STANDARD
TZOFFSETFROM:-0500
TZOFFSETTO:-0600
TZNAME:CST
DTSTART:20261101T070000
END:STANDARD
BEGIN:DAYLIGHT
TZOFFSETFROM:-0600
TZOFFSETTO:-0500
TZNAME:CDT
DTSTART:20270314T080000
END:DAYLIGHT
BEGIN:STANDARD
TZOFFSETFROM:-0500
TZOFFSETTO:-0600
TZNAME:CST
DTSTART:20271107T070000
END:STANDARD
BEGIN:DAYLIGHT
TZOFFSETFROM:-0600
TZOFFSETTO:-0500
TZNAME:CDT
DTSTART:20280312T080000
END:DAYLIGHT
BEGIN:STANDARD
TZOFFSETFROM:-0500
TZOFFSETTO:-0600
TZNAME:CST
DTSTART:20281105T070000
END:STANDARD
END:VTIMEZONE
BEGIN:VEVENT
DTSTART;TZID=America/Chicago:20270618T110000
DTEND;TZID=America/Chicago:20270618T121500
DTSTAMP:20260424T023839
CREATED:20250114T142556Z
LAST-MODIFIED:20260107T153225Z
UID:10007804-1813316400-1813320900@www.algonquintownship.com
SUMMARY:Simple Strength Class
DESCRIPTION:
URL:https://www.algonquintownship.com/event/simple-strength-class/2027-06-18/
LOCATION:Meeting room #2 Board Room\, 3702 U.S. Highway 14\, Crystal Lake\, IL\, 60012\, United States
END:VEVENT
BEGIN:VEVENT
DTSTART;TZID=America/Chicago:20270619T083000
DTEND;TZID=America/Chicago:20270619T223000
DTSTAMP:20260424T023839
CREATED:20260127T173724Z
LAST-MODIFIED:20260127T173724Z
UID:10010006-1813393800-1813444200@www.algonquintownship.com
SUMMARY:Friendship Star Quilters Guild
DESCRIPTION:
URL:https://www.algonquintownship.com/event/friendship-star-quilters-guild/2027-06-19/
LOCATION:Meeting room #2 Board Room\, 3702 U.S. Highway 14\, Crystal Lake\, IL\, 60012\, United States
END:VEVENT
BEGIN:VEVENT
DTSTART;TZID=America/Chicago:20270621T101500
DTEND;TZID=America/Chicago:20270621T111500
DTSTAMP:20260424T023839
CREATED:20240617T133653Z
LAST-MODIFIED:20260107T153547Z
UID:10009733-1813572900-1813576500@www.algonquintownship.com
SUMMARY:Monday Chair Yoga
DESCRIPTION:
URL:https://www.algonquintownship.com/event/monday-chair-yoga/2027-06-21/
LOCATION:Meeting room #2 Board Room\, 3702 U.S. Highway 14\, Crystal Lake\, IL\, 60012\, United States
END:VEVENT
BEGIN:VEVENT
DTSTART;TZID=America/Chicago:20270622T180000
DTEND;TZID=America/Chicago:20270622T200000
DTSTAMP:20260424T023839
CREATED:20240617T142319Z
LAST-MODIFIED:20250204T162209Z
UID:10007350-1813687200-1813694400@www.algonquintownship.com
SUMMARY:TOPS
DESCRIPTION:TOPS – Taking off Pounds Sensibly.  Meets every Tuesday 6pm-8pm.
URL:https://www.algonquintownship.com/event/tops-2025-02-04/2027-06-22/
LOCATION:Meeting room #2 Board Room\, 3702 U.S. Highway 14\, Crystal Lake\, IL\, 60012\, United States
END:VEVENT
BEGIN:VEVENT
DTSTART;TZID=America/Chicago:20270623T090000
DTEND;TZID=America/Chicago:20270623T130000
DTSTAMP:20260424T023839
CREATED:20240617T142826Z
LAST-MODIFIED:20240617T142826Z
UID:10004818-1813741200-1813755600@www.algonquintownship.com
SUMMARY:SWAT
DESCRIPTION:SWAT – Striders Walkers and Talkers.
URL:https://www.algonquintownship.com/event/swat/2027-06-23/
LOCATION:Meeting room #2 Board Room\, 3702 U.S. Highway 14\, Crystal Lake\, IL\, 60012\, United States
END:VEVENT
BEGIN:VEVENT
DTSTART;TZID=America/Chicago:20270624T073000
DTEND;TZID=America/Chicago:20270624T090000
DTSTAMP:20260424T023839
CREATED:20240617T164633Z
LAST-MODIFIED:20260127T184340Z
UID:10005765-1813822200-1813827600@www.algonquintownship.com
SUMMARY:Toastmasters / Crystal Clear
DESCRIPTION:
URL:https://www.algonquintownship.com/event/toastmasters-crystal-clear/2027-06-24/
LOCATION:Meeting room #2 Board Room\, 3702 U.S. Highway 14\, Crystal Lake\, IL\, 60012\, United States
END:VEVENT
BEGIN:VEVENT
DTSTART;TZID=America/Chicago:20270624T170000
DTEND;TZID=America/Chicago:20270624T210000
DTSTAMP:20260424T023839
CREATED:20240617T153753Z
LAST-MODIFIED:20240617T153753Z
UID:10005813-1813856400-1813870800@www.algonquintownship.com
SUMMARY:Amvets
DESCRIPTION:
URL:https://www.algonquintownship.com/event/amvets/2027-06-24/
LOCATION:Meeting room #2 Board Room\, 3702 U.S. Highway 14\, Crystal Lake\, IL\, 60012\, United States
END:VEVENT
BEGIN:VEVENT
DTSTART;TZID=America/Chicago:20270625T110000
DTEND;TZID=America/Chicago:20270625T121500
DTSTAMP:20260424T023839
CREATED:20250114T142556Z
LAST-MODIFIED:20260107T153225Z
UID:10007805-1813921200-1813925700@www.algonquintownship.com
SUMMARY:Simple Strength Class
DESCRIPTION:
URL:https://www.algonquintownship.com/event/simple-strength-class/2027-06-25/
LOCATION:Meeting room #2 Board Room\, 3702 U.S. Highway 14\, Crystal Lake\, IL\, 60012\, United States
END:VEVENT
BEGIN:VEVENT
DTSTART;TZID=America/Chicago:20270628T101500
DTEND;TZID=America/Chicago:20270628T111500
DTSTAMP:20260424T023839
CREATED:20240617T133653Z
LAST-MODIFIED:20260107T153547Z
UID:10009734-1814177700-1814181300@www.algonquintownship.com
SUMMARY:Monday Chair Yoga
DESCRIPTION:
URL:https://www.algonquintownship.com/event/monday-chair-yoga/2027-06-28/
LOCATION:Meeting room #2 Board Room\, 3702 U.S. Highway 14\, Crystal Lake\, IL\, 60012\, United States
END:VEVENT
BEGIN:VEVENT
DTSTART;TZID=America/Chicago:20270629T100000
DTEND;TZID=America/Chicago:20270629T140000
DTSTAMP:20260424T023839
CREATED:20250909T183922Z
LAST-MODIFIED:20250909T183924Z
UID:10008605-1814263200-1814277600@www.algonquintownship.com
SUMMARY:Computer Class
DESCRIPTION:Personalized Computer Class.  Meets every other Tuesday.  This is a one-on-one class for 1 hour sessions beginning at 10am
URL:https://www.algonquintownship.com/event/computer-class-2/2027-06-29/
LOCATION:Meeting room #2 Board Room\, 3702 U.S. Highway 14\, Crystal Lake\, IL\, 60012\, United States
END:VEVENT
BEGIN:VEVENT
DTSTART;TZID=America/Chicago:20270629T180000
DTEND;TZID=America/Chicago:20270629T200000
DTSTAMP:20260424T023839
CREATED:20240617T142319Z
LAST-MODIFIED:20250204T162209Z
UID:10007351-1814292000-1814299200@www.algonquintownship.com
SUMMARY:TOPS
DESCRIPTION:TOPS – Taking off Pounds Sensibly.  Meets every Tuesday 6pm-8pm.
URL:https://www.algonquintownship.com/event/tops-2025-02-04/2027-06-29/
LOCATION:Meeting room #2 Board Room\, 3702 U.S. Highway 14\, Crystal Lake\, IL\, 60012\, United States
END:VEVENT
BEGIN:VEVENT
DTSTART;TZID=America/Chicago:20270630T090000
DTEND;TZID=America/Chicago:20270630T130000
DTSTAMP:20260424T023839
CREATED:20240617T142826Z
LAST-MODIFIED:20240617T142826Z
UID:10004819-1814346000-1814360400@www.algonquintownship.com
SUMMARY:SWAT
DESCRIPTION:SWAT – Striders Walkers and Talkers.
URL:https://www.algonquintownship.com/event/swat/2027-06-30/
LOCATION:Meeting room #2 Board Room\, 3702 U.S. Highway 14\, Crystal Lake\, IL\, 60012\, United States
END:VEVENT
BEGIN:VEVENT
DTSTART;TZID=America/Chicago:20270630T180000
DTEND;TZID=America/Chicago:20270630T210000
DTSTAMP:20260424T023839
CREATED:20240617T153424Z
LAST-MODIFIED:20240617T153424Z
UID:10005717-1814378400-1814389200@www.algonquintownship.com
SUMMARY:VNC
DESCRIPTION:
URL:https://www.algonquintownship.com/event/vnc/2027-06-30/
LOCATION:Meeting room #2 Board Room\, 3702 U.S. Highway 14\, Crystal Lake\, IL\, 60012\, United States
END:VEVENT
BEGIN:VEVENT
DTSTART;TZID=America/Chicago:20270702T110000
DTEND;TZID=America/Chicago:20270702T121500
DTSTAMP:20260424T023839
CREATED:20250114T142556Z
LAST-MODIFIED:20260107T153225Z
UID:10007806-1814526000-1814530500@www.algonquintownship.com
SUMMARY:Simple Strength Class
DESCRIPTION:
URL:https://www.algonquintownship.com/event/simple-strength-class/2027-07-02/
LOCATION:Meeting room #2 Board Room\, 3702 U.S. Highway 14\, Crystal Lake\, IL\, 60012\, United States
END:VEVENT
BEGIN:VEVENT
DTSTART;TZID=America/Chicago:20270703T090000
DTEND;TZID=America/Chicago:20270703T150000
DTSTAMP:20260424T023839
CREATED:20240617T165815Z
LAST-MODIFIED:20240617T165815Z
UID:10006214-1814605200-1814626800@www.algonquintownship.com
SUMMARY:Country Quilters
DESCRIPTION:
URL:https://www.algonquintownship.com/event/country-quilters/2027-07-03/
LOCATION:Meeting room #2 Board Room\, 3702 U.S. Highway 14\, Crystal Lake\, IL\, 60012\, United States
END:VEVENT
BEGIN:VEVENT
DTSTART;TZID=America/Chicago:20270705T101500
DTEND;TZID=America/Chicago:20270705T111500
DTSTAMP:20260424T023839
CREATED:20240617T133653Z
LAST-MODIFIED:20260107T153547Z
UID:10009735-1814782500-1814786100@www.algonquintownship.com
SUMMARY:Monday Chair Yoga
DESCRIPTION:
URL:https://www.algonquintownship.com/event/monday-chair-yoga/2027-07-05/
LOCATION:Meeting room #2 Board Room\, 3702 U.S. Highway 14\, Crystal Lake\, IL\, 60012\, United States
END:VEVENT
BEGIN:VEVENT
DTSTART;TZID=America/Chicago:20270706T180000
DTEND;TZID=America/Chicago:20270706T200000
DTSTAMP:20260424T023839
CREATED:20240617T142319Z
LAST-MODIFIED:20250204T162209Z
UID:10007352-1814896800-1814904000@www.algonquintownship.com
SUMMARY:TOPS
DESCRIPTION:TOPS – Taking off Pounds Sensibly.  Meets every Tuesday 6pm-8pm.
URL:https://www.algonquintownship.com/event/tops-2025-02-04/2027-07-06/
LOCATION:Meeting room #2 Board Room\, 3702 U.S. Highway 14\, Crystal Lake\, IL\, 60012\, United States
END:VEVENT
BEGIN:VEVENT
DTSTART;TZID=America/Chicago:20270707T090000
DTEND;TZID=America/Chicago:20270707T130000
DTSTAMP:20260424T023839
CREATED:20240617T142826Z
LAST-MODIFIED:20240617T142826Z
UID:10004820-1814950800-1814965200@www.algonquintownship.com
SUMMARY:SWAT
DESCRIPTION:SWAT – Striders Walkers and Talkers.
URL:https://www.algonquintownship.com/event/swat/2027-07-07/
LOCATION:Meeting room #2 Board Room\, 3702 U.S. Highway 14\, Crystal Lake\, IL\, 60012\, United States
END:VEVENT
BEGIN:VEVENT
DTSTART;TZID=America/Chicago:20270708T073000
DTEND;TZID=America/Chicago:20270708T090000
DTSTAMP:20260424T023839
CREATED:20240617T164830Z
LAST-MODIFIED:20240625T191954Z
UID:10006406-1815031800-1815037200@www.algonquintownship.com
SUMMARY:Toastmasters / Crystal Clear
DESCRIPTION:
URL:https://www.algonquintownship.com/event/toastmasters-crystal-clear-2-2024-07-11/2027-07-08/
LOCATION:Meeting room #2 Board Room\, 3702 U.S. Highway 14\, Crystal Lake\, IL\, 60012\, United States
END:VEVENT
BEGIN:VEVENT
DTSTART;TZID=America/Chicago:20270708T183000
DTEND;TZID=America/Chicago:20270708T220000
DTSTAMP:20260424T023839
CREATED:20240617T152947Z
LAST-MODIFIED:20260127T173342Z
UID:10006454-1815071400-1815084000@www.algonquintownship.com
SUMMARY:Friendship Star Quilters Guild
DESCRIPTION:
URL:https://www.algonquintownship.com/event/friendship-star-quilters-guild-2/2027-07-08/
LOCATION:Meeting room #2 Board Room\, 3702 U.S. Highway 14\, Crystal Lake\, IL\, 60012\, United States
END:VEVENT
BEGIN:VEVENT
DTSTART;TZID=America/Chicago:20270709T110000
DTEND;TZID=America/Chicago:20270709T121500
DTSTAMP:20260424T023839
CREATED:20250114T142556Z
LAST-MODIFIED:20260107T153225Z
UID:10007807-1815130800-1815135300@www.algonquintownship.com
SUMMARY:Simple Strength Class
DESCRIPTION:
URL:https://www.algonquintownship.com/event/simple-strength-class/2027-07-09/
LOCATION:Meeting room #2 Board Room\, 3702 U.S. Highway 14\, Crystal Lake\, IL\, 60012\, United States
END:VEVENT
BEGIN:VEVENT
DTSTART;TZID=America/Chicago:20270712T101500
DTEND;TZID=America/Chicago:20270712T111500
DTSTAMP:20260424T023839
CREATED:20240617T133653Z
LAST-MODIFIED:20260107T153547Z
UID:10009736-1815387300-1815390900@www.algonquintownship.com
SUMMARY:Monday Chair Yoga
DESCRIPTION:
URL:https://www.algonquintownship.com/event/monday-chair-yoga/2027-07-12/
LOCATION:Meeting room #2 Board Room\, 3702 U.S. Highway 14\, Crystal Lake\, IL\, 60012\, United States
END:VEVENT
BEGIN:VEVENT
DTSTART;TZID=America/Chicago:20270713T100000
DTEND;TZID=America/Chicago:20270713T140000
DTSTAMP:20260424T023839
CREATED:20250909T183922Z
LAST-MODIFIED:20250909T183924Z
UID:10008606-1815472800-1815487200@www.algonquintownship.com
SUMMARY:Computer Class
DESCRIPTION:Personalized Computer Class.  Meets every other Tuesday.  This is a one-on-one class for 1 hour sessions beginning at 10am
URL:https://www.algonquintownship.com/event/computer-class-2/2027-07-13/
LOCATION:Meeting room #2 Board Room\, 3702 U.S. Highway 14\, Crystal Lake\, IL\, 60012\, United States
END:VEVENT
BEGIN:VEVENT
DTSTART;TZID=America/Chicago:20270713T180000
DTEND;TZID=America/Chicago:20270713T200000
DTSTAMP:20260424T023839
CREATED:20240617T142319Z
LAST-MODIFIED:20250204T162209Z
UID:10007353-1815501600-1815508800@www.algonquintownship.com
SUMMARY:TOPS
DESCRIPTION:TOPS – Taking off Pounds Sensibly.  Meets every Tuesday 6pm-8pm.
URL:https://www.algonquintownship.com/event/tops-2025-02-04/2027-07-13/
LOCATION:Meeting room #2 Board Room\, 3702 U.S. Highway 14\, Crystal Lake\, IL\, 60012\, United States
END:VEVENT
BEGIN:VEVENT
DTSTART;TZID=America/Chicago:20270713T180000
DTEND;TZID=America/Chicago:20270713T210000
DTSTAMP:20260424T023839
CREATED:20240617T170852Z
LAST-MODIFIED:20240617T170852Z
UID:10006358-1815501600-1815512400@www.algonquintownship.com
SUMMARY:Crystal Lake Camera Club
DESCRIPTION:
URL:https://www.algonquintownship.com/event/crystal-lake-camera-club/2027-07-13/
LOCATION:Meeting room #2 Board Room\, 3702 U.S. Highway 14\, Crystal Lake\, IL\, 60012\, United States
END:VEVENT
BEGIN:VEVENT
DTSTART;TZID=America/Chicago:20270714T090000
DTEND;TZID=America/Chicago:20270714T130000
DTSTAMP:20260424T023839
CREATED:20240617T142826Z
LAST-MODIFIED:20240617T142826Z
UID:10004821-1815555600-1815570000@www.algonquintownship.com
SUMMARY:SWAT
DESCRIPTION:SWAT – Striders Walkers and Talkers.
URL:https://www.algonquintownship.com/event/swat/2027-07-14/
LOCATION:Meeting room #2 Board Room\, 3702 U.S. Highway 14\, Crystal Lake\, IL\, 60012\, United States
END:VEVENT
BEGIN:VEVENT
DTSTART;TZID=America/Chicago:20270714T190000
DTEND;TZID=America/Chicago:20270714T210000
DTSTAMP:20260424T023839
CREATED:20240617T171043Z
LAST-MODIFIED:20240710T133539Z
UID:10006665-1815591600-1815598800@www.algonquintownship.com
SUMMARY:Algonquin Township Board Meeting
DESCRIPTION:
URL:https://www.algonquintownship.com/event/algonquin-township-board-meeting-2024-08-14/2027-07-14/
LOCATION:Meeting room #2 Board Room\, 3702 U.S. Highway 14\, Crystal Lake\, IL\, 60012\, United States
END:VEVENT
BEGIN:VEVENT
DTSTART;TZID=America/Chicago:20270716T110000
DTEND;TZID=America/Chicago:20270716T121500
DTSTAMP:20260424T023839
CREATED:20250114T142556Z
LAST-MODIFIED:20260107T153225Z
UID:10007808-1815735600-1815740100@www.algonquintownship.com
SUMMARY:Simple Strength Class
DESCRIPTION:
URL:https://www.algonquintownship.com/event/simple-strength-class/2027-07-16/
LOCATION:Meeting room #2 Board Room\, 3702 U.S. Highway 14\, Crystal Lake\, IL\, 60012\, United States
END:VEVENT
BEGIN:VEVENT
DTSTART;TZID=America/Chicago:20270717T083000
DTEND;TZID=America/Chicago:20270717T223000
DTSTAMP:20260424T023839
CREATED:20260127T173724Z
LAST-MODIFIED:20260127T173724Z
UID:10010007-1815813000-1815863400@www.algonquintownship.com
SUMMARY:Friendship Star Quilters Guild
DESCRIPTION:
URL:https://www.algonquintownship.com/event/friendship-star-quilters-guild/2027-07-17/
LOCATION:Meeting room #2 Board Room\, 3702 U.S. Highway 14\, Crystal Lake\, IL\, 60012\, United States
END:VEVENT
BEGIN:VEVENT
DTSTART;TZID=America/Chicago:20270719T101500
DTEND;TZID=America/Chicago:20270719T111500
DTSTAMP:20260424T023839
CREATED:20240617T133653Z
LAST-MODIFIED:20260107T153547Z
UID:10009737-1815992100-1815995700@www.algonquintownship.com
SUMMARY:Monday Chair Yoga
DESCRIPTION:
URL:https://www.algonquintownship.com/event/monday-chair-yoga/2027-07-19/
LOCATION:Meeting room #2 Board Room\, 3702 U.S. Highway 14\, Crystal Lake\, IL\, 60012\, United States
END:VEVENT
END:VCALENDAR