BEGIN:VCALENDAR
VERSION:2.0
PRODID:-//Algonquin Township - ECPv6.15.18//NONSGML v1.0//EN
CALSCALE:GREGORIAN
METHOD:PUBLISH
X-ORIGINAL-URL:https://www.algonquintownship.com
X-WR-CALDESC:Events for Algonquin Township
REFRESH-INTERVAL;VALUE=DURATION:PT1H
X-Robots-Tag:noindex
X-PUBLISHED-TTL:PT1H
BEGIN:VTIMEZONE
TZID:America/Chicago
BEGIN:DAYLIGHT
TZOFFSETFROM:-0600
TZOFFSETTO:-0500
TZNAME:CDT
DTSTART:20260308T080000
END:DAYLIGHT
BEGIN:STANDARD
TZOFFSETFROM:-0500
TZOFFSETTO:-0600
TZNAME:CST
DTSTART:20261101T070000
END:STANDARD
BEGIN:DAYLIGHT
TZOFFSETFROM:-0600
TZOFFSETTO:-0500
TZNAME:CDT
DTSTART:20270314T080000
END:DAYLIGHT
BEGIN:STANDARD
TZOFFSETFROM:-0500
TZOFFSETTO:-0600
TZNAME:CST
DTSTART:20271107T070000
END:STANDARD
BEGIN:DAYLIGHT
TZOFFSETFROM:-0600
TZOFFSETTO:-0500
TZNAME:CDT
DTSTART:20280312T080000
END:DAYLIGHT
BEGIN:STANDARD
TZOFFSETFROM:-0500
TZOFFSETTO:-0600
TZNAME:CST
DTSTART:20281105T070000
END:STANDARD
END:VTIMEZONE
BEGIN:VEVENT
DTSTART;TZID=America/Chicago:20270428T180000
DTEND;TZID=America/Chicago:20270428T210000
DTSTAMP:20260423T185202
CREATED:20240617T153424Z
LAST-MODIFIED:20240617T153424Z
UID:10005715-1808935200-1808946000@www.algonquintownship.com
SUMMARY:VNC
DESCRIPTION:
URL:https://www.algonquintownship.com/event/vnc/2027-04-28/
LOCATION:Meeting room #2 Board Room\, 3702 U.S. Highway 14\, Crystal Lake\, IL\, 60012\, United States
END:VEVENT
BEGIN:VEVENT
DTSTART;TZID=America/Chicago:20270429T170000
DTEND;TZID=America/Chicago:20270429T210000
DTSTAMP:20260423T185202
CREATED:20240617T153753Z
LAST-MODIFIED:20240617T153753Z
UID:10005811-1809018000-1809032400@www.algonquintownship.com
SUMMARY:Amvets
DESCRIPTION:
URL:https://www.algonquintownship.com/event/amvets/2027-04-29/
LOCATION:Meeting room #2 Board Room\, 3702 U.S. Highway 14\, Crystal Lake\, IL\, 60012\, United States
END:VEVENT
BEGIN:VEVENT
DTSTART;TZID=America/Chicago:20270430T110000
DTEND;TZID=America/Chicago:20270430T121500
DTSTAMP:20260423T185202
CREATED:20250114T142556Z
LAST-MODIFIED:20260107T153225Z
UID:10007797-1809082800-1809087300@www.algonquintownship.com
SUMMARY:Simple Strength Class
DESCRIPTION:
URL:https://www.algonquintownship.com/event/simple-strength-class/2027-04-30/
LOCATION:Meeting room #2 Board Room\, 3702 U.S. Highway 14\, Crystal Lake\, IL\, 60012\, United States
END:VEVENT
BEGIN:VEVENT
DTSTART;TZID=America/Chicago:20270501T090000
DTEND;TZID=America/Chicago:20270501T150000
DTSTAMP:20260423T185202
CREATED:20240617T165815Z
LAST-MODIFIED:20240617T165815Z
UID:10006212-1809162000-1809183600@www.algonquintownship.com
SUMMARY:Country Quilters
DESCRIPTION:
URL:https://www.algonquintownship.com/event/country-quilters/2027-05-01/
LOCATION:Meeting room #2 Board Room\, 3702 U.S. Highway 14\, Crystal Lake\, IL\, 60012\, United States
END:VEVENT
BEGIN:VEVENT
DTSTART;TZID=America/Chicago:20270503T101500
DTEND;TZID=America/Chicago:20270503T111500
DTSTAMP:20260423T185202
CREATED:20240617T133653Z
LAST-MODIFIED:20260107T153547Z
UID:10009726-1809339300-1809342900@www.algonquintownship.com
SUMMARY:Monday Chair Yoga
DESCRIPTION:
URL:https://www.algonquintownship.com/event/monday-chair-yoga/2027-05-03/
LOCATION:Meeting room #2 Board Room\, 3702 U.S. Highway 14\, Crystal Lake\, IL\, 60012\, United States
END:VEVENT
BEGIN:VEVENT
DTSTART;TZID=America/Chicago:20270504T100000
DTEND;TZID=America/Chicago:20270504T140000
DTSTAMP:20260423T185202
CREATED:20250909T183922Z
LAST-MODIFIED:20250909T183924Z
UID:10008601-1809424800-1809439200@www.algonquintownship.com
SUMMARY:Computer Class
DESCRIPTION:Personalized Computer Class.  Meets every other Tuesday.  This is a one-on-one class for 1 hour sessions beginning at 10am
URL:https://www.algonquintownship.com/event/computer-class-2/2027-05-04/
LOCATION:Meeting room #2 Board Room\, 3702 U.S. Highway 14\, Crystal Lake\, IL\, 60012\, United States
END:VEVENT
BEGIN:VEVENT
DTSTART;TZID=America/Chicago:20270504T180000
DTEND;TZID=America/Chicago:20270504T200000
DTSTAMP:20260423T185202
CREATED:20240617T142319Z
LAST-MODIFIED:20250204T162209Z
UID:10007343-1809453600-1809460800@www.algonquintownship.com
SUMMARY:TOPS
DESCRIPTION:TOPS – Taking off Pounds Sensibly.  Meets every Tuesday 6pm-8pm.
URL:https://www.algonquintownship.com/event/tops-2025-02-04/2027-05-04/
LOCATION:Meeting room #2 Board Room\, 3702 U.S. Highway 14\, Crystal Lake\, IL\, 60012\, United States
END:VEVENT
BEGIN:VEVENT
DTSTART;TZID=America/Chicago:20270505T090000
DTEND;TZID=America/Chicago:20270505T130000
DTSTAMP:20260423T185202
CREATED:20240617T142826Z
LAST-MODIFIED:20240617T142826Z
UID:10004811-1809507600-1809522000@www.algonquintownship.com
SUMMARY:SWAT
DESCRIPTION:SWAT – Striders Walkers and Talkers.
URL:https://www.algonquintownship.com/event/swat/2027-05-05/
LOCATION:Meeting room #2 Board Room\, 3702 U.S. Highway 14\, Crystal Lake\, IL\, 60012\, United States
END:VEVENT
BEGIN:VEVENT
DTSTART;TZID=America/Chicago:20270507T110000
DTEND;TZID=America/Chicago:20270507T121500
DTSTAMP:20260423T185202
CREATED:20250114T142556Z
LAST-MODIFIED:20260107T153225Z
UID:10007798-1809687600-1809692100@www.algonquintownship.com
SUMMARY:Simple Strength Class
DESCRIPTION:
URL:https://www.algonquintownship.com/event/simple-strength-class/2027-05-07/
LOCATION:Meeting room #2 Board Room\, 3702 U.S. Highway 14\, Crystal Lake\, IL\, 60012\, United States
END:VEVENT
BEGIN:VEVENT
DTSTART;TZID=America/Chicago:20270510T101500
DTEND;TZID=America/Chicago:20270510T111500
DTSTAMP:20260423T185202
CREATED:20240617T133653Z
LAST-MODIFIED:20260107T153547Z
UID:10009727-1809944100-1809947700@www.algonquintownship.com
SUMMARY:Monday Chair Yoga
DESCRIPTION:
URL:https://www.algonquintownship.com/event/monday-chair-yoga/2027-05-10/
LOCATION:Meeting room #2 Board Room\, 3702 U.S. Highway 14\, Crystal Lake\, IL\, 60012\, United States
END:VEVENT
BEGIN:VEVENT
DTSTART;TZID=America/Chicago:20270511T180000
DTEND;TZID=America/Chicago:20270511T200000
DTSTAMP:20260423T185202
CREATED:20240617T142319Z
LAST-MODIFIED:20250204T162209Z
UID:10007344-1810058400-1810065600@www.algonquintownship.com
SUMMARY:TOPS
DESCRIPTION:TOPS – Taking off Pounds Sensibly.  Meets every Tuesday 6pm-8pm.
URL:https://www.algonquintownship.com/event/tops-2025-02-04/2027-05-11/
LOCATION:Meeting room #2 Board Room\, 3702 U.S. Highway 14\, Crystal Lake\, IL\, 60012\, United States
END:VEVENT
BEGIN:VEVENT
DTSTART;TZID=America/Chicago:20270511T180000
DTEND;TZID=America/Chicago:20270511T210000
DTSTAMP:20260423T185202
CREATED:20240617T170852Z
LAST-MODIFIED:20240617T170852Z
UID:10006356-1810058400-1810069200@www.algonquintownship.com
SUMMARY:Crystal Lake Camera Club
DESCRIPTION:
URL:https://www.algonquintownship.com/event/crystal-lake-camera-club/2027-05-11/
LOCATION:Meeting room #2 Board Room\, 3702 U.S. Highway 14\, Crystal Lake\, IL\, 60012\, United States
END:VEVENT
BEGIN:VEVENT
DTSTART;TZID=America/Chicago:20270512T090000
DTEND;TZID=America/Chicago:20270512T130000
DTSTAMP:20260423T185202
CREATED:20240617T142826Z
LAST-MODIFIED:20240617T142826Z
UID:10004812-1810112400-1810126800@www.algonquintownship.com
SUMMARY:SWAT
DESCRIPTION:SWAT – Striders Walkers and Talkers.
URL:https://www.algonquintownship.com/event/swat/2027-05-12/
LOCATION:Meeting room #2 Board Room\, 3702 U.S. Highway 14\, Crystal Lake\, IL\, 60012\, United States
END:VEVENT
BEGIN:VEVENT
DTSTART;TZID=America/Chicago:20270512T190000
DTEND;TZID=America/Chicago:20270512T210000
DTSTAMP:20260423T185202
CREATED:20240617T171043Z
LAST-MODIFIED:20240710T133539Z
UID:10006663-1810148400-1810155600@www.algonquintownship.com
SUMMARY:Algonquin Township Board Meeting
DESCRIPTION:
URL:https://www.algonquintownship.com/event/algonquin-township-board-meeting-2024-08-14/2027-05-12/
LOCATION:Meeting room #2 Board Room\, 3702 U.S. Highway 14\, Crystal Lake\, IL\, 60012\, United States
END:VEVENT
BEGIN:VEVENT
DTSTART;TZID=America/Chicago:20270513T073000
DTEND;TZID=America/Chicago:20270513T090000
DTSTAMP:20260423T185202
CREATED:20240617T164830Z
LAST-MODIFIED:20240625T191954Z
UID:10006404-1810193400-1810198800@www.algonquintownship.com
SUMMARY:Toastmasters / Crystal Clear
DESCRIPTION:
URL:https://www.algonquintownship.com/event/toastmasters-crystal-clear-2-2024-07-11/2027-05-13/
LOCATION:Meeting room #2 Board Room\, 3702 U.S. Highway 14\, Crystal Lake\, IL\, 60012\, United States
END:VEVENT
BEGIN:VEVENT
DTSTART;TZID=America/Chicago:20270513T183000
DTEND;TZID=America/Chicago:20270513T220000
DTSTAMP:20260423T185202
CREATED:20240617T152947Z
LAST-MODIFIED:20260127T173342Z
UID:10006452-1810233000-1810245600@www.algonquintownship.com
SUMMARY:Friendship Star Quilters Guild
DESCRIPTION:
URL:https://www.algonquintownship.com/event/friendship-star-quilters-guild-2/2027-05-13/
LOCATION:Meeting room #2 Board Room\, 3702 U.S. Highway 14\, Crystal Lake\, IL\, 60012\, United States
END:VEVENT
BEGIN:VEVENT
DTSTART;TZID=America/Chicago:20270514T110000
DTEND;TZID=America/Chicago:20270514T121500
DTSTAMP:20260423T185202
CREATED:20250114T142556Z
LAST-MODIFIED:20260107T153225Z
UID:10007799-1810292400-1810296900@www.algonquintownship.com
SUMMARY:Simple Strength Class
DESCRIPTION:
URL:https://www.algonquintownship.com/event/simple-strength-class/2027-05-14/
LOCATION:Meeting room #2 Board Room\, 3702 U.S. Highway 14\, Crystal Lake\, IL\, 60012\, United States
END:VEVENT
BEGIN:VEVENT
DTSTART;TZID=America/Chicago:20270515T083000
DTEND;TZID=America/Chicago:20270515T223000
DTSTAMP:20260423T185202
CREATED:20260127T173724Z
LAST-MODIFIED:20260127T173724Z
UID:10010005-1810369800-1810420200@www.algonquintownship.com
SUMMARY:Friendship Star Quilters Guild
DESCRIPTION:
URL:https://www.algonquintownship.com/event/friendship-star-quilters-guild/2027-05-15/
LOCATION:Meeting room #2 Board Room\, 3702 U.S. Highway 14\, Crystal Lake\, IL\, 60012\, United States
END:VEVENT
BEGIN:VEVENT
DTSTART;TZID=America/Chicago:20270517T101500
DTEND;TZID=America/Chicago:20270517T111500
DTSTAMP:20260423T185202
CREATED:20240617T133653Z
LAST-MODIFIED:20260107T153547Z
UID:10009728-1810548900-1810552500@www.algonquintownship.com
SUMMARY:Monday Chair Yoga
DESCRIPTION:
URL:https://www.algonquintownship.com/event/monday-chair-yoga/2027-05-17/
LOCATION:Meeting room #2 Board Room\, 3702 U.S. Highway 14\, Crystal Lake\, IL\, 60012\, United States
END:VEVENT
BEGIN:VEVENT
DTSTART;TZID=America/Chicago:20270518T100000
DTEND;TZID=America/Chicago:20270518T140000
DTSTAMP:20260423T185202
CREATED:20250909T183922Z
LAST-MODIFIED:20250909T183924Z
UID:10008602-1810634400-1810648800@www.algonquintownship.com
SUMMARY:Computer Class
DESCRIPTION:Personalized Computer Class.  Meets every other Tuesday.  This is a one-on-one class for 1 hour sessions beginning at 10am
URL:https://www.algonquintownship.com/event/computer-class-2/2027-05-18/
LOCATION:Meeting room #2 Board Room\, 3702 U.S. Highway 14\, Crystal Lake\, IL\, 60012\, United States
END:VEVENT
BEGIN:VEVENT
DTSTART;TZID=America/Chicago:20270518T180000
DTEND;TZID=America/Chicago:20270518T200000
DTSTAMP:20260423T185202
CREATED:20240617T142319Z
LAST-MODIFIED:20250204T162209Z
UID:10007345-1810663200-1810670400@www.algonquintownship.com
SUMMARY:TOPS
DESCRIPTION:TOPS – Taking off Pounds Sensibly.  Meets every Tuesday 6pm-8pm.
URL:https://www.algonquintownship.com/event/tops-2025-02-04/2027-05-18/
LOCATION:Meeting room #2 Board Room\, 3702 U.S. Highway 14\, Crystal Lake\, IL\, 60012\, United States
END:VEVENT
BEGIN:VEVENT
DTSTART;TZID=America/Chicago:20270519T090000
DTEND;TZID=America/Chicago:20270519T130000
DTSTAMP:20260423T185202
CREATED:20240617T142826Z
LAST-MODIFIED:20240617T142826Z
UID:10004813-1810717200-1810731600@www.algonquintownship.com
SUMMARY:SWAT
DESCRIPTION:SWAT – Striders Walkers and Talkers.
URL:https://www.algonquintownship.com/event/swat/2027-05-19/
LOCATION:Meeting room #2 Board Room\, 3702 U.S. Highway 14\, Crystal Lake\, IL\, 60012\, United States
END:VEVENT
BEGIN:VEVENT
DTSTART;TZID=America/Chicago:20270521T110000
DTEND;TZID=America/Chicago:20270521T121500
DTSTAMP:20260423T185202
CREATED:20250114T142556Z
LAST-MODIFIED:20260107T153225Z
UID:10007800-1810897200-1810901700@www.algonquintownship.com
SUMMARY:Simple Strength Class
DESCRIPTION:
URL:https://www.algonquintownship.com/event/simple-strength-class/2027-05-21/
LOCATION:Meeting room #2 Board Room\, 3702 U.S. Highway 14\, Crystal Lake\, IL\, 60012\, United States
END:VEVENT
BEGIN:VEVENT
DTSTART;TZID=America/Chicago:20270524T101500
DTEND;TZID=America/Chicago:20270524T111500
DTSTAMP:20260423T185202
CREATED:20240617T133653Z
LAST-MODIFIED:20260107T153547Z
UID:10009729-1811153700-1811157300@www.algonquintownship.com
SUMMARY:Monday Chair Yoga
DESCRIPTION:
URL:https://www.algonquintownship.com/event/monday-chair-yoga/2027-05-24/
LOCATION:Meeting room #2 Board Room\, 3702 U.S. Highway 14\, Crystal Lake\, IL\, 60012\, United States
END:VEVENT
BEGIN:VEVENT
DTSTART;TZID=America/Chicago:20270525T180000
DTEND;TZID=America/Chicago:20270525T200000
DTSTAMP:20260423T185202
CREATED:20240617T142319Z
LAST-MODIFIED:20250204T162209Z
UID:10007346-1811268000-1811275200@www.algonquintownship.com
SUMMARY:TOPS
DESCRIPTION:TOPS – Taking off Pounds Sensibly.  Meets every Tuesday 6pm-8pm.
URL:https://www.algonquintownship.com/event/tops-2025-02-04/2027-05-25/
LOCATION:Meeting room #2 Board Room\, 3702 U.S. Highway 14\, Crystal Lake\, IL\, 60012\, United States
END:VEVENT
BEGIN:VEVENT
DTSTART;TZID=America/Chicago:20270526T090000
DTEND;TZID=America/Chicago:20270526T130000
DTSTAMP:20260423T185202
CREATED:20240617T142826Z
LAST-MODIFIED:20240617T142826Z
UID:10004814-1811322000-1811336400@www.algonquintownship.com
SUMMARY:SWAT
DESCRIPTION:SWAT – Striders Walkers and Talkers.
URL:https://www.algonquintownship.com/event/swat/2027-05-26/
LOCATION:Meeting room #2 Board Room\, 3702 U.S. Highway 14\, Crystal Lake\, IL\, 60012\, United States
END:VEVENT
BEGIN:VEVENT
DTSTART;TZID=America/Chicago:20270526T180000
DTEND;TZID=America/Chicago:20270526T210000
DTSTAMP:20260423T185202
CREATED:20240617T153424Z
LAST-MODIFIED:20240617T153424Z
UID:10005716-1811354400-1811365200@www.algonquintownship.com
SUMMARY:VNC
DESCRIPTION:
URL:https://www.algonquintownship.com/event/vnc/2027-05-26/
LOCATION:Meeting room #2 Board Room\, 3702 U.S. Highway 14\, Crystal Lake\, IL\, 60012\, United States
END:VEVENT
BEGIN:VEVENT
DTSTART;TZID=America/Chicago:20270527T073000
DTEND;TZID=America/Chicago:20270527T090000
DTSTAMP:20260423T185202
CREATED:20240617T164633Z
LAST-MODIFIED:20260127T184340Z
UID:10005764-1811403000-1811408400@www.algonquintownship.com
SUMMARY:Toastmasters / Crystal Clear
DESCRIPTION:
URL:https://www.algonquintownship.com/event/toastmasters-crystal-clear/2027-05-27/
LOCATION:Meeting room #2 Board Room\, 3702 U.S. Highway 14\, Crystal Lake\, IL\, 60012\, United States
END:VEVENT
BEGIN:VEVENT
DTSTART;TZID=America/Chicago:20270527T170000
DTEND;TZID=America/Chicago:20270527T210000
DTSTAMP:20260423T185202
CREATED:20240617T153753Z
LAST-MODIFIED:20240617T153753Z
UID:10005812-1811437200-1811451600@www.algonquintownship.com
SUMMARY:Amvets
DESCRIPTION:
URL:https://www.algonquintownship.com/event/amvets/2027-05-27/
LOCATION:Meeting room #2 Board Room\, 3702 U.S. Highway 14\, Crystal Lake\, IL\, 60012\, United States
END:VEVENT
BEGIN:VEVENT
DTSTART;TZID=America/Chicago:20270528T110000
DTEND;TZID=America/Chicago:20270528T121500
DTSTAMP:20260423T185202
CREATED:20250114T142556Z
LAST-MODIFIED:20260107T153225Z
UID:10007801-1811502000-1811506500@www.algonquintownship.com
SUMMARY:Simple Strength Class
DESCRIPTION:
URL:https://www.algonquintownship.com/event/simple-strength-class/2027-05-28/
LOCATION:Meeting room #2 Board Room\, 3702 U.S. Highway 14\, Crystal Lake\, IL\, 60012\, United States
END:VEVENT
END:VCALENDAR