BEGIN:VCALENDAR
VERSION:2.0
PRODID:-//Algonquin Township - ECPv6.15.18//NONSGML v1.0//EN
CALSCALE:GREGORIAN
METHOD:PUBLISH
X-WR-CALNAME:Algonquin Township
X-ORIGINAL-URL:https://www.algonquintownship.com
X-WR-CALDESC:Events for Algonquin Township
REFRESH-INTERVAL;VALUE=DURATION:PT1H
X-Robots-Tag:noindex
X-PUBLISHED-TTL:PT1H
BEGIN:VTIMEZONE
TZID:America/Chicago
BEGIN:DAYLIGHT
TZOFFSETFROM:-0600
TZOFFSETTO:-0500
TZNAME:CDT
DTSTART:20260308T080000
END:DAYLIGHT
BEGIN:STANDARD
TZOFFSETFROM:-0500
TZOFFSETTO:-0600
TZNAME:CST
DTSTART:20261101T070000
END:STANDARD
BEGIN:DAYLIGHT
TZOFFSETFROM:-0600
TZOFFSETTO:-0500
TZNAME:CDT
DTSTART:20270314T080000
END:DAYLIGHT
BEGIN:STANDARD
TZOFFSETFROM:-0500
TZOFFSETTO:-0600
TZNAME:CST
DTSTART:20271107T070000
END:STANDARD
BEGIN:DAYLIGHT
TZOFFSETFROM:-0600
TZOFFSETTO:-0500
TZNAME:CDT
DTSTART:20280312T080000
END:DAYLIGHT
BEGIN:STANDARD
TZOFFSETFROM:-0500
TZOFFSETTO:-0600
TZNAME:CST
DTSTART:20281105T070000
END:STANDARD
END:VTIMEZONE
BEGIN:VEVENT
DTSTART;TZID=America/Chicago:20270309T180000
DTEND;TZID=America/Chicago:20270309T200000
DTSTAMP:20260423T122533
CREATED:20240617T142319Z
LAST-MODIFIED:20250204T162209Z
UID:10007335-1804615200-1804622400@www.algonquintownship.com
SUMMARY:TOPS
DESCRIPTION:TOPS – Taking off Pounds Sensibly.  Meets every Tuesday 6pm-8pm.
URL:https://www.algonquintownship.com/event/tops-2025-02-04/2027-03-09/
LOCATION:Meeting room #2 Board Room\, 3702 U.S. Highway 14\, Crystal Lake\, IL\, 60012\, United States
END:VEVENT
BEGIN:VEVENT
DTSTART;TZID=America/Chicago:20270309T180000
DTEND;TZID=America/Chicago:20270309T210000
DTSTAMP:20260423T122533
CREATED:20240617T170852Z
LAST-MODIFIED:20240617T170852Z
UID:10006354-1804615200-1804626000@www.algonquintownship.com
SUMMARY:Crystal Lake Camera Club
DESCRIPTION:
URL:https://www.algonquintownship.com/event/crystal-lake-camera-club/2027-03-09/
LOCATION:Meeting room #2 Board Room\, 3702 U.S. Highway 14\, Crystal Lake\, IL\, 60012\, United States
END:VEVENT
BEGIN:VEVENT
DTSTART;TZID=America/Chicago:20270310T090000
DTEND;TZID=America/Chicago:20270310T130000
DTSTAMP:20260423T122533
CREATED:20240617T142826Z
LAST-MODIFIED:20240617T142826Z
UID:10004803-1804669200-1804683600@www.algonquintownship.com
SUMMARY:SWAT
DESCRIPTION:SWAT – Striders Walkers and Talkers.
URL:https://www.algonquintownship.com/event/swat/2027-03-10/
LOCATION:Meeting room #2 Board Room\, 3702 U.S. Highway 14\, Crystal Lake\, IL\, 60012\, United States
END:VEVENT
BEGIN:VEVENT
DTSTART;TZID=America/Chicago:20270310T190000
DTEND;TZID=America/Chicago:20270310T210000
DTSTAMP:20260423T122533
CREATED:20240617T171043Z
LAST-MODIFIED:20240710T133539Z
UID:10006661-1804705200-1804712400@www.algonquintownship.com
SUMMARY:Algonquin Township Board Meeting
DESCRIPTION:
URL:https://www.algonquintownship.com/event/algonquin-township-board-meeting-2024-08-14/2027-03-10/
LOCATION:Meeting room #2 Board Room\, 3702 U.S. Highway 14\, Crystal Lake\, IL\, 60012\, United States
END:VEVENT
BEGIN:VEVENT
DTSTART;TZID=America/Chicago:20270311T073000
DTEND;TZID=America/Chicago:20270311T090000
DTSTAMP:20260423T122533
CREATED:20240617T164830Z
LAST-MODIFIED:20240625T191954Z
UID:10006402-1804750200-1804755600@www.algonquintownship.com
SUMMARY:Toastmasters / Crystal Clear
DESCRIPTION:
URL:https://www.algonquintownship.com/event/toastmasters-crystal-clear-2-2024-07-11/2027-03-11/
LOCATION:Meeting room #2 Board Room\, 3702 U.S. Highway 14\, Crystal Lake\, IL\, 60012\, United States
END:VEVENT
BEGIN:VEVENT
DTSTART;TZID=America/Chicago:20270311T183000
DTEND;TZID=America/Chicago:20270311T220000
DTSTAMP:20260423T122533
CREATED:20240617T152947Z
LAST-MODIFIED:20260127T173342Z
UID:10006450-1804789800-1804802400@www.algonquintownship.com
SUMMARY:Friendship Star Quilters Guild
DESCRIPTION:
URL:https://www.algonquintownship.com/event/friendship-star-quilters-guild-2/2027-03-11/
LOCATION:Meeting room #2 Board Room\, 3702 U.S. Highway 14\, Crystal Lake\, IL\, 60012\, United States
END:VEVENT
BEGIN:VEVENT
DTSTART;TZID=America/Chicago:20270312T110000
DTEND;TZID=America/Chicago:20270312T121500
DTSTAMP:20260423T122533
CREATED:20250114T142556Z
LAST-MODIFIED:20260107T153225Z
UID:10007790-1804849200-1804853700@www.algonquintownship.com
SUMMARY:Simple Strength Class
DESCRIPTION:
URL:https://www.algonquintownship.com/event/simple-strength-class/2027-03-12/
LOCATION:Meeting room #2 Board Room\, 3702 U.S. Highway 14\, Crystal Lake\, IL\, 60012\, United States
END:VEVENT
BEGIN:VEVENT
DTSTART;TZID=America/Chicago:20270315T101500
DTEND;TZID=America/Chicago:20270315T111500
DTSTAMP:20260423T122533
CREATED:20240617T133653Z
LAST-MODIFIED:20260107T153547Z
UID:10009719-1805105700-1805109300@www.algonquintownship.com
SUMMARY:Monday Chair Yoga
DESCRIPTION:
URL:https://www.algonquintownship.com/event/monday-chair-yoga/2027-03-15/
LOCATION:Meeting room #2 Board Room\, 3702 U.S. Highway 14\, Crystal Lake\, IL\, 60012\, United States
END:VEVENT
BEGIN:VEVENT
DTSTART;TZID=America/Chicago:20270316T180000
DTEND;TZID=America/Chicago:20270316T200000
DTSTAMP:20260423T122533
CREATED:20240617T142319Z
LAST-MODIFIED:20250204T162209Z
UID:10007336-1805220000-1805227200@www.algonquintownship.com
SUMMARY:TOPS
DESCRIPTION:TOPS – Taking off Pounds Sensibly.  Meets every Tuesday 6pm-8pm.
URL:https://www.algonquintownship.com/event/tops-2025-02-04/2027-03-16/
LOCATION:Meeting room #2 Board Room\, 3702 U.S. Highway 14\, Crystal Lake\, IL\, 60012\, United States
END:VEVENT
BEGIN:VEVENT
DTSTART;TZID=America/Chicago:20270317T090000
DTEND;TZID=America/Chicago:20270317T130000
DTSTAMP:20260423T122533
CREATED:20240617T142826Z
LAST-MODIFIED:20240617T142826Z
UID:10004804-1805274000-1805288400@www.algonquintownship.com
SUMMARY:SWAT
DESCRIPTION:SWAT – Striders Walkers and Talkers.
URL:https://www.algonquintownship.com/event/swat/2027-03-17/
LOCATION:Meeting room #2 Board Room\, 3702 U.S. Highway 14\, Crystal Lake\, IL\, 60012\, United States
END:VEVENT
BEGIN:VEVENT
DTSTART;TZID=America/Chicago:20270319T110000
DTEND;TZID=America/Chicago:20270319T121500
DTSTAMP:20260423T122533
CREATED:20250114T142556Z
LAST-MODIFIED:20260107T153225Z
UID:10007791-1805454000-1805458500@www.algonquintownship.com
SUMMARY:Simple Strength Class
DESCRIPTION:
URL:https://www.algonquintownship.com/event/simple-strength-class/2027-03-19/
LOCATION:Meeting room #2 Board Room\, 3702 U.S. Highway 14\, Crystal Lake\, IL\, 60012\, United States
END:VEVENT
BEGIN:VEVENT
DTSTART;TZID=America/Chicago:20270320T083000
DTEND;TZID=America/Chicago:20270320T223000
DTSTAMP:20260423T122533
CREATED:20260127T173724Z
LAST-MODIFIED:20260127T173724Z
UID:10010003-1805531400-1805581800@www.algonquintownship.com
SUMMARY:Friendship Star Quilters Guild
DESCRIPTION:
URL:https://www.algonquintownship.com/event/friendship-star-quilters-guild/2027-03-20/
LOCATION:Meeting room #2 Board Room\, 3702 U.S. Highway 14\, Crystal Lake\, IL\, 60012\, United States
END:VEVENT
BEGIN:VEVENT
DTSTART;TZID=America/Chicago:20270322T101500
DTEND;TZID=America/Chicago:20270322T111500
DTSTAMP:20260423T122533
CREATED:20240617T133653Z
LAST-MODIFIED:20260107T153547Z
UID:10009720-1805710500-1805714100@www.algonquintownship.com
SUMMARY:Monday Chair Yoga
DESCRIPTION:
URL:https://www.algonquintownship.com/event/monday-chair-yoga/2027-03-22/
LOCATION:Meeting room #2 Board Room\, 3702 U.S. Highway 14\, Crystal Lake\, IL\, 60012\, United States
END:VEVENT
BEGIN:VEVENT
DTSTART;TZID=America/Chicago:20270323T100000
DTEND;TZID=America/Chicago:20270323T140000
DTSTAMP:20260423T122533
CREATED:20250909T183922Z
LAST-MODIFIED:20250909T183924Z
UID:10008598-1805796000-1805810400@www.algonquintownship.com
SUMMARY:Computer Class
DESCRIPTION:Personalized Computer Class.  Meets every other Tuesday.  This is a one-on-one class for 1 hour sessions beginning at 10am
URL:https://www.algonquintownship.com/event/computer-class-2/2027-03-23/
LOCATION:Meeting room #2 Board Room\, 3702 U.S. Highway 14\, Crystal Lake\, IL\, 60012\, United States
END:VEVENT
BEGIN:VEVENT
DTSTART;TZID=America/Chicago:20270323T180000
DTEND;TZID=America/Chicago:20270323T200000
DTSTAMP:20260423T122533
CREATED:20240617T142319Z
LAST-MODIFIED:20250204T162209Z
UID:10007337-1805824800-1805832000@www.algonquintownship.com
SUMMARY:TOPS
DESCRIPTION:TOPS – Taking off Pounds Sensibly.  Meets every Tuesday 6pm-8pm.
URL:https://www.algonquintownship.com/event/tops-2025-02-04/2027-03-23/
LOCATION:Meeting room #2 Board Room\, 3702 U.S. Highway 14\, Crystal Lake\, IL\, 60012\, United States
END:VEVENT
BEGIN:VEVENT
DTSTART;TZID=America/Chicago:20270324T090000
DTEND;TZID=America/Chicago:20270324T130000
DTSTAMP:20260423T122533
CREATED:20240617T142826Z
LAST-MODIFIED:20240617T142826Z
UID:10004805-1805878800-1805893200@www.algonquintownship.com
SUMMARY:SWAT
DESCRIPTION:SWAT – Striders Walkers and Talkers.
URL:https://www.algonquintownship.com/event/swat/2027-03-24/
LOCATION:Meeting room #2 Board Room\, 3702 U.S. Highway 14\, Crystal Lake\, IL\, 60012\, United States
END:VEVENT
BEGIN:VEVENT
DTSTART;TZID=America/Chicago:20270325T073000
DTEND;TZID=America/Chicago:20270325T090000
DTSTAMP:20260423T122533
CREATED:20240617T164633Z
LAST-MODIFIED:20260127T184340Z
UID:10005762-1805959800-1805965200@www.algonquintownship.com
SUMMARY:Toastmasters / Crystal Clear
DESCRIPTION:
URL:https://www.algonquintownship.com/event/toastmasters-crystal-clear/2027-03-25/
LOCATION:Meeting room #2 Board Room\, 3702 U.S. Highway 14\, Crystal Lake\, IL\, 60012\, United States
END:VEVENT
BEGIN:VEVENT
DTSTART;TZID=America/Chicago:20270325T170000
DTEND;TZID=America/Chicago:20270325T210000
DTSTAMP:20260423T122533
CREATED:20240617T153753Z
LAST-MODIFIED:20240617T153753Z
UID:10005810-1805994000-1806008400@www.algonquintownship.com
SUMMARY:Amvets
DESCRIPTION:
URL:https://www.algonquintownship.com/event/amvets/2027-03-25/
LOCATION:Meeting room #2 Board Room\, 3702 U.S. Highway 14\, Crystal Lake\, IL\, 60012\, United States
END:VEVENT
BEGIN:VEVENT
DTSTART;TZID=America/Chicago:20270326T110000
DTEND;TZID=America/Chicago:20270326T121500
DTSTAMP:20260423T122533
CREATED:20250114T142556Z
LAST-MODIFIED:20260107T153225Z
UID:10007792-1806058800-1806063300@www.algonquintownship.com
SUMMARY:Simple Strength Class
DESCRIPTION:
URL:https://www.algonquintownship.com/event/simple-strength-class/2027-03-26/
LOCATION:Meeting room #2 Board Room\, 3702 U.S. Highway 14\, Crystal Lake\, IL\, 60012\, United States
END:VEVENT
BEGIN:VEVENT
DTSTART;TZID=America/Chicago:20270329T101500
DTEND;TZID=America/Chicago:20270329T111500
DTSTAMP:20260423T122533
CREATED:20240617T133653Z
LAST-MODIFIED:20260107T153547Z
UID:10009721-1806315300-1806318900@www.algonquintownship.com
SUMMARY:Monday Chair Yoga
DESCRIPTION:
URL:https://www.algonquintownship.com/event/monday-chair-yoga/2027-03-29/
LOCATION:Meeting room #2 Board Room\, 3702 U.S. Highway 14\, Crystal Lake\, IL\, 60012\, United States
END:VEVENT
BEGIN:VEVENT
DTSTART;TZID=America/Chicago:20270330T180000
DTEND;TZID=America/Chicago:20270330T200000
DTSTAMP:20260423T122533
CREATED:20240617T142319Z
LAST-MODIFIED:20250204T162209Z
UID:10007338-1806429600-1806436800@www.algonquintownship.com
SUMMARY:TOPS
DESCRIPTION:TOPS – Taking off Pounds Sensibly.  Meets every Tuesday 6pm-8pm.
URL:https://www.algonquintownship.com/event/tops-2025-02-04/2027-03-30/
LOCATION:Meeting room #2 Board Room\, 3702 U.S. Highway 14\, Crystal Lake\, IL\, 60012\, United States
END:VEVENT
BEGIN:VEVENT
DTSTART;TZID=America/Chicago:20270331T090000
DTEND;TZID=America/Chicago:20270331T130000
DTSTAMP:20260423T122533
CREATED:20240617T142826Z
LAST-MODIFIED:20240617T142826Z
UID:10004806-1806483600-1806498000@www.algonquintownship.com
SUMMARY:SWAT
DESCRIPTION:SWAT – Striders Walkers and Talkers.
URL:https://www.algonquintownship.com/event/swat/2027-03-31/
LOCATION:Meeting room #2 Board Room\, 3702 U.S. Highway 14\, Crystal Lake\, IL\, 60012\, United States
END:VEVENT
BEGIN:VEVENT
DTSTART;TZID=America/Chicago:20270331T180000
DTEND;TZID=America/Chicago:20270331T210000
DTSTAMP:20260423T122533
CREATED:20240617T153424Z
LAST-MODIFIED:20240617T153424Z
UID:10005714-1806516000-1806526800@www.algonquintownship.com
SUMMARY:VNC
DESCRIPTION:
URL:https://www.algonquintownship.com/event/vnc/2027-03-31/
LOCATION:Meeting room #2 Board Room\, 3702 U.S. Highway 14\, Crystal Lake\, IL\, 60012\, United States
END:VEVENT
BEGIN:VEVENT
DTSTART;TZID=America/Chicago:20270402T110000
DTEND;TZID=America/Chicago:20270402T121500
DTSTAMP:20260423T122533
CREATED:20250114T142556Z
LAST-MODIFIED:20260107T153225Z
UID:10007793-1806663600-1806668100@www.algonquintownship.com
SUMMARY:Simple Strength Class
DESCRIPTION:
URL:https://www.algonquintownship.com/event/simple-strength-class/2027-04-02/
LOCATION:Meeting room #2 Board Room\, 3702 U.S. Highway 14\, Crystal Lake\, IL\, 60012\, United States
END:VEVENT
BEGIN:VEVENT
DTSTART;TZID=America/Chicago:20270403T090000
DTEND;TZID=America/Chicago:20270403T150000
DTSTAMP:20260423T122533
CREATED:20240617T165815Z
LAST-MODIFIED:20240617T165815Z
UID:10006211-1806742800-1806764400@www.algonquintownship.com
SUMMARY:Country Quilters
DESCRIPTION:
URL:https://www.algonquintownship.com/event/country-quilters/2027-04-03/
LOCATION:Meeting room #2 Board Room\, 3702 U.S. Highway 14\, Crystal Lake\, IL\, 60012\, United States
END:VEVENT
BEGIN:VEVENT
DTSTART;TZID=America/Chicago:20270405T101500
DTEND;TZID=America/Chicago:20270405T111500
DTSTAMP:20260423T122533
CREATED:20240617T133653Z
LAST-MODIFIED:20260107T153547Z
UID:10009722-1806920100-1806923700@www.algonquintownship.com
SUMMARY:Monday Chair Yoga
DESCRIPTION:
URL:https://www.algonquintownship.com/event/monday-chair-yoga/2027-04-05/
LOCATION:Meeting room #2 Board Room\, 3702 U.S. Highway 14\, Crystal Lake\, IL\, 60012\, United States
END:VEVENT
BEGIN:VEVENT
DTSTART;TZID=America/Chicago:20270406T100000
DTEND;TZID=America/Chicago:20270406T140000
DTSTAMP:20260423T122533
CREATED:20250909T183922Z
LAST-MODIFIED:20250909T183924Z
UID:10008599-1807005600-1807020000@www.algonquintownship.com
SUMMARY:Computer Class
DESCRIPTION:Personalized Computer Class.  Meets every other Tuesday.  This is a one-on-one class for 1 hour sessions beginning at 10am
URL:https://www.algonquintownship.com/event/computer-class-2/2027-04-06/
LOCATION:Meeting room #2 Board Room\, 3702 U.S. Highway 14\, Crystal Lake\, IL\, 60012\, United States
END:VEVENT
BEGIN:VEVENT
DTSTART;TZID=America/Chicago:20270406T180000
DTEND;TZID=America/Chicago:20270406T200000
DTSTAMP:20260423T122533
CREATED:20240617T142319Z
LAST-MODIFIED:20250204T162209Z
UID:10007339-1807034400-1807041600@www.algonquintownship.com
SUMMARY:TOPS
DESCRIPTION:TOPS – Taking off Pounds Sensibly.  Meets every Tuesday 6pm-8pm.
URL:https://www.algonquintownship.com/event/tops-2025-02-04/2027-04-06/
LOCATION:Meeting room #2 Board Room\, 3702 U.S. Highway 14\, Crystal Lake\, IL\, 60012\, United States
END:VEVENT
BEGIN:VEVENT
DTSTART;TZID=America/Chicago:20270407T090000
DTEND;TZID=America/Chicago:20270407T130000
DTSTAMP:20260423T122533
CREATED:20240617T142826Z
LAST-MODIFIED:20240617T142826Z
UID:10004807-1807088400-1807102800@www.algonquintownship.com
SUMMARY:SWAT
DESCRIPTION:SWAT – Striders Walkers and Talkers.
URL:https://www.algonquintownship.com/event/swat/2027-04-07/
LOCATION:Meeting room #2 Board Room\, 3702 U.S. Highway 14\, Crystal Lake\, IL\, 60012\, United States
END:VEVENT
BEGIN:VEVENT
DTSTART;TZID=America/Chicago:20270408T073000
DTEND;TZID=America/Chicago:20270408T090000
DTSTAMP:20260423T122533
CREATED:20240617T164830Z
LAST-MODIFIED:20240625T191954Z
UID:10006403-1807169400-1807174800@www.algonquintownship.com
SUMMARY:Toastmasters / Crystal Clear
DESCRIPTION:
URL:https://www.algonquintownship.com/event/toastmasters-crystal-clear-2-2024-07-11/2027-04-08/
LOCATION:Meeting room #2 Board Room\, 3702 U.S. Highway 14\, Crystal Lake\, IL\, 60012\, United States
END:VEVENT
END:VCALENDAR