BEGIN:VCALENDAR
VERSION:2.0
PRODID:-//Algonquin Township - ECPv6.15.18//NONSGML v1.0//EN
CALSCALE:GREGORIAN
METHOD:PUBLISH
X-ORIGINAL-URL:https://www.algonquintownship.com
X-WR-CALDESC:Events for Algonquin Township
REFRESH-INTERVAL;VALUE=DURATION:PT1H
X-Robots-Tag:noindex
X-PUBLISHED-TTL:PT1H
BEGIN:VTIMEZONE
TZID:America/Chicago
BEGIN:DAYLIGHT
TZOFFSETFROM:-0600
TZOFFSETTO:-0500
TZNAME:CDT
DTSTART:20260308T080000
END:DAYLIGHT
BEGIN:STANDARD
TZOFFSETFROM:-0500
TZOFFSETTO:-0600
TZNAME:CST
DTSTART:20261101T070000
END:STANDARD
BEGIN:DAYLIGHT
TZOFFSETFROM:-0600
TZOFFSETTO:-0500
TZNAME:CDT
DTSTART:20270314T080000
END:DAYLIGHT
BEGIN:STANDARD
TZOFFSETFROM:-0500
TZOFFSETTO:-0600
TZNAME:CST
DTSTART:20271107T070000
END:STANDARD
BEGIN:DAYLIGHT
TZOFFSETFROM:-0600
TZOFFSETTO:-0500
TZNAME:CDT
DTSTART:20280312T080000
END:DAYLIGHT
BEGIN:STANDARD
TZOFFSETFROM:-0500
TZOFFSETTO:-0600
TZNAME:CST
DTSTART:20281105T070000
END:STANDARD
END:VTIMEZONE
BEGIN:VEVENT
DTSTART;TZID=America/Chicago:20270210T090000
DTEND;TZID=America/Chicago:20270210T130000
DTSTAMP:20260423T075722
CREATED:20240617T142826Z
LAST-MODIFIED:20240617T142826Z
UID:10004799-1802250000-1802264400@www.algonquintownship.com
SUMMARY:SWAT
DESCRIPTION:SWAT – Striders Walkers and Talkers.
URL:https://www.algonquintownship.com/event/swat/2027-02-10/
LOCATION:Meeting room #2 Board Room\, 3702 U.S. Highway 14\, Crystal Lake\, IL\, 60012\, United States
END:VEVENT
BEGIN:VEVENT
DTSTART;TZID=America/Chicago:20270210T190000
DTEND;TZID=America/Chicago:20270210T210000
DTSTAMP:20260423T075722
CREATED:20240617T171043Z
LAST-MODIFIED:20240710T133539Z
UID:10006660-1802286000-1802293200@www.algonquintownship.com
SUMMARY:Algonquin Township Board Meeting
DESCRIPTION:
URL:https://www.algonquintownship.com/event/algonquin-township-board-meeting-2024-08-14/2027-02-10/
LOCATION:Meeting room #2 Board Room\, 3702 U.S. Highway 14\, Crystal Lake\, IL\, 60012\, United States
END:VEVENT
BEGIN:VEVENT
DTSTART;TZID=America/Chicago:20270211T073000
DTEND;TZID=America/Chicago:20270211T090000
DTSTAMP:20260423T075722
CREATED:20240617T164830Z
LAST-MODIFIED:20240625T191954Z
UID:10006401-1802331000-1802336400@www.algonquintownship.com
SUMMARY:Toastmasters / Crystal Clear
DESCRIPTION:
URL:https://www.algonquintownship.com/event/toastmasters-crystal-clear-2-2024-07-11/2027-02-11/
LOCATION:Meeting room #2 Board Room\, 3702 U.S. Highway 14\, Crystal Lake\, IL\, 60012\, United States
END:VEVENT
BEGIN:VEVENT
DTSTART;TZID=America/Chicago:20270211T183000
DTEND;TZID=America/Chicago:20270211T220000
DTSTAMP:20260423T075722
CREATED:20240617T152947Z
LAST-MODIFIED:20260127T173342Z
UID:10006449-1802370600-1802383200@www.algonquintownship.com
SUMMARY:Friendship Star Quilters Guild
DESCRIPTION:
URL:https://www.algonquintownship.com/event/friendship-star-quilters-guild-2/2027-02-11/
LOCATION:Meeting room #2 Board Room\, 3702 U.S. Highway 14\, Crystal Lake\, IL\, 60012\, United States
END:VEVENT
BEGIN:VEVENT
DTSTART;TZID=America/Chicago:20270212T110000
DTEND;TZID=America/Chicago:20270212T121500
DTSTAMP:20260423T075722
CREATED:20250114T142556Z
LAST-MODIFIED:20260107T153225Z
UID:10007786-1802430000-1802434500@www.algonquintownship.com
SUMMARY:Simple Strength Class
DESCRIPTION:
URL:https://www.algonquintownship.com/event/simple-strength-class/2027-02-12/
LOCATION:Meeting room #2 Board Room\, 3702 U.S. Highway 14\, Crystal Lake\, IL\, 60012\, United States
END:VEVENT
BEGIN:VEVENT
DTSTART;TZID=America/Chicago:20270215T101500
DTEND;TZID=America/Chicago:20270215T111500
DTSTAMP:20260423T075722
CREATED:20240617T133653Z
LAST-MODIFIED:20260107T153547Z
UID:10009715-1802686500-1802690100@www.algonquintownship.com
SUMMARY:Monday Chair Yoga
DESCRIPTION:
URL:https://www.algonquintownship.com/event/monday-chair-yoga/2027-02-15/
LOCATION:Meeting room #2 Board Room\, 3702 U.S. Highway 14\, Crystal Lake\, IL\, 60012\, United States
END:VEVENT
BEGIN:VEVENT
DTSTART;TZID=America/Chicago:20270216T180000
DTEND;TZID=America/Chicago:20270216T200000
DTSTAMP:20260423T075722
CREATED:20240617T142319Z
LAST-MODIFIED:20250204T162209Z
UID:10007332-1802800800-1802808000@www.algonquintownship.com
SUMMARY:TOPS
DESCRIPTION:TOPS – Taking off Pounds Sensibly.  Meets every Tuesday 6pm-8pm.
URL:https://www.algonquintownship.com/event/tops-2025-02-04/2027-02-16/
LOCATION:Meeting room #2 Board Room\, 3702 U.S. Highway 14\, Crystal Lake\, IL\, 60012\, United States
END:VEVENT
BEGIN:VEVENT
DTSTART;TZID=America/Chicago:20270217T090000
DTEND;TZID=America/Chicago:20270217T130000
DTSTAMP:20260423T075722
CREATED:20240617T142826Z
LAST-MODIFIED:20240617T142826Z
UID:10004800-1802854800-1802869200@www.algonquintownship.com
SUMMARY:SWAT
DESCRIPTION:SWAT – Striders Walkers and Talkers.
URL:https://www.algonquintownship.com/event/swat/2027-02-17/
LOCATION:Meeting room #2 Board Room\, 3702 U.S. Highway 14\, Crystal Lake\, IL\, 60012\, United States
END:VEVENT
BEGIN:VEVENT
DTSTART;TZID=America/Chicago:20270219T110000
DTEND;TZID=America/Chicago:20270219T121500
DTSTAMP:20260423T075722
CREATED:20250114T142556Z
LAST-MODIFIED:20260107T153225Z
UID:10007787-1803034800-1803039300@www.algonquintownship.com
SUMMARY:Simple Strength Class
DESCRIPTION:
URL:https://www.algonquintownship.com/event/simple-strength-class/2027-02-19/
LOCATION:Meeting room #2 Board Room\, 3702 U.S. Highway 14\, Crystal Lake\, IL\, 60012\, United States
END:VEVENT
BEGIN:VEVENT
DTSTART;TZID=America/Chicago:20270220T083000
DTEND;TZID=America/Chicago:20270220T223000
DTSTAMP:20260423T075722
CREATED:20260127T173724Z
LAST-MODIFIED:20260127T173724Z
UID:10010002-1803112200-1803162600@www.algonquintownship.com
SUMMARY:Friendship Star Quilters Guild
DESCRIPTION:
URL:https://www.algonquintownship.com/event/friendship-star-quilters-guild/2027-02-20/
LOCATION:Meeting room #2 Board Room\, 3702 U.S. Highway 14\, Crystal Lake\, IL\, 60012\, United States
END:VEVENT
BEGIN:VEVENT
DTSTART;TZID=America/Chicago:20270222T101500
DTEND;TZID=America/Chicago:20270222T111500
DTSTAMP:20260423T075722
CREATED:20240617T133653Z
LAST-MODIFIED:20260107T153547Z
UID:10009716-1803291300-1803294900@www.algonquintownship.com
SUMMARY:Monday Chair Yoga
DESCRIPTION:
URL:https://www.algonquintownship.com/event/monday-chair-yoga/2027-02-22/
LOCATION:Meeting room #2 Board Room\, 3702 U.S. Highway 14\, Crystal Lake\, IL\, 60012\, United States
END:VEVENT
BEGIN:VEVENT
DTSTART;TZID=America/Chicago:20270223T100000
DTEND;TZID=America/Chicago:20270223T140000
DTSTAMP:20260423T075722
CREATED:20250909T183922Z
LAST-MODIFIED:20250909T183924Z
UID:10008596-1803376800-1803391200@www.algonquintownship.com
SUMMARY:Computer Class
DESCRIPTION:Personalized Computer Class.  Meets every other Tuesday.  This is a one-on-one class for 1 hour sessions beginning at 10am
URL:https://www.algonquintownship.com/event/computer-class-2/2027-02-23/
LOCATION:Meeting room #2 Board Room\, 3702 U.S. Highway 14\, Crystal Lake\, IL\, 60012\, United States
END:VEVENT
BEGIN:VEVENT
DTSTART;TZID=America/Chicago:20270223T180000
DTEND;TZID=America/Chicago:20270223T200000
DTSTAMP:20260423T075722
CREATED:20240617T142319Z
LAST-MODIFIED:20250204T162209Z
UID:10007333-1803405600-1803412800@www.algonquintownship.com
SUMMARY:TOPS
DESCRIPTION:TOPS – Taking off Pounds Sensibly.  Meets every Tuesday 6pm-8pm.
URL:https://www.algonquintownship.com/event/tops-2025-02-04/2027-02-23/
LOCATION:Meeting room #2 Board Room\, 3702 U.S. Highway 14\, Crystal Lake\, IL\, 60012\, United States
END:VEVENT
BEGIN:VEVENT
DTSTART;TZID=America/Chicago:20270224T090000
DTEND;TZID=America/Chicago:20270224T130000
DTSTAMP:20260423T075722
CREATED:20240617T142826Z
LAST-MODIFIED:20240617T142826Z
UID:10004801-1803459600-1803474000@www.algonquintownship.com
SUMMARY:SWAT
DESCRIPTION:SWAT – Striders Walkers and Talkers.
URL:https://www.algonquintownship.com/event/swat/2027-02-24/
LOCATION:Meeting room #2 Board Room\, 3702 U.S. Highway 14\, Crystal Lake\, IL\, 60012\, United States
END:VEVENT
BEGIN:VEVENT
DTSTART;TZID=America/Chicago:20270224T180000
DTEND;TZID=America/Chicago:20270224T210000
DTSTAMP:20260423T075722
CREATED:20240617T153424Z
LAST-MODIFIED:20240617T153424Z
UID:10005713-1803492000-1803502800@www.algonquintownship.com
SUMMARY:VNC
DESCRIPTION:
URL:https://www.algonquintownship.com/event/vnc/2027-02-24/
LOCATION:Meeting room #2 Board Room\, 3702 U.S. Highway 14\, Crystal Lake\, IL\, 60012\, United States
END:VEVENT
BEGIN:VEVENT
DTSTART;TZID=America/Chicago:20270225T073000
DTEND;TZID=America/Chicago:20270225T090000
DTSTAMP:20260423T075722
CREATED:20240617T164633Z
LAST-MODIFIED:20260127T184340Z
UID:10005761-1803540600-1803546000@www.algonquintownship.com
SUMMARY:Toastmasters / Crystal Clear
DESCRIPTION:
URL:https://www.algonquintownship.com/event/toastmasters-crystal-clear/2027-02-25/
LOCATION:Meeting room #2 Board Room\, 3702 U.S. Highway 14\, Crystal Lake\, IL\, 60012\, United States
END:VEVENT
BEGIN:VEVENT
DTSTART;TZID=America/Chicago:20270225T170000
DTEND;TZID=America/Chicago:20270225T210000
DTSTAMP:20260423T075722
CREATED:20240617T153753Z
LAST-MODIFIED:20240617T153753Z
UID:10005809-1803574800-1803589200@www.algonquintownship.com
SUMMARY:Amvets
DESCRIPTION:
URL:https://www.algonquintownship.com/event/amvets/2027-02-25/
LOCATION:Meeting room #2 Board Room\, 3702 U.S. Highway 14\, Crystal Lake\, IL\, 60012\, United States
END:VEVENT
BEGIN:VEVENT
DTSTART;TZID=America/Chicago:20270226T110000
DTEND;TZID=America/Chicago:20270226T121500
DTSTAMP:20260423T075722
CREATED:20250114T142556Z
LAST-MODIFIED:20260107T153225Z
UID:10007788-1803639600-1803644100@www.algonquintownship.com
SUMMARY:Simple Strength Class
DESCRIPTION:
URL:https://www.algonquintownship.com/event/simple-strength-class/2027-02-26/
LOCATION:Meeting room #2 Board Room\, 3702 U.S. Highway 14\, Crystal Lake\, IL\, 60012\, United States
END:VEVENT
BEGIN:VEVENT
DTSTART;TZID=America/Chicago:20270301T101500
DTEND;TZID=America/Chicago:20270301T111500
DTSTAMP:20260423T075722
CREATED:20240617T133653Z
LAST-MODIFIED:20260107T153547Z
UID:10009717-1803896100-1803899700@www.algonquintownship.com
SUMMARY:Monday Chair Yoga
DESCRIPTION:
URL:https://www.algonquintownship.com/event/monday-chair-yoga/2027-03-01/
LOCATION:Meeting room #2 Board Room\, 3702 U.S. Highway 14\, Crystal Lake\, IL\, 60012\, United States
END:VEVENT
BEGIN:VEVENT
DTSTART;TZID=America/Chicago:20270302T180000
DTEND;TZID=America/Chicago:20270302T200000
DTSTAMP:20260423T075722
CREATED:20240617T142319Z
LAST-MODIFIED:20250204T162209Z
UID:10007334-1804010400-1804017600@www.algonquintownship.com
SUMMARY:TOPS
DESCRIPTION:TOPS – Taking off Pounds Sensibly.  Meets every Tuesday 6pm-8pm.
URL:https://www.algonquintownship.com/event/tops-2025-02-04/2027-03-02/
LOCATION:Meeting room #2 Board Room\, 3702 U.S. Highway 14\, Crystal Lake\, IL\, 60012\, United States
END:VEVENT
BEGIN:VEVENT
DTSTART;TZID=America/Chicago:20270303T090000
DTEND;TZID=America/Chicago:20270303T130000
DTSTAMP:20260423T075722
CREATED:20240617T142826Z
LAST-MODIFIED:20240617T142826Z
UID:10004802-1804064400-1804078800@www.algonquintownship.com
SUMMARY:SWAT
DESCRIPTION:SWAT – Striders Walkers and Talkers.
URL:https://www.algonquintownship.com/event/swat/2027-03-03/
LOCATION:Meeting room #2 Board Room\, 3702 U.S. Highway 14\, Crystal Lake\, IL\, 60012\, United States
END:VEVENT
BEGIN:VEVENT
DTSTART;TZID=America/Chicago:20270305T110000
DTEND;TZID=America/Chicago:20270305T121500
DTSTAMP:20260423T075722
CREATED:20250114T142556Z
LAST-MODIFIED:20260107T153225Z
UID:10007789-1804244400-1804248900@www.algonquintownship.com
SUMMARY:Simple Strength Class
DESCRIPTION:
URL:https://www.algonquintownship.com/event/simple-strength-class/2027-03-05/
LOCATION:Meeting room #2 Board Room\, 3702 U.S. Highway 14\, Crystal Lake\, IL\, 60012\, United States
END:VEVENT
BEGIN:VEVENT
DTSTART;TZID=America/Chicago:20270306T090000
DTEND;TZID=America/Chicago:20270306T150000
DTSTAMP:20260423T075722
CREATED:20240617T165815Z
LAST-MODIFIED:20240617T165815Z
UID:10006210-1804323600-1804345200@www.algonquintownship.com
SUMMARY:Country Quilters
DESCRIPTION:
URL:https://www.algonquintownship.com/event/country-quilters/2027-03-06/
LOCATION:Meeting room #2 Board Room\, 3702 U.S. Highway 14\, Crystal Lake\, IL\, 60012\, United States
END:VEVENT
BEGIN:VEVENT
DTSTART;TZID=America/Chicago:20270308T101500
DTEND;TZID=America/Chicago:20270308T111500
DTSTAMP:20260423T075722
CREATED:20240617T133653Z
LAST-MODIFIED:20260107T153547Z
UID:10009718-1804500900-1804504500@www.algonquintownship.com
SUMMARY:Monday Chair Yoga
DESCRIPTION:
URL:https://www.algonquintownship.com/event/monday-chair-yoga/2027-03-08/
LOCATION:Meeting room #2 Board Room\, 3702 U.S. Highway 14\, Crystal Lake\, IL\, 60012\, United States
END:VEVENT
BEGIN:VEVENT
DTSTART;TZID=America/Chicago:20270309T100000
DTEND;TZID=America/Chicago:20270309T140000
DTSTAMP:20260423T075722
CREATED:20250909T183922Z
LAST-MODIFIED:20250909T183924Z
UID:10008597-1804586400-1804600800@www.algonquintownship.com
SUMMARY:Computer Class
DESCRIPTION:Personalized Computer Class.  Meets every other Tuesday.  This is a one-on-one class for 1 hour sessions beginning at 10am
URL:https://www.algonquintownship.com/event/computer-class-2/2027-03-09/
LOCATION:Meeting room #2 Board Room\, 3702 U.S. Highway 14\, Crystal Lake\, IL\, 60012\, United States
END:VEVENT
BEGIN:VEVENT
DTSTART;TZID=America/Chicago:20270309T180000
DTEND;TZID=America/Chicago:20270309T200000
DTSTAMP:20260423T075722
CREATED:20240617T142319Z
LAST-MODIFIED:20250204T162209Z
UID:10007335-1804615200-1804622400@www.algonquintownship.com
SUMMARY:TOPS
DESCRIPTION:TOPS – Taking off Pounds Sensibly.  Meets every Tuesday 6pm-8pm.
URL:https://www.algonquintownship.com/event/tops-2025-02-04/2027-03-09/
LOCATION:Meeting room #2 Board Room\, 3702 U.S. Highway 14\, Crystal Lake\, IL\, 60012\, United States
END:VEVENT
BEGIN:VEVENT
DTSTART;TZID=America/Chicago:20270309T180000
DTEND;TZID=America/Chicago:20270309T210000
DTSTAMP:20260423T075722
CREATED:20240617T170852Z
LAST-MODIFIED:20240617T170852Z
UID:10006354-1804615200-1804626000@www.algonquintownship.com
SUMMARY:Crystal Lake Camera Club
DESCRIPTION:
URL:https://www.algonquintownship.com/event/crystal-lake-camera-club/2027-03-09/
LOCATION:Meeting room #2 Board Room\, 3702 U.S. Highway 14\, Crystal Lake\, IL\, 60012\, United States
END:VEVENT
BEGIN:VEVENT
DTSTART;TZID=America/Chicago:20270310T090000
DTEND;TZID=America/Chicago:20270310T130000
DTSTAMP:20260423T075722
CREATED:20240617T142826Z
LAST-MODIFIED:20240617T142826Z
UID:10004803-1804669200-1804683600@www.algonquintownship.com
SUMMARY:SWAT
DESCRIPTION:SWAT – Striders Walkers and Talkers.
URL:https://www.algonquintownship.com/event/swat/2027-03-10/
LOCATION:Meeting room #2 Board Room\, 3702 U.S. Highway 14\, Crystal Lake\, IL\, 60012\, United States
END:VEVENT
BEGIN:VEVENT
DTSTART;TZID=America/Chicago:20270310T190000
DTEND;TZID=America/Chicago:20270310T210000
DTSTAMP:20260423T075722
CREATED:20240617T171043Z
LAST-MODIFIED:20240710T133539Z
UID:10006661-1804705200-1804712400@www.algonquintownship.com
SUMMARY:Algonquin Township Board Meeting
DESCRIPTION:
URL:https://www.algonquintownship.com/event/algonquin-township-board-meeting-2024-08-14/2027-03-10/
LOCATION:Meeting room #2 Board Room\, 3702 U.S. Highway 14\, Crystal Lake\, IL\, 60012\, United States
END:VEVENT
BEGIN:VEVENT
DTSTART;TZID=America/Chicago:20270311T073000
DTEND;TZID=America/Chicago:20270311T090000
DTSTAMP:20260423T075722
CREATED:20240617T164830Z
LAST-MODIFIED:20240625T191954Z
UID:10006402-1804750200-1804755600@www.algonquintownship.com
SUMMARY:Toastmasters / Crystal Clear
DESCRIPTION:
URL:https://www.algonquintownship.com/event/toastmasters-crystal-clear-2-2024-07-11/2027-03-11/
LOCATION:Meeting room #2 Board Room\, 3702 U.S. Highway 14\, Crystal Lake\, IL\, 60012\, United States
END:VEVENT
END:VCALENDAR