BEGIN:VCALENDAR
VERSION:2.0
PRODID:-//Algonquin Township - ECPv6.15.18//NONSGML v1.0//EN
CALSCALE:GREGORIAN
METHOD:PUBLISH
X-WR-CALNAME:Algonquin Township
X-ORIGINAL-URL:https://www.algonquintownship.com
X-WR-CALDESC:Events for Algonquin Township
REFRESH-INTERVAL;VALUE=DURATION:PT1H
X-Robots-Tag:noindex
X-PUBLISHED-TTL:PT1H
BEGIN:VTIMEZONE
TZID:America/Chicago
BEGIN:DAYLIGHT
TZOFFSETFROM:-0600
TZOFFSETTO:-0500
TZNAME:CDT
DTSTART:20250309T080000
END:DAYLIGHT
BEGIN:STANDARD
TZOFFSETFROM:-0500
TZOFFSETTO:-0600
TZNAME:CST
DTSTART:20251102T070000
END:STANDARD
BEGIN:DAYLIGHT
TZOFFSETFROM:-0600
TZOFFSETTO:-0500
TZNAME:CDT
DTSTART:20260308T080000
END:DAYLIGHT
BEGIN:STANDARD
TZOFFSETFROM:-0500
TZOFFSETTO:-0600
TZNAME:CST
DTSTART:20261101T070000
END:STANDARD
BEGIN:DAYLIGHT
TZOFFSETFROM:-0600
TZOFFSETTO:-0500
TZNAME:CDT
DTSTART:20270314T080000
END:DAYLIGHT
BEGIN:STANDARD
TZOFFSETFROM:-0500
TZOFFSETTO:-0600
TZNAME:CST
DTSTART:20271107T070000
END:STANDARD
END:VTIMEZONE
BEGIN:VEVENT
DTSTART;TZID=America/Chicago:20261103T100000
DTEND;TZID=America/Chicago:20261103T140000
DTSTAMP:20260422T170138
CREATED:20250909T183922Z
LAST-MODIFIED:20250909T183924Z
UID:10008588-1793700000-1793714400@www.algonquintownship.com
SUMMARY:Computer Class
DESCRIPTION:Personalized Computer Class.  Meets every other Tuesday.  This is a one-on-one class for 1 hour sessions beginning at 10am
URL:https://www.algonquintownship.com/event/computer-class-2/2026-11-03/
LOCATION:Meeting room #2 Board Room\, 3702 U.S. Highway 14\, Crystal Lake\, IL\, 60012\, United States
END:VEVENT
BEGIN:VEVENT
DTSTART;TZID=America/Chicago:20261103T180000
DTEND;TZID=America/Chicago:20261103T200000
DTSTAMP:20260422T170138
CREATED:20240617T142319Z
LAST-MODIFIED:20250204T162209Z
UID:10007317-1793728800-1793736000@www.algonquintownship.com
SUMMARY:TOPS
DESCRIPTION:TOPS – Taking off Pounds Sensibly.  Meets every Tuesday 6pm-8pm.
URL:https://www.algonquintownship.com/event/tops-2025-02-04/2026-11-03/
LOCATION:Meeting room #2 Board Room\, 3702 U.S. Highway 14\, Crystal Lake\, IL\, 60012\, United States
END:VEVENT
BEGIN:VEVENT
DTSTART;TZID=America/Chicago:20261104T090000
DTEND;TZID=America/Chicago:20261104T130000
DTSTAMP:20260422T170138
CREATED:20240617T142826Z
LAST-MODIFIED:20240617T142826Z
UID:10004785-1793782800-1793797200@www.algonquintownship.com
SUMMARY:SWAT
DESCRIPTION:SWAT – Striders Walkers and Talkers.
URL:https://www.algonquintownship.com/event/swat/2026-11-04/
LOCATION:Meeting room #2 Board Room\, 3702 U.S. Highway 14\, Crystal Lake\, IL\, 60012\, United States
END:VEVENT
BEGIN:VEVENT
DTSTART;TZID=America/Chicago:20261104T190000
DTEND;TZID=America/Chicago:20261104T210000
DTSTAMP:20260422T170138
CREATED:20250121T141833Z
LAST-MODIFIED:20260127T180404Z
UID:10010019-1793818800-1793826000@www.algonquintownship.com
SUMMARY:New Haven Townhomes
DESCRIPTION:
URL:https://www.algonquintownship.com/event/new-haven-townhomes/2026-11-04/
LOCATION:Meeting room #2 Board Room\, 3702 U.S. Highway 14\, Crystal Lake\, IL\, 60012\, United States
END:VEVENT
BEGIN:VEVENT
DTSTART;TZID=America/Chicago:20261106T110000
DTEND;TZID=America/Chicago:20261106T121500
DTSTAMP:20260422T170138
CREATED:20250114T142556Z
LAST-MODIFIED:20260107T153225Z
UID:10007772-1793962800-1793967300@www.algonquintownship.com
SUMMARY:Simple Strength Class
DESCRIPTION:
URL:https://www.algonquintownship.com/event/simple-strength-class/2026-11-06/
LOCATION:Meeting room #2 Board Room\, 3702 U.S. Highway 14\, Crystal Lake\, IL\, 60012\, United States
END:VEVENT
BEGIN:VEVENT
DTSTART;TZID=America/Chicago:20261107T090000
DTEND;TZID=America/Chicago:20261107T150000
DTSTAMP:20260422T170138
CREATED:20240617T165815Z
LAST-MODIFIED:20240617T165815Z
UID:10006206-1794042000-1794063600@www.algonquintownship.com
SUMMARY:Country Quilters
DESCRIPTION:
URL:https://www.algonquintownship.com/event/country-quilters/2026-11-07/
LOCATION:Meeting room #2 Board Room\, 3702 U.S. Highway 14\, Crystal Lake\, IL\, 60012\, United States
END:VEVENT
BEGIN:VEVENT
DTSTART;TZID=America/Chicago:20261109T101500
DTEND;TZID=America/Chicago:20261109T111500
DTSTAMP:20260422T170138
CREATED:20240617T133653Z
LAST-MODIFIED:20260107T153547Z
UID:10009701-1794219300-1794222900@www.algonquintownship.com
SUMMARY:Monday Chair Yoga
DESCRIPTION:
URL:https://www.algonquintownship.com/event/monday-chair-yoga/2026-11-09/
LOCATION:Meeting room #2 Board Room\, 3702 U.S. Highway 14\, Crystal Lake\, IL\, 60012\, United States
END:VEVENT
BEGIN:VEVENT
DTSTART;TZID=America/Chicago:20261110T180000
DTEND;TZID=America/Chicago:20261110T200000
DTSTAMP:20260422T170138
CREATED:20240617T142319Z
LAST-MODIFIED:20250204T162209Z
UID:10007318-1794333600-1794340800@www.algonquintownship.com
SUMMARY:TOPS
DESCRIPTION:TOPS – Taking off Pounds Sensibly.  Meets every Tuesday 6pm-8pm.
URL:https://www.algonquintownship.com/event/tops-2025-02-04/2026-11-10/
LOCATION:Meeting room #2 Board Room\, 3702 U.S. Highway 14\, Crystal Lake\, IL\, 60012\, United States
END:VEVENT
BEGIN:VEVENT
DTSTART;TZID=America/Chicago:20261110T180000
DTEND;TZID=America/Chicago:20261110T210000
DTSTAMP:20260422T170138
CREATED:20240617T170852Z
LAST-MODIFIED:20240617T170852Z
UID:10006350-1794333600-1794344400@www.algonquintownship.com
SUMMARY:Crystal Lake Camera Club
DESCRIPTION:
URL:https://www.algonquintownship.com/event/crystal-lake-camera-club/2026-11-10/
LOCATION:Meeting room #2 Board Room\, 3702 U.S. Highway 14\, Crystal Lake\, IL\, 60012\, United States
END:VEVENT
BEGIN:VEVENT
DTSTART;TZID=America/Chicago:20261111T090000
DTEND;TZID=America/Chicago:20261111T130000
DTSTAMP:20260422T170138
CREATED:20240617T142826Z
LAST-MODIFIED:20240617T142826Z
UID:10004786-1794387600-1794402000@www.algonquintownship.com
SUMMARY:SWAT
DESCRIPTION:SWAT – Striders Walkers and Talkers.
URL:https://www.algonquintownship.com/event/swat/2026-11-11/
LOCATION:Meeting room #2 Board Room\, 3702 U.S. Highway 14\, Crystal Lake\, IL\, 60012\, United States
END:VEVENT
BEGIN:VEVENT
DTSTART;TZID=America/Chicago:20261111T190000
DTEND;TZID=America/Chicago:20261111T210000
DTSTAMP:20260422T170138
CREATED:20240617T171043Z
LAST-MODIFIED:20240710T133539Z
UID:10006657-1794423600-1794430800@www.algonquintownship.com
SUMMARY:Algonquin Township Board Meeting
DESCRIPTION:
URL:https://www.algonquintownship.com/event/algonquin-township-board-meeting-2024-08-14/2026-11-11/
LOCATION:Meeting room #2 Board Room\, 3702 U.S. Highway 14\, Crystal Lake\, IL\, 60012\, United States
END:VEVENT
BEGIN:VEVENT
DTSTART;TZID=America/Chicago:20261112T073000
DTEND;TZID=America/Chicago:20261112T090000
DTSTAMP:20260422T170138
CREATED:20240617T164830Z
LAST-MODIFIED:20240625T191954Z
UID:10006398-1794468600-1794474000@www.algonquintownship.com
SUMMARY:Toastmasters / Crystal Clear
DESCRIPTION:
URL:https://www.algonquintownship.com/event/toastmasters-crystal-clear-2-2024-07-11/2026-11-12/
LOCATION:Meeting room #2 Board Room\, 3702 U.S. Highway 14\, Crystal Lake\, IL\, 60012\, United States
END:VEVENT
BEGIN:VEVENT
DTSTART;TZID=America/Chicago:20261112T183000
DTEND;TZID=America/Chicago:20261112T220000
DTSTAMP:20260422T170138
CREATED:20240617T152947Z
LAST-MODIFIED:20260127T173342Z
UID:10006446-1794508200-1794520800@www.algonquintownship.com
SUMMARY:Friendship Star Quilters Guild
DESCRIPTION:
URL:https://www.algonquintownship.com/event/friendship-star-quilters-guild-2/2026-11-12/
LOCATION:Meeting room #2 Board Room\, 3702 U.S. Highway 14\, Crystal Lake\, IL\, 60012\, United States
END:VEVENT
BEGIN:VEVENT
DTSTART;TZID=America/Chicago:20261113T110000
DTEND;TZID=America/Chicago:20261113T121500
DTSTAMP:20260422T170138
CREATED:20250114T142556Z
LAST-MODIFIED:20260107T153225Z
UID:10007773-1794567600-1794572100@www.algonquintownship.com
SUMMARY:Simple Strength Class
DESCRIPTION:
URL:https://www.algonquintownship.com/event/simple-strength-class/2026-11-13/
LOCATION:Meeting room #2 Board Room\, 3702 U.S. Highway 14\, Crystal Lake\, IL\, 60012\, United States
END:VEVENT
BEGIN:VEVENT
DTSTART;TZID=America/Chicago:20261116T101500
DTEND;TZID=America/Chicago:20261116T111500
DTSTAMP:20260422T170138
CREATED:20240617T133653Z
LAST-MODIFIED:20260107T153547Z
UID:10009702-1794824100-1794827700@www.algonquintownship.com
SUMMARY:Monday Chair Yoga
DESCRIPTION:
URL:https://www.algonquintownship.com/event/monday-chair-yoga/2026-11-16/
LOCATION:Meeting room #2 Board Room\, 3702 U.S. Highway 14\, Crystal Lake\, IL\, 60012\, United States
END:VEVENT
BEGIN:VEVENT
DTSTART;TZID=America/Chicago:20261117T100000
DTEND;TZID=America/Chicago:20261117T140000
DTSTAMP:20260422T170138
CREATED:20250909T183922Z
LAST-MODIFIED:20250909T183924Z
UID:10008589-1794909600-1794924000@www.algonquintownship.com
SUMMARY:Computer Class
DESCRIPTION:Personalized Computer Class.  Meets every other Tuesday.  This is a one-on-one class for 1 hour sessions beginning at 10am
URL:https://www.algonquintownship.com/event/computer-class-2/2026-11-17/
LOCATION:Meeting room #2 Board Room\, 3702 U.S. Highway 14\, Crystal Lake\, IL\, 60012\, United States
END:VEVENT
BEGIN:VEVENT
DTSTART;TZID=America/Chicago:20261117T180000
DTEND;TZID=America/Chicago:20261117T200000
DTSTAMP:20260422T170138
CREATED:20240617T142319Z
LAST-MODIFIED:20250204T162209Z
UID:10007319-1794938400-1794945600@www.algonquintownship.com
SUMMARY:TOPS
DESCRIPTION:TOPS – Taking off Pounds Sensibly.  Meets every Tuesday 6pm-8pm.
URL:https://www.algonquintownship.com/event/tops-2025-02-04/2026-11-17/
LOCATION:Meeting room #2 Board Room\, 3702 U.S. Highway 14\, Crystal Lake\, IL\, 60012\, United States
END:VEVENT
BEGIN:VEVENT
DTSTART;TZID=America/Chicago:20261118T090000
DTEND;TZID=America/Chicago:20261118T130000
DTSTAMP:20260422T170138
CREATED:20240617T142826Z
LAST-MODIFIED:20240617T142826Z
UID:10004787-1794992400-1795006800@www.algonquintownship.com
SUMMARY:SWAT
DESCRIPTION:SWAT – Striders Walkers and Talkers.
URL:https://www.algonquintownship.com/event/swat/2026-11-18/
LOCATION:Meeting room #2 Board Room\, 3702 U.S. Highway 14\, Crystal Lake\, IL\, 60012\, United States
END:VEVENT
BEGIN:VEVENT
DTSTART;TZID=America/Chicago:20261118T190000
DTEND;TZID=America/Chicago:20261118T210000
DTSTAMP:20260422T170138
CREATED:20260127T145802Z
LAST-MODIFIED:20260127T145802Z
UID:10009936-1795028400-1795035600@www.algonquintownship.com
SUMMARY:Cambria HOA
DESCRIPTION:
URL:https://www.algonquintownship.com/event/cambria-hoa-2/2026-11-18/
LOCATION:Meeting room #2 Board Room\, 3702 U.S. Highway 14\, Crystal Lake\, IL\, 60012\, United States
END:VEVENT
BEGIN:VEVENT
DTSTART;TZID=America/Chicago:20261120T110000
DTEND;TZID=America/Chicago:20261120T121500
DTSTAMP:20260422T170138
CREATED:20250114T142556Z
LAST-MODIFIED:20260107T153225Z
UID:10007774-1795172400-1795176900@www.algonquintownship.com
SUMMARY:Simple Strength Class
DESCRIPTION:
URL:https://www.algonquintownship.com/event/simple-strength-class/2026-11-20/
LOCATION:Meeting room #2 Board Room\, 3702 U.S. Highway 14\, Crystal Lake\, IL\, 60012\, United States
END:VEVENT
BEGIN:VEVENT
DTSTART;TZID=America/Chicago:20261121T083000
DTEND;TZID=America/Chicago:20261121T223000
DTSTAMP:20260422T170138
CREATED:20260127T173724Z
LAST-MODIFIED:20260127T173724Z
UID:10009999-1795249800-1795300200@www.algonquintownship.com
SUMMARY:Friendship Star Quilters Guild
DESCRIPTION:
URL:https://www.algonquintownship.com/event/friendship-star-quilters-guild/2026-11-21/
LOCATION:Meeting room #2 Board Room\, 3702 U.S. Highway 14\, Crystal Lake\, IL\, 60012\, United States
END:VEVENT
BEGIN:VEVENT
DTSTART;TZID=America/Chicago:20261123T101500
DTEND;TZID=America/Chicago:20261123T111500
DTSTAMP:20260422T170138
CREATED:20240617T133653Z
LAST-MODIFIED:20260107T153547Z
UID:10009703-1795428900-1795432500@www.algonquintownship.com
SUMMARY:Monday Chair Yoga
DESCRIPTION:
URL:https://www.algonquintownship.com/event/monday-chair-yoga/2026-11-23/
LOCATION:Meeting room #2 Board Room\, 3702 U.S. Highway 14\, Crystal Lake\, IL\, 60012\, United States
END:VEVENT
BEGIN:VEVENT
DTSTART;TZID=America/Chicago:20261124T180000
DTEND;TZID=America/Chicago:20261124T200000
DTSTAMP:20260422T170138
CREATED:20240617T142319Z
LAST-MODIFIED:20250204T162209Z
UID:10007320-1795543200-1795550400@www.algonquintownship.com
SUMMARY:TOPS
DESCRIPTION:TOPS – Taking off Pounds Sensibly.  Meets every Tuesday 6pm-8pm.
URL:https://www.algonquintownship.com/event/tops-2025-02-04/2026-11-24/
LOCATION:Meeting room #2 Board Room\, 3702 U.S. Highway 14\, Crystal Lake\, IL\, 60012\, United States
END:VEVENT
BEGIN:VEVENT
DTSTART;TZID=America/Chicago:20261125T090000
DTEND;TZID=America/Chicago:20261125T130000
DTSTAMP:20260422T170138
CREATED:20240617T142826Z
LAST-MODIFIED:20240617T142826Z
UID:10004788-1795597200-1795611600@www.algonquintownship.com
SUMMARY:SWAT
DESCRIPTION:SWAT – Striders Walkers and Talkers.
URL:https://www.algonquintownship.com/event/swat/2026-11-25/
LOCATION:Meeting room #2 Board Room\, 3702 U.S. Highway 14\, Crystal Lake\, IL\, 60012\, United States
END:VEVENT
BEGIN:VEVENT
DTSTART;TZID=America/Chicago:20261125T180000
DTEND;TZID=America/Chicago:20261125T210000
DTSTAMP:20260422T170138
CREATED:20240617T153424Z
LAST-MODIFIED:20240617T153424Z
UID:10005710-1795629600-1795640400@www.algonquintownship.com
SUMMARY:VNC
DESCRIPTION:
URL:https://www.algonquintownship.com/event/vnc/2026-11-25/
LOCATION:Meeting room #2 Board Room\, 3702 U.S. Highway 14\, Crystal Lake\, IL\, 60012\, United States
END:VEVENT
BEGIN:VEVENT
DTSTART;TZID=America/Chicago:20261126T073000
DTEND;TZID=America/Chicago:20261126T090000
DTSTAMP:20260422T170138
CREATED:20240617T164633Z
LAST-MODIFIED:20260127T184340Z
UID:10005758-1795678200-1795683600@www.algonquintownship.com
SUMMARY:Toastmasters / Crystal Clear
DESCRIPTION:
URL:https://www.algonquintownship.com/event/toastmasters-crystal-clear/2026-11-26/
LOCATION:Meeting room #2 Board Room\, 3702 U.S. Highway 14\, Crystal Lake\, IL\, 60012\, United States
END:VEVENT
BEGIN:VEVENT
DTSTART;TZID=America/Chicago:20261126T170000
DTEND;TZID=America/Chicago:20261126T210000
DTSTAMP:20260422T170138
CREATED:20240617T153753Z
LAST-MODIFIED:20240617T153753Z
UID:10005806-1795712400-1795726800@www.algonquintownship.com
SUMMARY:Amvets
DESCRIPTION:
URL:https://www.algonquintownship.com/event/amvets/2026-11-26/
LOCATION:Meeting room #2 Board Room\, 3702 U.S. Highway 14\, Crystal Lake\, IL\, 60012\, United States
END:VEVENT
BEGIN:VEVENT
DTSTART;TZID=America/Chicago:20261127T110000
DTEND;TZID=America/Chicago:20261127T121500
DTSTAMP:20260422T170138
CREATED:20250114T142556Z
LAST-MODIFIED:20260107T153225Z
UID:10007775-1795777200-1795781700@www.algonquintownship.com
SUMMARY:Simple Strength Class
DESCRIPTION:
URL:https://www.algonquintownship.com/event/simple-strength-class/2026-11-27/
LOCATION:Meeting room #2 Board Room\, 3702 U.S. Highway 14\, Crystal Lake\, IL\, 60012\, United States
END:VEVENT
BEGIN:VEVENT
DTSTART;TZID=America/Chicago:20261130T101500
DTEND;TZID=America/Chicago:20261130T111500
DTSTAMP:20260422T170138
CREATED:20240617T133653Z
LAST-MODIFIED:20260107T153547Z
UID:10009704-1796033700-1796037300@www.algonquintownship.com
SUMMARY:Monday Chair Yoga
DESCRIPTION:
URL:https://www.algonquintownship.com/event/monday-chair-yoga/2026-11-30/
LOCATION:Meeting room #2 Board Room\, 3702 U.S. Highway 14\, Crystal Lake\, IL\, 60012\, United States
END:VEVENT
BEGIN:VEVENT
DTSTART;TZID=America/Chicago:20261201T100000
DTEND;TZID=America/Chicago:20261201T140000
DTSTAMP:20260422T170138
CREATED:20250909T183922Z
LAST-MODIFIED:20250909T183924Z
UID:10008590-1796119200-1796133600@www.algonquintownship.com
SUMMARY:Computer Class
DESCRIPTION:Personalized Computer Class.  Meets every other Tuesday.  This is a one-on-one class for 1 hour sessions beginning at 10am
URL:https://www.algonquintownship.com/event/computer-class-2/2026-12-01/
LOCATION:Meeting room #2 Board Room\, 3702 U.S. Highway 14\, Crystal Lake\, IL\, 60012\, United States
END:VEVENT
END:VCALENDAR