BEGIN:VCALENDAR
VERSION:2.0
PRODID:-//Algonquin Township - ECPv6.15.18//NONSGML v1.0//EN
CALSCALE:GREGORIAN
METHOD:PUBLISH
X-WR-CALNAME:Algonquin Township
X-ORIGINAL-URL:https://www.algonquintownship.com
X-WR-CALDESC:Events for Algonquin Township
REFRESH-INTERVAL;VALUE=DURATION:PT1H
X-Robots-Tag:noindex
X-PUBLISHED-TTL:PT1H
BEGIN:VTIMEZONE
TZID:America/Chicago
BEGIN:DAYLIGHT
TZOFFSETFROM:-0600
TZOFFSETTO:-0500
TZNAME:CDT
DTSTART:20250309T080000
END:DAYLIGHT
BEGIN:STANDARD
TZOFFSETFROM:-0500
TZOFFSETTO:-0600
TZNAME:CST
DTSTART:20251102T070000
END:STANDARD
BEGIN:DAYLIGHT
TZOFFSETFROM:-0600
TZOFFSETTO:-0500
TZNAME:CDT
DTSTART:20260308T080000
END:DAYLIGHT
BEGIN:STANDARD
TZOFFSETFROM:-0500
TZOFFSETTO:-0600
TZNAME:CST
DTSTART:20261101T070000
END:STANDARD
BEGIN:DAYLIGHT
TZOFFSETFROM:-0600
TZOFFSETTO:-0500
TZNAME:CDT
DTSTART:20270314T080000
END:DAYLIGHT
BEGIN:STANDARD
TZOFFSETFROM:-0500
TZOFFSETTO:-0600
TZNAME:CST
DTSTART:20271107T070000
END:STANDARD
END:VTIMEZONE
BEGIN:VEVENT
DTSTART;TZID=America/Chicago:20260914T101500
DTEND;TZID=America/Chicago:20260914T111500
DTSTAMP:20260422T085001
CREATED:20240617T133653Z
LAST-MODIFIED:20260107T153547Z
UID:10009693-1789380900-1789384500@www.algonquintownship.com
SUMMARY:Monday Chair Yoga
DESCRIPTION:
URL:https://www.algonquintownship.com/event/monday-chair-yoga/2026-09-14/
LOCATION:Meeting room #2 Board Room\, 3702 U.S. Highway 14\, Crystal Lake\, IL\, 60012\, United States
END:VEVENT
BEGIN:VEVENT
DTSTART;TZID=America/Chicago:20260915T180000
DTEND;TZID=America/Chicago:20260915T200000
DTSTAMP:20260422T085001
CREATED:20240617T142319Z
LAST-MODIFIED:20250204T162209Z
UID:10007310-1789495200-1789502400@www.algonquintownship.com
SUMMARY:TOPS
DESCRIPTION:TOPS – Taking off Pounds Sensibly.  Meets every Tuesday 6pm-8pm.
URL:https://www.algonquintownship.com/event/tops-2025-02-04/2026-09-15/
LOCATION:Meeting room #2 Board Room\, 3702 U.S. Highway 14\, Crystal Lake\, IL\, 60012\, United States
END:VEVENT
BEGIN:VEVENT
DTSTART;TZID=America/Chicago:20260916T090000
DTEND;TZID=America/Chicago:20260916T130000
DTSTAMP:20260422T085001
CREATED:20240617T142826Z
LAST-MODIFIED:20240617T142826Z
UID:10004778-1789549200-1789563600@www.algonquintownship.com
SUMMARY:SWAT
DESCRIPTION:SWAT – Striders Walkers and Talkers.
URL:https://www.algonquintownship.com/event/swat/2026-09-16/
LOCATION:Meeting room #2 Board Room\, 3702 U.S. Highway 14\, Crystal Lake\, IL\, 60012\, United States
END:VEVENT
BEGIN:VEVENT
DTSTART;TZID=America/Chicago:20260917T190000
DTEND;TZID=America/Chicago:20260917T210000
DTSTAMP:20260422T085001
CREATED:20260127T153124Z
LAST-MODIFIED:20260127T153124Z
UID:10009943-1789671600-1789678800@www.algonquintownship.com
SUMMARY:Windham Cove HOA
DESCRIPTION:
URL:https://www.algonquintownship.com/event/windham-cove-hoa/2026-09-17/
LOCATION:Meeting room #2 Board Room\, 3702 U.S. Highway 14\, Crystal Lake\, IL\, 60012\, United States
END:VEVENT
BEGIN:VEVENT
DTSTART;TZID=America/Chicago:20260918T110000
DTEND;TZID=America/Chicago:20260918T121500
DTSTAMP:20260422T085001
CREATED:20250114T142556Z
LAST-MODIFIED:20260107T153225Z
UID:10007765-1789729200-1789733700@www.algonquintownship.com
SUMMARY:Simple Strength Class
DESCRIPTION:
URL:https://www.algonquintownship.com/event/simple-strength-class/2026-09-18/
LOCATION:Meeting room #2 Board Room\, 3702 U.S. Highway 14\, Crystal Lake\, IL\, 60012\, United States
END:VEVENT
BEGIN:VEVENT
DTSTART;TZID=America/Chicago:20260919T083000
DTEND;TZID=America/Chicago:20260919T223000
DTSTAMP:20260422T085001
CREATED:20260127T173724Z
LAST-MODIFIED:20260127T173724Z
UID:10009997-1789806600-1789857000@www.algonquintownship.com
SUMMARY:Friendship Star Quilters Guild
DESCRIPTION:
URL:https://www.algonquintownship.com/event/friendship-star-quilters-guild/2026-09-19/
LOCATION:Meeting room #2 Board Room\, 3702 U.S. Highway 14\, Crystal Lake\, IL\, 60012\, United States
END:VEVENT
BEGIN:VEVENT
DTSTART;TZID=America/Chicago:20260921T101500
DTEND;TZID=America/Chicago:20260921T111500
DTSTAMP:20260422T085001
CREATED:20240617T133653Z
LAST-MODIFIED:20260107T153547Z
UID:10009694-1789985700-1789989300@www.algonquintownship.com
SUMMARY:Monday Chair Yoga
DESCRIPTION:
URL:https://www.algonquintownship.com/event/monday-chair-yoga/2026-09-21/
LOCATION:Meeting room #2 Board Room\, 3702 U.S. Highway 14\, Crystal Lake\, IL\, 60012\, United States
END:VEVENT
BEGIN:VEVENT
DTSTART;TZID=America/Chicago:20260922T100000
DTEND;TZID=America/Chicago:20260922T140000
DTSTAMP:20260422T085001
CREATED:20250909T183922Z
LAST-MODIFIED:20250909T183924Z
UID:10008585-1790071200-1790085600@www.algonquintownship.com
SUMMARY:Computer Class
DESCRIPTION:Personalized Computer Class.  Meets every other Tuesday.  This is a one-on-one class for 1 hour sessions beginning at 10am
URL:https://www.algonquintownship.com/event/computer-class-2/2026-09-22/
LOCATION:Meeting room #2 Board Room\, 3702 U.S. Highway 14\, Crystal Lake\, IL\, 60012\, United States
END:VEVENT
BEGIN:VEVENT
DTSTART;TZID=America/Chicago:20260922T180000
DTEND;TZID=America/Chicago:20260922T200000
DTSTAMP:20260422T085001
CREATED:20240617T142319Z
LAST-MODIFIED:20250204T162209Z
UID:10007311-1790100000-1790107200@www.algonquintownship.com
SUMMARY:TOPS
DESCRIPTION:TOPS – Taking off Pounds Sensibly.  Meets every Tuesday 6pm-8pm.
URL:https://www.algonquintownship.com/event/tops-2025-02-04/2026-09-22/
LOCATION:Meeting room #2 Board Room\, 3702 U.S. Highway 14\, Crystal Lake\, IL\, 60012\, United States
END:VEVENT
BEGIN:VEVENT
DTSTART;TZID=America/Chicago:20260923T090000
DTEND;TZID=America/Chicago:20260923T130000
DTSTAMP:20260422T085001
CREATED:20240617T142826Z
LAST-MODIFIED:20240617T142826Z
UID:10004779-1790154000-1790168400@www.algonquintownship.com
SUMMARY:SWAT
DESCRIPTION:SWAT – Striders Walkers and Talkers.
URL:https://www.algonquintownship.com/event/swat/2026-09-23/
LOCATION:Meeting room #2 Board Room\, 3702 U.S. Highway 14\, Crystal Lake\, IL\, 60012\, United States
END:VEVENT
BEGIN:VEVENT
DTSTART;TZID=America/Chicago:20260923T190000
DTEND;TZID=America/Chicago:20260923T210000
DTSTAMP:20260422T085001
CREATED:20250121T141833Z
LAST-MODIFIED:20260127T180404Z
UID:10010018-1790190000-1790197200@www.algonquintownship.com
SUMMARY:New Haven Townhomes
DESCRIPTION:
URL:https://www.algonquintownship.com/event/new-haven-townhomes/2026-09-23/
LOCATION:Meeting room #2 Board Room\, 3702 U.S. Highway 14\, Crystal Lake\, IL\, 60012\, United States
END:VEVENT
BEGIN:VEVENT
DTSTART;TZID=America/Chicago:20260924T073000
DTEND;TZID=America/Chicago:20260924T090000
DTSTAMP:20260422T085001
CREATED:20240617T164633Z
LAST-MODIFIED:20260127T184340Z
UID:10005756-1790235000-1790240400@www.algonquintownship.com
SUMMARY:Toastmasters / Crystal Clear
DESCRIPTION:
URL:https://www.algonquintownship.com/event/toastmasters-crystal-clear/2026-09-24/
LOCATION:Meeting room #2 Board Room\, 3702 U.S. Highway 14\, Crystal Lake\, IL\, 60012\, United States
END:VEVENT
BEGIN:VEVENT
DTSTART;TZID=America/Chicago:20260924T170000
DTEND;TZID=America/Chicago:20260924T210000
DTSTAMP:20260422T085001
CREATED:20240617T153753Z
LAST-MODIFIED:20240617T153753Z
UID:10005804-1790269200-1790283600@www.algonquintownship.com
SUMMARY:Amvets
DESCRIPTION:
URL:https://www.algonquintownship.com/event/amvets/2026-09-24/
LOCATION:Meeting room #2 Board Room\, 3702 U.S. Highway 14\, Crystal Lake\, IL\, 60012\, United States
END:VEVENT
BEGIN:VEVENT
DTSTART;TZID=America/Chicago:20260925T110000
DTEND;TZID=America/Chicago:20260925T121500
DTSTAMP:20260422T085001
CREATED:20250114T142556Z
LAST-MODIFIED:20260107T153225Z
UID:10007766-1790334000-1790338500@www.algonquintownship.com
SUMMARY:Simple Strength Class
DESCRIPTION:
URL:https://www.algonquintownship.com/event/simple-strength-class/2026-09-25/
LOCATION:Meeting room #2 Board Room\, 3702 U.S. Highway 14\, Crystal Lake\, IL\, 60012\, United States
END:VEVENT
BEGIN:VEVENT
DTSTART;TZID=America/Chicago:20260928T101500
DTEND;TZID=America/Chicago:20260928T111500
DTSTAMP:20260422T085001
CREATED:20240617T133653Z
LAST-MODIFIED:20260107T153547Z
UID:10009695-1790590500-1790594100@www.algonquintownship.com
SUMMARY:Monday Chair Yoga
DESCRIPTION:
URL:https://www.algonquintownship.com/event/monday-chair-yoga/2026-09-28/
LOCATION:Meeting room #2 Board Room\, 3702 U.S. Highway 14\, Crystal Lake\, IL\, 60012\, United States
END:VEVENT
BEGIN:VEVENT
DTSTART;TZID=America/Chicago:20260929T180000
DTEND;TZID=America/Chicago:20260929T200000
DTSTAMP:20260422T085001
CREATED:20240617T142319Z
LAST-MODIFIED:20250204T162209Z
UID:10007312-1790704800-1790712000@www.algonquintownship.com
SUMMARY:TOPS
DESCRIPTION:TOPS – Taking off Pounds Sensibly.  Meets every Tuesday 6pm-8pm.
URL:https://www.algonquintownship.com/event/tops-2025-02-04/2026-09-29/
LOCATION:Meeting room #2 Board Room\, 3702 U.S. Highway 14\, Crystal Lake\, IL\, 60012\, United States
END:VEVENT
BEGIN:VEVENT
DTSTART;TZID=America/Chicago:20260930T090000
DTEND;TZID=America/Chicago:20260930T130000
DTSTAMP:20260422T085001
CREATED:20240617T142826Z
LAST-MODIFIED:20240617T142826Z
UID:10004780-1790758800-1790773200@www.algonquintownship.com
SUMMARY:SWAT
DESCRIPTION:SWAT – Striders Walkers and Talkers.
URL:https://www.algonquintownship.com/event/swat/2026-09-30/
LOCATION:Meeting room #2 Board Room\, 3702 U.S. Highway 14\, Crystal Lake\, IL\, 60012\, United States
END:VEVENT
BEGIN:VEVENT
DTSTART;TZID=America/Chicago:20260930T180000
DTEND;TZID=America/Chicago:20260930T210000
DTSTAMP:20260422T085001
CREATED:20240617T153424Z
LAST-MODIFIED:20240617T153424Z
UID:10005708-1790791200-1790802000@www.algonquintownship.com
SUMMARY:VNC
DESCRIPTION:
URL:https://www.algonquintownship.com/event/vnc/2026-09-30/
LOCATION:Meeting room #2 Board Room\, 3702 U.S. Highway 14\, Crystal Lake\, IL\, 60012\, United States
END:VEVENT
BEGIN:VEVENT
DTSTART;TZID=America/Chicago:20261002T110000
DTEND;TZID=America/Chicago:20261002T121500
DTSTAMP:20260422T085001
CREATED:20250114T142556Z
LAST-MODIFIED:20260107T153225Z
UID:10007767-1790938800-1790943300@www.algonquintownship.com
SUMMARY:Simple Strength Class
DESCRIPTION:
URL:https://www.algonquintownship.com/event/simple-strength-class/2026-10-02/
LOCATION:Meeting room #2 Board Room\, 3702 U.S. Highway 14\, Crystal Lake\, IL\, 60012\, United States
END:VEVENT
BEGIN:VEVENT
DTSTART;TZID=America/Chicago:20261003T090000
DTEND;TZID=America/Chicago:20261003T150000
DTSTAMP:20260422T085001
CREATED:20240617T165815Z
LAST-MODIFIED:20240617T165815Z
UID:10006205-1791018000-1791039600@www.algonquintownship.com
SUMMARY:Country Quilters
DESCRIPTION:
URL:https://www.algonquintownship.com/event/country-quilters/2026-10-03/
LOCATION:Meeting room #2 Board Room\, 3702 U.S. Highway 14\, Crystal Lake\, IL\, 60012\, United States
END:VEVENT
BEGIN:VEVENT
DTSTART;TZID=America/Chicago:20261005T101500
DTEND;TZID=America/Chicago:20261005T111500
DTSTAMP:20260422T085001
CREATED:20240617T133653Z
LAST-MODIFIED:20260107T153547Z
UID:10009696-1791195300-1791198900@www.algonquintownship.com
SUMMARY:Monday Chair Yoga
DESCRIPTION:
URL:https://www.algonquintownship.com/event/monday-chair-yoga/2026-10-05/
LOCATION:Meeting room #2 Board Room\, 3702 U.S. Highway 14\, Crystal Lake\, IL\, 60012\, United States
END:VEVENT
BEGIN:VEVENT
DTSTART;TZID=America/Chicago:20261006T100000
DTEND;TZID=America/Chicago:20261006T140000
DTSTAMP:20260422T085001
CREATED:20250909T183922Z
LAST-MODIFIED:20250909T183924Z
UID:10008586-1791280800-1791295200@www.algonquintownship.com
SUMMARY:Computer Class
DESCRIPTION:Personalized Computer Class.  Meets every other Tuesday.  This is a one-on-one class for 1 hour sessions beginning at 10am
URL:https://www.algonquintownship.com/event/computer-class-2/2026-10-06/
LOCATION:Meeting room #2 Board Room\, 3702 U.S. Highway 14\, Crystal Lake\, IL\, 60012\, United States
END:VEVENT
BEGIN:VEVENT
DTSTART;TZID=America/Chicago:20261006T180000
DTEND;TZID=America/Chicago:20261006T200000
DTSTAMP:20260422T085001
CREATED:20240617T142319Z
LAST-MODIFIED:20250204T162209Z
UID:10007313-1791309600-1791316800@www.algonquintownship.com
SUMMARY:TOPS
DESCRIPTION:TOPS – Taking off Pounds Sensibly.  Meets every Tuesday 6pm-8pm.
URL:https://www.algonquintownship.com/event/tops-2025-02-04/2026-10-06/
LOCATION:Meeting room #2 Board Room\, 3702 U.S. Highway 14\, Crystal Lake\, IL\, 60012\, United States
END:VEVENT
BEGIN:VEVENT
DTSTART;TZID=America/Chicago:20261007T090000
DTEND;TZID=America/Chicago:20261007T130000
DTSTAMP:20260422T085001
CREATED:20240617T142826Z
LAST-MODIFIED:20240617T142826Z
UID:10004781-1791363600-1791378000@www.algonquintownship.com
SUMMARY:SWAT
DESCRIPTION:SWAT – Striders Walkers and Talkers.
URL:https://www.algonquintownship.com/event/swat/2026-10-07/
LOCATION:Meeting room #2 Board Room\, 3702 U.S. Highway 14\, Crystal Lake\, IL\, 60012\, United States
END:VEVENT
BEGIN:VEVENT
DTSTART;TZID=America/Chicago:20261008T073000
DTEND;TZID=America/Chicago:20261008T090000
DTSTAMP:20260422T085001
CREATED:20240617T164830Z
LAST-MODIFIED:20240625T191954Z
UID:10006397-1791444600-1791450000@www.algonquintownship.com
SUMMARY:Toastmasters / Crystal Clear
DESCRIPTION:
URL:https://www.algonquintownship.com/event/toastmasters-crystal-clear-2-2024-07-11/2026-10-08/
LOCATION:Meeting room #2 Board Room\, 3702 U.S. Highway 14\, Crystal Lake\, IL\, 60012\, United States
END:VEVENT
BEGIN:VEVENT
DTSTART;TZID=America/Chicago:20261008T183000
DTEND;TZID=America/Chicago:20261008T220000
DTSTAMP:20260422T085001
CREATED:20240617T152947Z
LAST-MODIFIED:20260127T173342Z
UID:10006445-1791484200-1791496800@www.algonquintownship.com
SUMMARY:Friendship Star Quilters Guild
DESCRIPTION:
URL:https://www.algonquintownship.com/event/friendship-star-quilters-guild-2/2026-10-08/
LOCATION:Meeting room #2 Board Room\, 3702 U.S. Highway 14\, Crystal Lake\, IL\, 60012\, United States
END:VEVENT
BEGIN:VEVENT
DTSTART;TZID=America/Chicago:20261009T110000
DTEND;TZID=America/Chicago:20261009T121500
DTSTAMP:20260422T085001
CREATED:20250114T142556Z
LAST-MODIFIED:20260107T153225Z
UID:10007768-1791543600-1791548100@www.algonquintownship.com
SUMMARY:Simple Strength Class
DESCRIPTION:
URL:https://www.algonquintownship.com/event/simple-strength-class/2026-10-09/
LOCATION:Meeting room #2 Board Room\, 3702 U.S. Highway 14\, Crystal Lake\, IL\, 60012\, United States
END:VEVENT
BEGIN:VEVENT
DTSTART;TZID=America/Chicago:20261012T101500
DTEND;TZID=America/Chicago:20261012T111500
DTSTAMP:20260422T085001
CREATED:20240617T133653Z
LAST-MODIFIED:20260107T153547Z
UID:10009697-1791800100-1791803700@www.algonquintownship.com
SUMMARY:Monday Chair Yoga
DESCRIPTION:
URL:https://www.algonquintownship.com/event/monday-chair-yoga/2026-10-12/
LOCATION:Meeting room #2 Board Room\, 3702 U.S. Highway 14\, Crystal Lake\, IL\, 60012\, United States
END:VEVENT
BEGIN:VEVENT
DTSTART;TZID=America/Chicago:20261013T180000
DTEND;TZID=America/Chicago:20261013T200000
DTSTAMP:20260422T085001
CREATED:20240617T142319Z
LAST-MODIFIED:20250204T162209Z
UID:10007314-1791914400-1791921600@www.algonquintownship.com
SUMMARY:TOPS
DESCRIPTION:TOPS – Taking off Pounds Sensibly.  Meets every Tuesday 6pm-8pm.
URL:https://www.algonquintownship.com/event/tops-2025-02-04/2026-10-13/
LOCATION:Meeting room #2 Board Room\, 3702 U.S. Highway 14\, Crystal Lake\, IL\, 60012\, United States
END:VEVENT
BEGIN:VEVENT
DTSTART;TZID=America/Chicago:20261013T180000
DTEND;TZID=America/Chicago:20261013T210000
DTSTAMP:20260422T085001
CREATED:20240617T170852Z
LAST-MODIFIED:20240617T170852Z
UID:10006349-1791914400-1791925200@www.algonquintownship.com
SUMMARY:Crystal Lake Camera Club
DESCRIPTION:
URL:https://www.algonquintownship.com/event/crystal-lake-camera-club/2026-10-13/
LOCATION:Meeting room #2 Board Room\, 3702 U.S. Highway 14\, Crystal Lake\, IL\, 60012\, United States
END:VEVENT
END:VCALENDAR