BEGIN:VCALENDAR
VERSION:2.0
PRODID:-//Algonquin Township - ECPv6.15.18//NONSGML v1.0//EN
CALSCALE:GREGORIAN
METHOD:PUBLISH
X-WR-CALNAME:Algonquin Township
X-ORIGINAL-URL:https://www.algonquintownship.com
X-WR-CALDESC:Events for Algonquin Township
REFRESH-INTERVAL;VALUE=DURATION:PT1H
X-Robots-Tag:noindex
X-PUBLISHED-TTL:PT1H
BEGIN:VTIMEZONE
TZID:America/Chicago
BEGIN:DAYLIGHT
TZOFFSETFROM:-0600
TZOFFSETTO:-0500
TZNAME:CDT
DTSTART:20270314T080000
END:DAYLIGHT
BEGIN:STANDARD
TZOFFSETFROM:-0500
TZOFFSETTO:-0600
TZNAME:CST
DTSTART:20271107T070000
END:STANDARD
BEGIN:DAYLIGHT
TZOFFSETFROM:-0600
TZOFFSETTO:-0500
TZNAME:CDT
DTSTART:20280312T080000
END:DAYLIGHT
BEGIN:STANDARD
TZOFFSETFROM:-0500
TZOFFSETTO:-0600
TZNAME:CST
DTSTART:20281105T070000
END:STANDARD
BEGIN:DAYLIGHT
TZOFFSETFROM:-0600
TZOFFSETTO:-0500
TZNAME:CDT
DTSTART:20290311T080000
END:DAYLIGHT
BEGIN:STANDARD
TZOFFSETFROM:-0500
TZOFFSETTO:-0600
TZNAME:CST
DTSTART:20291104T070000
END:STANDARD
END:VTIMEZONE
BEGIN:VEVENT
DTSTART;TZID=America/Chicago:20280321T104500
DTEND;TZID=America/Chicago:20280321T120000
DTSTAMP:20260425T211944
CREATED:20240617T141656Z
LAST-MODIFIED:20260107T154114Z
UID:10008870-1837248300-1837252800@www.algonquintownship.com
SUMMARY:Simple Strength
DESCRIPTION:
URL:https://www.algonquintownship.com/event/simple-strength/2028-03-21/
LOCATION:Meeting Room 1 Bingo Room
END:VEVENT
BEGIN:VEVENT
DTSTART;TZID=America/Chicago:20280321T130000
DTEND;TZID=America/Chicago:20280321T160000
DTSTAMP:20260425T211944
CREATED:20240617T141848Z
LAST-MODIFIED:20240617T141848Z
UID:10004439-1837256400-1837267200@www.algonquintownship.com
SUMMARY:Tuesday Bridge Group
DESCRIPTION:Tuesday’s at 1pm – 4pm.
URL:https://www.algonquintownship.com/event/tuesday-bridge-group/2028-03-21/
LOCATION:Meeting Room 1 Bingo Room
END:VEVENT
BEGIN:VEVENT
DTSTART;TZID=America/Chicago:20280322T090000
DTEND;TZID=America/Chicago:20280322T153000
DTSTAMP:20260425T211944
CREATED:20240617T145751Z
LAST-MODIFIED:20240617T145751Z
UID:10005588-1837328400-1837351800@www.algonquintownship.com
SUMMARY:Crystal Lake Duplicate Bridge Club
DESCRIPTION:
URL:https://www.algonquintownship.com/event/crystal-lake-duplicate-bridge-club/2028-03-22/
LOCATION:Meeting Room 1 Bingo Room
END:VEVENT
BEGIN:VEVENT
DTSTART;TZID=America/Chicago:20280323T104500
DTEND;TZID=America/Chicago:20280323T114500
DTSTAMP:20260425T211944
CREATED:20240617T143636Z
LAST-MODIFIED:20260107T154319Z
UID:10006808-1837421100-1837424700@www.algonquintownship.com
SUMMARY:Chair Yoga
DESCRIPTION:
URL:https://www.algonquintownship.com/event/chair-yoga-2024-10-03/2028-03-23/
LOCATION:Meeting Room 1 Bingo Room
END:VEVENT
BEGIN:VEVENT
DTSTART;TZID=America/Chicago:20280323T130000
DTEND;TZID=America/Chicago:20280323T160000
DTSTAMP:20260425T211944
CREATED:20240617T144914Z
LAST-MODIFIED:20240617T144914Z
UID:10005275-1837429200-1837440000@www.algonquintownship.com
SUMMARY:Thursday Bridge Group
DESCRIPTION:
URL:https://www.algonquintownship.com/event/thursday-bridge-group/2028-03-23/
LOCATION:Meeting Room 1 Bingo Room
END:VEVENT
BEGIN:VEVENT
DTSTART;TZID=America/Chicago:20280324T090000
DTEND;TZID=America/Chicago:20280324T153000
DTSTAMP:20260425T211944
CREATED:20240617T145919Z
LAST-MODIFIED:20240913T193901Z
UID:10009173-1837501200-1837524600@www.algonquintownship.com
SUMMARY:Crystal Lake Duplicate Bridge Club
DESCRIPTION:
URL:https://www.algonquintownship.com/event/crystal-lake-duplicate-bridge-club-2-2025-07-25/2028-03-24/
LOCATION:Meeting Room 1 Bingo Room
END:VEVENT
BEGIN:VEVENT
DTSTART;TZID=America/Chicago:20280328T104500
DTEND;TZID=America/Chicago:20280328T120000
DTSTAMP:20260425T211944
CREATED:20240617T141656Z
LAST-MODIFIED:20260107T154114Z
UID:10008871-1837853100-1837857600@www.algonquintownship.com
SUMMARY:Simple Strength
DESCRIPTION:
URL:https://www.algonquintownship.com/event/simple-strength/2028-03-28/
LOCATION:Meeting Room 1 Bingo Room
END:VEVENT
BEGIN:VEVENT
DTSTART;TZID=America/Chicago:20280328T130000
DTEND;TZID=America/Chicago:20280328T160000
DTSTAMP:20260425T211944
CREATED:20240617T141848Z
LAST-MODIFIED:20240617T141848Z
UID:10004440-1837861200-1837872000@www.algonquintownship.com
SUMMARY:Tuesday Bridge Group
DESCRIPTION:Tuesday’s at 1pm – 4pm.
URL:https://www.algonquintownship.com/event/tuesday-bridge-group/2028-03-28/
LOCATION:Meeting Room 1 Bingo Room
END:VEVENT
BEGIN:VEVENT
DTSTART;TZID=America/Chicago:20280329T090000
DTEND;TZID=America/Chicago:20280329T153000
DTSTAMP:20260425T211944
CREATED:20240617T145751Z
LAST-MODIFIED:20240617T145751Z
UID:10005589-1837933200-1837956600@www.algonquintownship.com
SUMMARY:Crystal Lake Duplicate Bridge Club
DESCRIPTION:
URL:https://www.algonquintownship.com/event/crystal-lake-duplicate-bridge-club/2028-03-29/
LOCATION:Meeting Room 1 Bingo Room
END:VEVENT
BEGIN:VEVENT
DTSTART;TZID=America/Chicago:20280330T104500
DTEND;TZID=America/Chicago:20280330T114500
DTSTAMP:20260425T211944
CREATED:20240617T143636Z
LAST-MODIFIED:20260107T154319Z
UID:10006809-1838025900-1838029500@www.algonquintownship.com
SUMMARY:Chair Yoga
DESCRIPTION:
URL:https://www.algonquintownship.com/event/chair-yoga-2024-10-03/2028-03-30/
LOCATION:Meeting Room 1 Bingo Room
END:VEVENT
BEGIN:VEVENT
DTSTART;TZID=America/Chicago:20280330T123000
DTEND;TZID=America/Chicago:20280330T163000
DTSTAMP:20260425T211944
CREATED:20240617T162539Z
LAST-MODIFIED:20260127T171535Z
UID:10007584-1838032200-1838046600@www.algonquintownship.com
SUMMARY:Gazebo Quilters
DESCRIPTION:
URL:https://www.algonquintownship.com/event/gazebo-quilters-2025-01-30-2025-04-24/2028-03-30/
LOCATION:Meeting Room 1 Bingo Room
END:VEVENT
BEGIN:VEVENT
DTSTART;TZID=America/Chicago:20280330T130000
DTEND;TZID=America/Chicago:20280330T160000
DTSTAMP:20260425T211944
CREATED:20240617T144914Z
LAST-MODIFIED:20240617T144914Z
UID:10005276-1838034000-1838044800@www.algonquintownship.com
SUMMARY:Thursday Bridge Group
DESCRIPTION:
URL:https://www.algonquintownship.com/event/thursday-bridge-group/2028-03-30/
LOCATION:Meeting Room 1 Bingo Room
END:VEVENT
BEGIN:VEVENT
DTSTART;TZID=America/Chicago:20280331T090000
DTEND;TZID=America/Chicago:20280331T153000
DTSTAMP:20260425T211944
CREATED:20240617T145919Z
LAST-MODIFIED:20240913T193901Z
UID:10009174-1838106000-1838129400@www.algonquintownship.com
SUMMARY:Crystal Lake Duplicate Bridge Club
DESCRIPTION:
URL:https://www.algonquintownship.com/event/crystal-lake-duplicate-bridge-club-2-2025-07-25/2028-03-31/
LOCATION:Meeting Room 1 Bingo Room
END:VEVENT
BEGIN:VEVENT
DTSTART;TZID=America/Chicago:20280403T090000
DTEND;TZID=America/Chicago:20280403T130000
DTSTAMP:20260425T211944
CREATED:20240617T154337Z
LAST-MODIFIED:20250828T144203Z
UID:10006079-1838365200-1838379600@www.algonquintownship.com
SUMMARY:Bingo
DESCRIPTION:
URL:https://www.algonquintownship.com/event/bingo-2/2028-04-03/
LOCATION:Meeting Room 1 Bingo Room
END:VEVENT
BEGIN:VEVENT
DTSTART;TZID=America/Chicago:20280404T104500
DTEND;TZID=America/Chicago:20280404T120000
DTSTAMP:20260425T211944
CREATED:20240617T141656Z
LAST-MODIFIED:20260107T154114Z
UID:10008872-1838457900-1838462400@www.algonquintownship.com
SUMMARY:Simple Strength
DESCRIPTION:
URL:https://www.algonquintownship.com/event/simple-strength/2028-04-04/
LOCATION:Meeting Room 1 Bingo Room
END:VEVENT
BEGIN:VEVENT
DTSTART;TZID=America/Chicago:20280404T130000
DTEND;TZID=America/Chicago:20280404T160000
DTSTAMP:20260425T211944
CREATED:20240617T141848Z
LAST-MODIFIED:20240617T141848Z
UID:10004441-1838466000-1838476800@www.algonquintownship.com
SUMMARY:Tuesday Bridge Group
DESCRIPTION:Tuesday’s at 1pm – 4pm.
URL:https://www.algonquintownship.com/event/tuesday-bridge-group/2028-04-04/
LOCATION:Meeting Room 1 Bingo Room
END:VEVENT
BEGIN:VEVENT
DTSTART;TZID=America/Chicago:20280404T180000
DTEND;TZID=America/Chicago:20280404T213000
DTSTAMP:20260425T211944
CREATED:20240617T172239Z
LAST-MODIFIED:20240617T172239Z
UID:10006127-1838484000-1838496600@www.algonquintownship.com
SUMMARY:McHenry County Wireless Association (MCWA)
DESCRIPTION:
URL:https://www.algonquintownship.com/event/mchenry-county-wireless-association-mcwa/2028-04-04/
LOCATION:Meeting Room 1 Bingo Room
END:VEVENT
BEGIN:VEVENT
DTSTART;TZID=America/Chicago:20280405T090000
DTEND;TZID=America/Chicago:20280405T153000
DTSTAMP:20260425T211944
CREATED:20240617T145751Z
LAST-MODIFIED:20240617T145751Z
UID:10005590-1838538000-1838561400@www.algonquintownship.com
SUMMARY:Crystal Lake Duplicate Bridge Club
DESCRIPTION:
URL:https://www.algonquintownship.com/event/crystal-lake-duplicate-bridge-club/2028-04-05/
LOCATION:Meeting Room 1 Bingo Room
END:VEVENT
BEGIN:VEVENT
DTSTART;TZID=America/Chicago:20280406T104500
DTEND;TZID=America/Chicago:20280406T114500
DTSTAMP:20260425T211944
CREATED:20240617T143636Z
LAST-MODIFIED:20260107T154319Z
UID:10006810-1838630700-1838634300@www.algonquintownship.com
SUMMARY:Chair Yoga
DESCRIPTION:
URL:https://www.algonquintownship.com/event/chair-yoga-2024-10-03/2028-04-06/
LOCATION:Meeting Room 1 Bingo Room
END:VEVENT
BEGIN:VEVENT
DTSTART;TZID=America/Chicago:20280406T130000
DTEND;TZID=America/Chicago:20280406T160000
DTSTAMP:20260425T211944
CREATED:20240617T144914Z
LAST-MODIFIED:20240617T144914Z
UID:10005277-1838638800-1838649600@www.algonquintownship.com
SUMMARY:Thursday Bridge Group
DESCRIPTION:
URL:https://www.algonquintownship.com/event/thursday-bridge-group/2028-04-06/
LOCATION:Meeting Room 1 Bingo Room
END:VEVENT
BEGIN:VEVENT
DTSTART;TZID=America/Chicago:20280407T090000
DTEND;TZID=America/Chicago:20280407T153000
DTSTAMP:20260425T211944
CREATED:20240617T145919Z
LAST-MODIFIED:20240913T193901Z
UID:10009175-1838710800-1838734200@www.algonquintownship.com
SUMMARY:Crystal Lake Duplicate Bridge Club
DESCRIPTION:
URL:https://www.algonquintownship.com/event/crystal-lake-duplicate-bridge-club-2-2025-07-25/2028-04-07/
LOCATION:Meeting Room 1 Bingo Room
END:VEVENT
BEGIN:VEVENT
DTSTART;TZID=America/Chicago:20280408T173000
DTEND;TZID=America/Chicago:20280408T223000
DTSTAMP:20260425T211944
CREATED:20240617T162106Z
LAST-MODIFIED:20260127T163241Z
UID:10006511-1838827800-1838845800@www.algonquintownship.com
SUMMARY:IPMS Cars in Miniature
DESCRIPTION:
URL:https://www.algonquintownship.com/event/ipms-cars-in-miniature/2028-04-08/
LOCATION:Meeting Room 1 Bingo Room
END:VEVENT
BEGIN:VEVENT
DTSTART;TZID=America/Chicago:20280409T100000
DTEND;TZID=America/Chicago:20280409T160000
DTSTAMP:20260425T211944
CREATED:20240617T172039Z
LAST-MODIFIED:20260127T172609Z
UID:10006560-1838887200-1838908800@www.algonquintownship.com
SUMMARY:Crystal Lake Midwest Quilt Guild
DESCRIPTION:
URL:https://www.algonquintownship.com/event/crystal-lake-midwest-quilt-guild/2028-04-09/
LOCATION:Meeting Room 1 Bingo Room
END:VEVENT
BEGIN:VEVENT
DTSTART;TZID=America/Chicago:20280410T190000
DTEND;TZID=America/Chicago:20280410T210000
DTSTAMP:20260425T211944
CREATED:20240617T170507Z
LAST-MODIFIED:20260127T165221Z
UID:10006319-1839006000-1839013200@www.algonquintownship.com
SUMMARY:Cary Junior Trojans
DESCRIPTION:
URL:https://www.algonquintownship.com/event/cary-junior-trojans/2028-04-10/
LOCATION:Meeting Room 1 Bingo Room
END:VEVENT
BEGIN:VEVENT
DTSTART;TZID=America/Chicago:20280411T104500
DTEND;TZID=America/Chicago:20280411T120000
DTSTAMP:20260425T211944
CREATED:20240617T141656Z
LAST-MODIFIED:20260107T154114Z
UID:10008873-1839062700-1839067200@www.algonquintownship.com
SUMMARY:Simple Strength
DESCRIPTION:
URL:https://www.algonquintownship.com/event/simple-strength/2028-04-11/
LOCATION:Meeting Room 1 Bingo Room
END:VEVENT
BEGIN:VEVENT
DTSTART;TZID=America/Chicago:20280411T130000
DTEND;TZID=America/Chicago:20280411T160000
DTSTAMP:20260425T211944
CREATED:20240617T141848Z
LAST-MODIFIED:20240617T141848Z
UID:10004442-1839070800-1839081600@www.algonquintownship.com
SUMMARY:Tuesday Bridge Group
DESCRIPTION:Tuesday’s at 1pm – 4pm.
URL:https://www.algonquintownship.com/event/tuesday-bridge-group/2028-04-11/
LOCATION:Meeting Room 1 Bingo Room
END:VEVENT
BEGIN:VEVENT
DTSTART;TZID=America/Chicago:20280412T090000
DTEND;TZID=America/Chicago:20280412T153000
DTSTAMP:20260425T211944
CREATED:20240617T145751Z
LAST-MODIFIED:20240617T145751Z
UID:10005591-1839142800-1839166200@www.algonquintownship.com
SUMMARY:Crystal Lake Duplicate Bridge Club
DESCRIPTION:
URL:https://www.algonquintownship.com/event/crystal-lake-duplicate-bridge-club/2028-04-12/
LOCATION:Meeting Room 1 Bingo Room
END:VEVENT
BEGIN:VEVENT
DTSTART;TZID=America/Chicago:20280413T104500
DTEND;TZID=America/Chicago:20280413T114500
DTSTAMP:20260425T211944
CREATED:20240617T143636Z
LAST-MODIFIED:20260107T154319Z
UID:10006811-1839235500-1839239100@www.algonquintownship.com
SUMMARY:Chair Yoga
DESCRIPTION:
URL:https://www.algonquintownship.com/event/chair-yoga-2024-10-03/2028-04-13/
LOCATION:Meeting Room 1 Bingo Room
END:VEVENT
BEGIN:VEVENT
DTSTART;TZID=America/Chicago:20280413T130000
DTEND;TZID=America/Chicago:20280413T160000
DTSTAMP:20260425T211944
CREATED:20240617T144914Z
LAST-MODIFIED:20240617T144914Z
UID:10005278-1839243600-1839254400@www.algonquintownship.com
SUMMARY:Thursday Bridge Group
DESCRIPTION:
URL:https://www.algonquintownship.com/event/thursday-bridge-group/2028-04-13/
LOCATION:Meeting Room 1 Bingo Room
END:VEVENT
BEGIN:VEVENT
DTSTART;TZID=America/Chicago:20280413T180000
DTEND;TZID=America/Chicago:20280413T210000
DTSTAMP:20260425T211944
CREATED:20241010T192644Z
LAST-MODIFIED:20250117T183941Z
UID:10006958-1839261600-1839272400@www.algonquintownship.com
SUMMARY:McHenry County NOW (National Organization for Women)
DESCRIPTION:2nd Thursday of Every Month.
URL:https://www.algonquintownship.com/event/mchenry-county-now-national-organization-for-women/2028-04-13/
LOCATION:Meeting Room 1 Bingo Room
END:VEVENT
END:VCALENDAR