BEGIN:VCALENDAR
VERSION:2.0
PRODID:-//Algonquin Township - ECPv6.15.18//NONSGML v1.0//EN
CALSCALE:GREGORIAN
METHOD:PUBLISH
X-WR-CALNAME:Algonquin Township
X-ORIGINAL-URL:https://www.algonquintownship.com
X-WR-CALDESC:Events for Algonquin Township
REFRESH-INTERVAL;VALUE=DURATION:PT1H
X-Robots-Tag:noindex
X-PUBLISHED-TTL:PT1H
BEGIN:VTIMEZONE
TZID:America/Chicago
BEGIN:DAYLIGHT
TZOFFSETFROM:-0600
TZOFFSETTO:-0500
TZNAME:CDT
DTSTART:20270314T080000
END:DAYLIGHT
BEGIN:STANDARD
TZOFFSETFROM:-0500
TZOFFSETTO:-0600
TZNAME:CST
DTSTART:20271107T070000
END:STANDARD
BEGIN:DAYLIGHT
TZOFFSETFROM:-0600
TZOFFSETTO:-0500
TZNAME:CDT
DTSTART:20280312T080000
END:DAYLIGHT
BEGIN:STANDARD
TZOFFSETFROM:-0500
TZOFFSETTO:-0600
TZNAME:CST
DTSTART:20281105T070000
END:STANDARD
BEGIN:DAYLIGHT
TZOFFSETFROM:-0600
TZOFFSETTO:-0500
TZNAME:CDT
DTSTART:20290311T080000
END:DAYLIGHT
BEGIN:STANDARD
TZOFFSETFROM:-0500
TZOFFSETTO:-0600
TZNAME:CST
DTSTART:20291104T070000
END:STANDARD
END:VTIMEZONE
BEGIN:VEVENT
DTSTART;TZID=America/Chicago:20280207T090000
DTEND;TZID=America/Chicago:20280207T130000
DTSTAMP:20260425T143108
CREATED:20240617T154337Z
LAST-MODIFIED:20250828T144203Z
UID:10006077-1833526800-1833541200@www.algonquintownship.com
SUMMARY:Bingo
DESCRIPTION:
URL:https://www.algonquintownship.com/event/bingo-2/2028-02-07/
LOCATION:Meeting Room 1 Bingo Room
END:VEVENT
BEGIN:VEVENT
DTSTART;TZID=America/Chicago:20280208T104500
DTEND;TZID=America/Chicago:20280208T120000
DTSTAMP:20260425T143108
CREATED:20240617T141656Z
LAST-MODIFIED:20260107T154114Z
UID:10008864-1833619500-1833624000@www.algonquintownship.com
SUMMARY:Simple Strength
DESCRIPTION:
URL:https://www.algonquintownship.com/event/simple-strength/2028-02-08/
LOCATION:Meeting Room 1 Bingo Room
END:VEVENT
BEGIN:VEVENT
DTSTART;TZID=America/Chicago:20280208T130000
DTEND;TZID=America/Chicago:20280208T160000
DTSTAMP:20260425T143108
CREATED:20240617T141848Z
LAST-MODIFIED:20240617T141848Z
UID:10004433-1833627600-1833638400@www.algonquintownship.com
SUMMARY:Tuesday Bridge Group
DESCRIPTION:Tuesday’s at 1pm – 4pm.
URL:https://www.algonquintownship.com/event/tuesday-bridge-group/2028-02-08/
LOCATION:Meeting Room 1 Bingo Room
END:VEVENT
BEGIN:VEVENT
DTSTART;TZID=America/Chicago:20280209T090000
DTEND;TZID=America/Chicago:20280209T153000
DTSTAMP:20260425T143108
CREATED:20240617T145751Z
LAST-MODIFIED:20240617T145751Z
UID:10005582-1833699600-1833723000@www.algonquintownship.com
SUMMARY:Crystal Lake Duplicate Bridge Club
DESCRIPTION:
URL:https://www.algonquintownship.com/event/crystal-lake-duplicate-bridge-club/2028-02-09/
LOCATION:Meeting Room 1 Bingo Room
END:VEVENT
BEGIN:VEVENT
DTSTART;TZID=America/Chicago:20280210T104500
DTEND;TZID=America/Chicago:20280210T114500
DTSTAMP:20260425T143108
CREATED:20240617T143636Z
LAST-MODIFIED:20260107T154319Z
UID:10006802-1833792300-1833795900@www.algonquintownship.com
SUMMARY:Chair Yoga
DESCRIPTION:
URL:https://www.algonquintownship.com/event/chair-yoga-2024-10-03/2028-02-10/
LOCATION:Meeting Room 1 Bingo Room
END:VEVENT
BEGIN:VEVENT
DTSTART;TZID=America/Chicago:20280210T130000
DTEND;TZID=America/Chicago:20280210T160000
DTSTAMP:20260425T143108
CREATED:20240617T144914Z
LAST-MODIFIED:20240617T144914Z
UID:10005269-1833800400-1833811200@www.algonquintownship.com
SUMMARY:Thursday Bridge Group
DESCRIPTION:
URL:https://www.algonquintownship.com/event/thursday-bridge-group/2028-02-10/
LOCATION:Meeting Room 1 Bingo Room
END:VEVENT
BEGIN:VEVENT
DTSTART;TZID=America/Chicago:20280210T180000
DTEND;TZID=America/Chicago:20280210T210000
DTSTAMP:20260425T143108
CREATED:20241010T192644Z
LAST-MODIFIED:20250117T183941Z
UID:10006956-1833818400-1833829200@www.algonquintownship.com
SUMMARY:McHenry County NOW (National Organization for Women)
DESCRIPTION:2nd Thursday of Every Month.
URL:https://www.algonquintownship.com/event/mchenry-county-now-national-organization-for-women/2028-02-10/
LOCATION:Meeting Room 1 Bingo Room
END:VEVENT
BEGIN:VEVENT
DTSTART;TZID=America/Chicago:20280211T090000
DTEND;TZID=America/Chicago:20280211T153000
DTSTAMP:20260425T143108
CREATED:20240617T145919Z
LAST-MODIFIED:20240913T193901Z
UID:10009167-1833872400-1833895800@www.algonquintownship.com
SUMMARY:Crystal Lake Duplicate Bridge Club
DESCRIPTION:
URL:https://www.algonquintownship.com/event/crystal-lake-duplicate-bridge-club-2-2025-07-25/2028-02-11/
LOCATION:Meeting Room 1 Bingo Room
END:VEVENT
BEGIN:VEVENT
DTSTART;TZID=America/Chicago:20280212T173000
DTEND;TZID=America/Chicago:20280212T223000
DTSTAMP:20260425T143108
CREATED:20240617T162106Z
LAST-MODIFIED:20260127T163241Z
UID:10006509-1833989400-1834007400@www.algonquintownship.com
SUMMARY:IPMS Cars in Miniature
DESCRIPTION:
URL:https://www.algonquintownship.com/event/ipms-cars-in-miniature/2028-02-12/
LOCATION:Meeting Room 1 Bingo Room
END:VEVENT
BEGIN:VEVENT
DTSTART;TZID=America/Chicago:20280213T100000
DTEND;TZID=America/Chicago:20280213T160000
DTSTAMP:20260425T143108
CREATED:20240617T172039Z
LAST-MODIFIED:20260127T172609Z
UID:10006558-1834048800-1834070400@www.algonquintownship.com
SUMMARY:Crystal Lake Midwest Quilt Guild
DESCRIPTION:
URL:https://www.algonquintownship.com/event/crystal-lake-midwest-quilt-guild/2028-02-13/
LOCATION:Meeting Room 1 Bingo Room
END:VEVENT
BEGIN:VEVENT
DTSTART;TZID=America/Chicago:20280214T190000
DTEND;TZID=America/Chicago:20280214T210000
DTSTAMP:20260425T143108
CREATED:20240617T170507Z
LAST-MODIFIED:20260127T165221Z
UID:10006317-1834167600-1834174800@www.algonquintownship.com
SUMMARY:Cary Junior Trojans
DESCRIPTION:
URL:https://www.algonquintownship.com/event/cary-junior-trojans/2028-02-14/
LOCATION:Meeting Room 1 Bingo Room
END:VEVENT
BEGIN:VEVENT
DTSTART;TZID=America/Chicago:20280215T104500
DTEND;TZID=America/Chicago:20280215T120000
DTSTAMP:20260425T143108
CREATED:20240617T141656Z
LAST-MODIFIED:20260107T154114Z
UID:10008865-1834224300-1834228800@www.algonquintownship.com
SUMMARY:Simple Strength
DESCRIPTION:
URL:https://www.algonquintownship.com/event/simple-strength/2028-02-15/
LOCATION:Meeting Room 1 Bingo Room
END:VEVENT
BEGIN:VEVENT
DTSTART;TZID=America/Chicago:20280215T130000
DTEND;TZID=America/Chicago:20280215T160000
DTSTAMP:20260425T143108
CREATED:20240617T141848Z
LAST-MODIFIED:20240617T141848Z
UID:10004434-1834232400-1834243200@www.algonquintownship.com
SUMMARY:Tuesday Bridge Group
DESCRIPTION:Tuesday’s at 1pm – 4pm.
URL:https://www.algonquintownship.com/event/tuesday-bridge-group/2028-02-15/
LOCATION:Meeting Room 1 Bingo Room
END:VEVENT
BEGIN:VEVENT
DTSTART;TZID=America/Chicago:20280216T090000
DTEND;TZID=America/Chicago:20280216T153000
DTSTAMP:20260425T143108
CREATED:20240617T145751Z
LAST-MODIFIED:20240617T145751Z
UID:10005583-1834304400-1834327800@www.algonquintownship.com
SUMMARY:Crystal Lake Duplicate Bridge Club
DESCRIPTION:
URL:https://www.algonquintownship.com/event/crystal-lake-duplicate-bridge-club/2028-02-16/
LOCATION:Meeting Room 1 Bingo Room
END:VEVENT
BEGIN:VEVENT
DTSTART;TZID=America/Chicago:20280217T104500
DTEND;TZID=America/Chicago:20280217T114500
DTSTAMP:20260425T143108
CREATED:20240617T143636Z
LAST-MODIFIED:20260107T154319Z
UID:10006803-1834397100-1834400700@www.algonquintownship.com
SUMMARY:Chair Yoga
DESCRIPTION:
URL:https://www.algonquintownship.com/event/chair-yoga-2024-10-03/2028-02-17/
LOCATION:Meeting Room 1 Bingo Room
END:VEVENT
BEGIN:VEVENT
DTSTART;TZID=America/Chicago:20280217T130000
DTEND;TZID=America/Chicago:20280217T160000
DTSTAMP:20260425T143108
CREATED:20240617T144914Z
LAST-MODIFIED:20240617T144914Z
UID:10005270-1834405200-1834416000@www.algonquintownship.com
SUMMARY:Thursday Bridge Group
DESCRIPTION:
URL:https://www.algonquintownship.com/event/thursday-bridge-group/2028-02-17/
LOCATION:Meeting Room 1 Bingo Room
END:VEVENT
BEGIN:VEVENT
DTSTART;TZID=America/Chicago:20280218T090000
DTEND;TZID=America/Chicago:20280218T153000
DTSTAMP:20260425T143108
CREATED:20240617T145919Z
LAST-MODIFIED:20240913T193901Z
UID:10009168-1834477200-1834500600@www.algonquintownship.com
SUMMARY:Crystal Lake Duplicate Bridge Club
DESCRIPTION:
URL:https://www.algonquintownship.com/event/crystal-lake-duplicate-bridge-club-2-2025-07-25/2028-02-18/
LOCATION:Meeting Room 1 Bingo Room
END:VEVENT
BEGIN:VEVENT
DTSTART;TZID=America/Chicago:20280222T104500
DTEND;TZID=America/Chicago:20280222T120000
DTSTAMP:20260425T143108
CREATED:20240617T141656Z
LAST-MODIFIED:20260107T154114Z
UID:10008866-1834829100-1834833600@www.algonquintownship.com
SUMMARY:Simple Strength
DESCRIPTION:
URL:https://www.algonquintownship.com/event/simple-strength/2028-02-22/
LOCATION:Meeting Room 1 Bingo Room
END:VEVENT
BEGIN:VEVENT
DTSTART;TZID=America/Chicago:20280222T130000
DTEND;TZID=America/Chicago:20280222T160000
DTSTAMP:20260425T143108
CREATED:20240617T141848Z
LAST-MODIFIED:20240617T141848Z
UID:10004435-1834837200-1834848000@www.algonquintownship.com
SUMMARY:Tuesday Bridge Group
DESCRIPTION:Tuesday’s at 1pm – 4pm.
URL:https://www.algonquintownship.com/event/tuesday-bridge-group/2028-02-22/
LOCATION:Meeting Room 1 Bingo Room
END:VEVENT
BEGIN:VEVENT
DTSTART;TZID=America/Chicago:20280223T090000
DTEND;TZID=America/Chicago:20280223T153000
DTSTAMP:20260425T143108
CREATED:20240617T145751Z
LAST-MODIFIED:20240617T145751Z
UID:10005584-1834909200-1834932600@www.algonquintownship.com
SUMMARY:Crystal Lake Duplicate Bridge Club
DESCRIPTION:
URL:https://www.algonquintownship.com/event/crystal-lake-duplicate-bridge-club/2028-02-23/
LOCATION:Meeting Room 1 Bingo Room
END:VEVENT
BEGIN:VEVENT
DTSTART;TZID=America/Chicago:20280224T104500
DTEND;TZID=America/Chicago:20280224T114500
DTSTAMP:20260425T143108
CREATED:20240617T143636Z
LAST-MODIFIED:20260107T154319Z
UID:10006804-1835001900-1835005500@www.algonquintownship.com
SUMMARY:Chair Yoga
DESCRIPTION:
URL:https://www.algonquintownship.com/event/chair-yoga-2024-10-03/2028-02-24/
LOCATION:Meeting Room 1 Bingo Room
END:VEVENT
BEGIN:VEVENT
DTSTART;TZID=America/Chicago:20280224T123000
DTEND;TZID=America/Chicago:20280224T163000
DTSTAMP:20260425T143108
CREATED:20240617T162539Z
LAST-MODIFIED:20260127T171535Z
UID:10007583-1835008200-1835022600@www.algonquintownship.com
SUMMARY:Gazebo Quilters
DESCRIPTION:
URL:https://www.algonquintownship.com/event/gazebo-quilters-2025-01-30-2025-04-24/2028-02-24/
LOCATION:Meeting Room 1 Bingo Room
END:VEVENT
BEGIN:VEVENT
DTSTART;TZID=America/Chicago:20280224T130000
DTEND;TZID=America/Chicago:20280224T160000
DTSTAMP:20260425T143108
CREATED:20240617T144914Z
LAST-MODIFIED:20240617T144914Z
UID:10005271-1835010000-1835020800@www.algonquintownship.com
SUMMARY:Thursday Bridge Group
DESCRIPTION:
URL:https://www.algonquintownship.com/event/thursday-bridge-group/2028-02-24/
LOCATION:Meeting Room 1 Bingo Room
END:VEVENT
BEGIN:VEVENT
DTSTART;TZID=America/Chicago:20280225T090000
DTEND;TZID=America/Chicago:20280225T153000
DTSTAMP:20260425T143108
CREATED:20240617T145919Z
LAST-MODIFIED:20240913T193901Z
UID:10009169-1835082000-1835105400@www.algonquintownship.com
SUMMARY:Crystal Lake Duplicate Bridge Club
DESCRIPTION:
URL:https://www.algonquintownship.com/event/crystal-lake-duplicate-bridge-club-2-2025-07-25/2028-02-25/
LOCATION:Meeting Room 1 Bingo Room
END:VEVENT
BEGIN:VEVENT
DTSTART;TZID=America/Chicago:20280229T104500
DTEND;TZID=America/Chicago:20280229T120000
DTSTAMP:20260425T143108
CREATED:20240617T141656Z
LAST-MODIFIED:20260107T154114Z
UID:10008867-1835433900-1835438400@www.algonquintownship.com
SUMMARY:Simple Strength
DESCRIPTION:
URL:https://www.algonquintownship.com/event/simple-strength/2028-02-29/
LOCATION:Meeting Room 1 Bingo Room
END:VEVENT
BEGIN:VEVENT
DTSTART;TZID=America/Chicago:20280229T130000
DTEND;TZID=America/Chicago:20280229T160000
DTSTAMP:20260425T143108
CREATED:20240617T141848Z
LAST-MODIFIED:20240617T141848Z
UID:10004436-1835442000-1835452800@www.algonquintownship.com
SUMMARY:Tuesday Bridge Group
DESCRIPTION:Tuesday’s at 1pm – 4pm.
URL:https://www.algonquintownship.com/event/tuesday-bridge-group/2028-02-29/
LOCATION:Meeting Room 1 Bingo Room
END:VEVENT
BEGIN:VEVENT
DTSTART;TZID=America/Chicago:20280301T090000
DTEND;TZID=America/Chicago:20280301T153000
DTSTAMP:20260425T143108
CREATED:20240617T145751Z
LAST-MODIFIED:20240617T145751Z
UID:10005585-1835514000-1835537400@www.algonquintownship.com
SUMMARY:Crystal Lake Duplicate Bridge Club
DESCRIPTION:
URL:https://www.algonquintownship.com/event/crystal-lake-duplicate-bridge-club/2028-03-01/
LOCATION:Meeting Room 1 Bingo Room
END:VEVENT
BEGIN:VEVENT
DTSTART;TZID=America/Chicago:20280302T104500
DTEND;TZID=America/Chicago:20280302T114500
DTSTAMP:20260425T143108
CREATED:20240617T143636Z
LAST-MODIFIED:20260107T154319Z
UID:10006805-1835606700-1835610300@www.algonquintownship.com
SUMMARY:Chair Yoga
DESCRIPTION:
URL:https://www.algonquintownship.com/event/chair-yoga-2024-10-03/2028-03-02/
LOCATION:Meeting Room 1 Bingo Room
END:VEVENT
BEGIN:VEVENT
DTSTART;TZID=America/Chicago:20280302T130000
DTEND;TZID=America/Chicago:20280302T160000
DTSTAMP:20260425T143108
CREATED:20240617T144914Z
LAST-MODIFIED:20240617T144914Z
UID:10005272-1835614800-1835625600@www.algonquintownship.com
SUMMARY:Thursday Bridge Group
DESCRIPTION:
URL:https://www.algonquintownship.com/event/thursday-bridge-group/2028-03-02/
LOCATION:Meeting Room 1 Bingo Room
END:VEVENT
BEGIN:VEVENT
DTSTART;TZID=America/Chicago:20280303T090000
DTEND;TZID=America/Chicago:20280303T153000
DTSTAMP:20260425T143108
CREATED:20240617T145919Z
LAST-MODIFIED:20240913T193901Z
UID:10009170-1835686800-1835710200@www.algonquintownship.com
SUMMARY:Crystal Lake Duplicate Bridge Club
DESCRIPTION:
URL:https://www.algonquintownship.com/event/crystal-lake-duplicate-bridge-club-2-2025-07-25/2028-03-03/
LOCATION:Meeting Room 1 Bingo Room
END:VEVENT
END:VCALENDAR