BEGIN:VCALENDAR
VERSION:2.0
PRODID:-//Algonquin Township - ECPv6.15.18//NONSGML v1.0//EN
CALSCALE:GREGORIAN
METHOD:PUBLISH
X-WR-CALNAME:Algonquin Township
X-ORIGINAL-URL:https://www.algonquintownship.com
X-WR-CALDESC:Events for Algonquin Township
REFRESH-INTERVAL;VALUE=DURATION:PT1H
X-Robots-Tag:noindex
X-PUBLISHED-TTL:PT1H
BEGIN:VTIMEZONE
TZID:America/Chicago
BEGIN:DAYLIGHT
TZOFFSETFROM:-0600
TZOFFSETTO:-0500
TZNAME:CDT
DTSTART:20260308T080000
END:DAYLIGHT
BEGIN:STANDARD
TZOFFSETFROM:-0500
TZOFFSETTO:-0600
TZNAME:CST
DTSTART:20261101T070000
END:STANDARD
BEGIN:DAYLIGHT
TZOFFSETFROM:-0600
TZOFFSETTO:-0500
TZNAME:CDT
DTSTART:20270314T080000
END:DAYLIGHT
BEGIN:STANDARD
TZOFFSETFROM:-0500
TZOFFSETTO:-0600
TZNAME:CST
DTSTART:20271107T070000
END:STANDARD
BEGIN:DAYLIGHT
TZOFFSETFROM:-0600
TZOFFSETTO:-0500
TZNAME:CDT
DTSTART:20280312T080000
END:DAYLIGHT
BEGIN:STANDARD
TZOFFSETFROM:-0500
TZOFFSETTO:-0600
TZNAME:CST
DTSTART:20281105T070000
END:STANDARD
BEGIN:DAYLIGHT
TZOFFSETFROM:-0600
TZOFFSETTO:-0500
TZNAME:CDT
DTSTART:20290311T080000
END:DAYLIGHT
BEGIN:STANDARD
TZOFFSETFROM:-0500
TZOFFSETTO:-0600
TZNAME:CST
DTSTART:20291104T070000
END:STANDARD
END:VTIMEZONE
BEGIN:VEVENT
DTSTART;TZID=America/Chicago:20271223T104500
DTEND;TZID=America/Chicago:20271223T114500
DTSTAMP:20260425T080742
CREATED:20240617T143636Z
LAST-MODIFIED:20260107T154319Z
UID:10006795-1829558700-1829562300@www.algonquintownship.com
SUMMARY:Chair Yoga
DESCRIPTION:
URL:https://www.algonquintownship.com/event/chair-yoga-2024-10-03/2027-12-23/
LOCATION:Meeting Room 1 Bingo Room
END:VEVENT
BEGIN:VEVENT
DTSTART;TZID=America/Chicago:20271223T130000
DTEND;TZID=America/Chicago:20271223T160000
DTSTAMP:20260425T080742
CREATED:20240617T144914Z
LAST-MODIFIED:20240617T144914Z
UID:10005262-1829566800-1829577600@www.algonquintownship.com
SUMMARY:Thursday Bridge Group
DESCRIPTION:
URL:https://www.algonquintownship.com/event/thursday-bridge-group/2027-12-23/
LOCATION:Meeting Room 1 Bingo Room
END:VEVENT
BEGIN:VEVENT
DTSTART;TZID=America/Chicago:20271224T090000
DTEND;TZID=America/Chicago:20271224T153000
DTSTAMP:20260425T080742
CREATED:20240617T145919Z
LAST-MODIFIED:20240913T193901Z
UID:10009160-1829638800-1829662200@www.algonquintownship.com
SUMMARY:Crystal Lake Duplicate Bridge Club
DESCRIPTION:
URL:https://www.algonquintownship.com/event/crystal-lake-duplicate-bridge-club-2-2025-07-25/2027-12-24/
LOCATION:Meeting Room 1 Bingo Room
END:VEVENT
BEGIN:VEVENT
DTSTART;TZID=America/Chicago:20271228T104500
DTEND;TZID=America/Chicago:20271228T120000
DTSTAMP:20260425T080742
CREATED:20240617T141656Z
LAST-MODIFIED:20260107T154114Z
UID:10008858-1829990700-1829995200@www.algonquintownship.com
SUMMARY:Simple Strength
DESCRIPTION:
URL:https://www.algonquintownship.com/event/simple-strength/2027-12-28/
LOCATION:Meeting Room 1 Bingo Room
END:VEVENT
BEGIN:VEVENT
DTSTART;TZID=America/Chicago:20271228T130000
DTEND;TZID=America/Chicago:20271228T160000
DTSTAMP:20260425T080742
CREATED:20240617T141848Z
LAST-MODIFIED:20240617T141848Z
UID:10004427-1829998800-1830009600@www.algonquintownship.com
SUMMARY:Tuesday Bridge Group
DESCRIPTION:Tuesday’s at 1pm – 4pm.
URL:https://www.algonquintownship.com/event/tuesday-bridge-group/2027-12-28/
LOCATION:Meeting Room 1 Bingo Room
END:VEVENT
BEGIN:VEVENT
DTSTART;TZID=America/Chicago:20271229T090000
DTEND;TZID=America/Chicago:20271229T153000
DTSTAMP:20260425T080742
CREATED:20240617T145751Z
LAST-MODIFIED:20240617T145751Z
UID:10005576-1830070800-1830094200@www.algonquintownship.com
SUMMARY:Crystal Lake Duplicate Bridge Club
DESCRIPTION:
URL:https://www.algonquintownship.com/event/crystal-lake-duplicate-bridge-club/2027-12-29/
LOCATION:Meeting Room 1 Bingo Room
END:VEVENT
BEGIN:VEVENT
DTSTART;TZID=America/Chicago:20271230T104500
DTEND;TZID=America/Chicago:20271230T114500
DTSTAMP:20260425T080742
CREATED:20240617T143636Z
LAST-MODIFIED:20260107T154319Z
UID:10006796-1830163500-1830167100@www.algonquintownship.com
SUMMARY:Chair Yoga
DESCRIPTION:
URL:https://www.algonquintownship.com/event/chair-yoga-2024-10-03/2027-12-30/
LOCATION:Meeting Room 1 Bingo Room
END:VEVENT
BEGIN:VEVENT
DTSTART;TZID=America/Chicago:20271230T123000
DTEND;TZID=America/Chicago:20271230T163000
DTSTAMP:20260425T080742
CREATED:20240617T162539Z
LAST-MODIFIED:20260127T171535Z
UID:10007581-1830169800-1830184200@www.algonquintownship.com
SUMMARY:Gazebo Quilters
DESCRIPTION:
URL:https://www.algonquintownship.com/event/gazebo-quilters-2025-01-30-2025-04-24/2027-12-30/
LOCATION:Meeting Room 1 Bingo Room
END:VEVENT
BEGIN:VEVENT
DTSTART;TZID=America/Chicago:20271230T130000
DTEND;TZID=America/Chicago:20271230T160000
DTSTAMP:20260425T080742
CREATED:20240617T144914Z
LAST-MODIFIED:20240617T144914Z
UID:10005263-1830171600-1830182400@www.algonquintownship.com
SUMMARY:Thursday Bridge Group
DESCRIPTION:
URL:https://www.algonquintownship.com/event/thursday-bridge-group/2027-12-30/
LOCATION:Meeting Room 1 Bingo Room
END:VEVENT
BEGIN:VEVENT
DTSTART;TZID=America/Chicago:20271231T090000
DTEND;TZID=America/Chicago:20271231T153000
DTSTAMP:20260425T080742
CREATED:20240617T145919Z
LAST-MODIFIED:20240913T193901Z
UID:10009161-1830243600-1830267000@www.algonquintownship.com
SUMMARY:Crystal Lake Duplicate Bridge Club
DESCRIPTION:
URL:https://www.algonquintownship.com/event/crystal-lake-duplicate-bridge-club-2-2025-07-25/2027-12-31/
LOCATION:Meeting Room 1 Bingo Room
END:VEVENT
BEGIN:VEVENT
DTSTART;TZID=America/Chicago:20280103T090000
DTEND;TZID=America/Chicago:20280103T130000
DTSTAMP:20260425T080742
CREATED:20240617T154337Z
LAST-MODIFIED:20250828T144203Z
UID:10006076-1830502800-1830517200@www.algonquintownship.com
SUMMARY:Bingo
DESCRIPTION:
URL:https://www.algonquintownship.com/event/bingo-2/2028-01-03/
LOCATION:Meeting Room 1 Bingo Room
END:VEVENT
BEGIN:VEVENT
DTSTART;TZID=America/Chicago:20280104T104500
DTEND;TZID=America/Chicago:20280104T120000
DTSTAMP:20260425T080742
CREATED:20240617T141656Z
LAST-MODIFIED:20260107T154114Z
UID:10008859-1830595500-1830600000@www.algonquintownship.com
SUMMARY:Simple Strength
DESCRIPTION:
URL:https://www.algonquintownship.com/event/simple-strength/2028-01-04/
LOCATION:Meeting Room 1 Bingo Room
END:VEVENT
BEGIN:VEVENT
DTSTART;TZID=America/Chicago:20280104T130000
DTEND;TZID=America/Chicago:20280104T160000
DTSTAMP:20260425T080742
CREATED:20240617T141848Z
LAST-MODIFIED:20240617T141848Z
UID:10004428-1830603600-1830614400@www.algonquintownship.com
SUMMARY:Tuesday Bridge Group
DESCRIPTION:Tuesday’s at 1pm – 4pm.
URL:https://www.algonquintownship.com/event/tuesday-bridge-group/2028-01-04/
LOCATION:Meeting Room 1 Bingo Room
END:VEVENT
BEGIN:VEVENT
DTSTART;TZID=America/Chicago:20280104T180000
DTEND;TZID=America/Chicago:20280104T213000
DTSTAMP:20260425T080742
CREATED:20240617T172239Z
LAST-MODIFIED:20240617T172239Z
UID:10006124-1830621600-1830634200@www.algonquintownship.com
SUMMARY:McHenry County Wireless Association (MCWA)
DESCRIPTION:
URL:https://www.algonquintownship.com/event/mchenry-county-wireless-association-mcwa/2028-01-04/
LOCATION:Meeting Room 1 Bingo Room
END:VEVENT
BEGIN:VEVENT
DTSTART;TZID=America/Chicago:20280105T090000
DTEND;TZID=America/Chicago:20280105T153000
DTSTAMP:20260425T080742
CREATED:20240617T145751Z
LAST-MODIFIED:20240617T145751Z
UID:10005577-1830675600-1830699000@www.algonquintownship.com
SUMMARY:Crystal Lake Duplicate Bridge Club
DESCRIPTION:
URL:https://www.algonquintownship.com/event/crystal-lake-duplicate-bridge-club/2028-01-05/
LOCATION:Meeting Room 1 Bingo Room
END:VEVENT
BEGIN:VEVENT
DTSTART;TZID=America/Chicago:20280106T104500
DTEND;TZID=America/Chicago:20280106T114500
DTSTAMP:20260425T080743
CREATED:20240617T143636Z
LAST-MODIFIED:20260107T154319Z
UID:10006797-1830768300-1830771900@www.algonquintownship.com
SUMMARY:Chair Yoga
DESCRIPTION:
URL:https://www.algonquintownship.com/event/chair-yoga-2024-10-03/2028-01-06/
LOCATION:Meeting Room 1 Bingo Room
END:VEVENT
BEGIN:VEVENT
DTSTART;TZID=America/Chicago:20280106T130000
DTEND;TZID=America/Chicago:20280106T160000
DTSTAMP:20260425T080743
CREATED:20240617T144914Z
LAST-MODIFIED:20240617T144914Z
UID:10005264-1830776400-1830787200@www.algonquintownship.com
SUMMARY:Thursday Bridge Group
DESCRIPTION:
URL:https://www.algonquintownship.com/event/thursday-bridge-group/2028-01-06/
LOCATION:Meeting Room 1 Bingo Room
END:VEVENT
BEGIN:VEVENT
DTSTART;TZID=America/Chicago:20280107T090000
DTEND;TZID=America/Chicago:20280107T153000
DTSTAMP:20260425T080743
CREATED:20240617T145919Z
LAST-MODIFIED:20240913T193901Z
UID:10009162-1830848400-1830871800@www.algonquintownship.com
SUMMARY:Crystal Lake Duplicate Bridge Club
DESCRIPTION:
URL:https://www.algonquintownship.com/event/crystal-lake-duplicate-bridge-club-2-2025-07-25/2028-01-07/
LOCATION:Meeting Room 1 Bingo Room
END:VEVENT
BEGIN:VEVENT
DTSTART;TZID=America/Chicago:20280108T173000
DTEND;TZID=America/Chicago:20280108T223000
DTSTAMP:20260425T080743
CREATED:20240617T162106Z
LAST-MODIFIED:20260127T163241Z
UID:10006508-1830965400-1830983400@www.algonquintownship.com
SUMMARY:IPMS Cars in Miniature
DESCRIPTION:
URL:https://www.algonquintownship.com/event/ipms-cars-in-miniature/2028-01-08/
LOCATION:Meeting Room 1 Bingo Room
END:VEVENT
BEGIN:VEVENT
DTSTART;TZID=America/Chicago:20280109T100000
DTEND;TZID=America/Chicago:20280109T160000
DTSTAMP:20260425T080743
CREATED:20240617T172039Z
LAST-MODIFIED:20260127T172609Z
UID:10006557-1831024800-1831046400@www.algonquintownship.com
SUMMARY:Crystal Lake Midwest Quilt Guild
DESCRIPTION:
URL:https://www.algonquintownship.com/event/crystal-lake-midwest-quilt-guild/2028-01-09/
LOCATION:Meeting Room 1 Bingo Room
END:VEVENT
BEGIN:VEVENT
DTSTART;TZID=America/Chicago:20280110T190000
DTEND;TZID=America/Chicago:20280110T210000
DTSTAMP:20260425T080743
CREATED:20240617T170507Z
LAST-MODIFIED:20260127T165221Z
UID:10006316-1831143600-1831150800@www.algonquintownship.com
SUMMARY:Cary Junior Trojans
DESCRIPTION:
URL:https://www.algonquintownship.com/event/cary-junior-trojans/2028-01-10/
LOCATION:Meeting Room 1 Bingo Room
END:VEVENT
BEGIN:VEVENT
DTSTART;TZID=America/Chicago:20280111T104500
DTEND;TZID=America/Chicago:20280111T120000
DTSTAMP:20260425T080743
CREATED:20240617T141656Z
LAST-MODIFIED:20260107T154114Z
UID:10008860-1831200300-1831204800@www.algonquintownship.com
SUMMARY:Simple Strength
DESCRIPTION:
URL:https://www.algonquintownship.com/event/simple-strength/2028-01-11/
LOCATION:Meeting Room 1 Bingo Room
END:VEVENT
BEGIN:VEVENT
DTSTART;TZID=America/Chicago:20280111T130000
DTEND;TZID=America/Chicago:20280111T160000
DTSTAMP:20260425T080743
CREATED:20240617T141848Z
LAST-MODIFIED:20240617T141848Z
UID:10004429-1831208400-1831219200@www.algonquintownship.com
SUMMARY:Tuesday Bridge Group
DESCRIPTION:Tuesday’s at 1pm – 4pm.
URL:https://www.algonquintownship.com/event/tuesday-bridge-group/2028-01-11/
LOCATION:Meeting Room 1 Bingo Room
END:VEVENT
BEGIN:VEVENT
DTSTART;TZID=America/Chicago:20280112T090000
DTEND;TZID=America/Chicago:20280112T153000
DTSTAMP:20260425T080743
CREATED:20240617T145751Z
LAST-MODIFIED:20240617T145751Z
UID:10005578-1831280400-1831303800@www.algonquintownship.com
SUMMARY:Crystal Lake Duplicate Bridge Club
DESCRIPTION:
URL:https://www.algonquintownship.com/event/crystal-lake-duplicate-bridge-club/2028-01-12/
LOCATION:Meeting Room 1 Bingo Room
END:VEVENT
BEGIN:VEVENT
DTSTART;TZID=America/Chicago:20280113T104500
DTEND;TZID=America/Chicago:20280113T114500
DTSTAMP:20260425T080743
CREATED:20240617T143636Z
LAST-MODIFIED:20260107T154319Z
UID:10006798-1831373100-1831376700@www.algonquintownship.com
SUMMARY:Chair Yoga
DESCRIPTION:
URL:https://www.algonquintownship.com/event/chair-yoga-2024-10-03/2028-01-13/
LOCATION:Meeting Room 1 Bingo Room
END:VEVENT
BEGIN:VEVENT
DTSTART;TZID=America/Chicago:20280113T130000
DTEND;TZID=America/Chicago:20280113T160000
DTSTAMP:20260425T080743
CREATED:20240617T144914Z
LAST-MODIFIED:20240617T144914Z
UID:10005265-1831381200-1831392000@www.algonquintownship.com
SUMMARY:Thursday Bridge Group
DESCRIPTION:
URL:https://www.algonquintownship.com/event/thursday-bridge-group/2028-01-13/
LOCATION:Meeting Room 1 Bingo Room
END:VEVENT
BEGIN:VEVENT
DTSTART;TZID=America/Chicago:20280113T180000
DTEND;TZID=America/Chicago:20280113T210000
DTSTAMP:20260425T080743
CREATED:20241010T192644Z
LAST-MODIFIED:20250117T183941Z
UID:10006955-1831399200-1831410000@www.algonquintownship.com
SUMMARY:McHenry County NOW (National Organization for Women)
DESCRIPTION:2nd Thursday of Every Month.
URL:https://www.algonquintownship.com/event/mchenry-county-now-national-organization-for-women/2028-01-13/
LOCATION:Meeting Room 1 Bingo Room
END:VEVENT
BEGIN:VEVENT
DTSTART;TZID=America/Chicago:20280114T090000
DTEND;TZID=America/Chicago:20280114T153000
DTSTAMP:20260425T080743
CREATED:20240617T145919Z
LAST-MODIFIED:20240913T193901Z
UID:10009163-1831453200-1831476600@www.algonquintownship.com
SUMMARY:Crystal Lake Duplicate Bridge Club
DESCRIPTION:
URL:https://www.algonquintownship.com/event/crystal-lake-duplicate-bridge-club-2-2025-07-25/2028-01-14/
LOCATION:Meeting Room 1 Bingo Room
END:VEVENT
BEGIN:VEVENT
DTSTART;TZID=America/Chicago:20280118T104500
DTEND;TZID=America/Chicago:20280118T120000
DTSTAMP:20260425T080743
CREATED:20240617T141656Z
LAST-MODIFIED:20260107T154114Z
UID:10008861-1831805100-1831809600@www.algonquintownship.com
SUMMARY:Simple Strength
DESCRIPTION:
URL:https://www.algonquintownship.com/event/simple-strength/2028-01-18/
LOCATION:Meeting Room 1 Bingo Room
END:VEVENT
BEGIN:VEVENT
DTSTART;TZID=America/Chicago:20280118T130000
DTEND;TZID=America/Chicago:20280118T160000
DTSTAMP:20260425T080743
CREATED:20240617T141848Z
LAST-MODIFIED:20240617T141848Z
UID:10004430-1831813200-1831824000@www.algonquintownship.com
SUMMARY:Tuesday Bridge Group
DESCRIPTION:Tuesday’s at 1pm – 4pm.
URL:https://www.algonquintownship.com/event/tuesday-bridge-group/2028-01-18/
LOCATION:Meeting Room 1 Bingo Room
END:VEVENT
END:VCALENDAR