BEGIN:VCALENDAR
VERSION:2.0
PRODID:-//Algonquin Township - ECPv6.15.18//NONSGML v1.0//EN
CALSCALE:GREGORIAN
METHOD:PUBLISH
X-WR-CALNAME:Algonquin Township
X-ORIGINAL-URL:https://www.algonquintownship.com
X-WR-CALDESC:Events for Algonquin Township
REFRESH-INTERVAL;VALUE=DURATION:PT1H
X-Robots-Tag:noindex
X-PUBLISHED-TTL:PT1H
BEGIN:VTIMEZONE
TZID:America/Chicago
BEGIN:DAYLIGHT
TZOFFSETFROM:-0600
TZOFFSETTO:-0500
TZNAME:CDT
DTSTART:20260308T080000
END:DAYLIGHT
BEGIN:STANDARD
TZOFFSETFROM:-0500
TZOFFSETTO:-0600
TZNAME:CST
DTSTART:20261101T070000
END:STANDARD
BEGIN:DAYLIGHT
TZOFFSETFROM:-0600
TZOFFSETTO:-0500
TZNAME:CDT
DTSTART:20270314T080000
END:DAYLIGHT
BEGIN:STANDARD
TZOFFSETFROM:-0500
TZOFFSETTO:-0600
TZNAME:CST
DTSTART:20271107T070000
END:STANDARD
BEGIN:DAYLIGHT
TZOFFSETFROM:-0600
TZOFFSETTO:-0500
TZNAME:CDT
DTSTART:20280312T080000
END:DAYLIGHT
BEGIN:STANDARD
TZOFFSETFROM:-0500
TZOFFSETTO:-0600
TZNAME:CST
DTSTART:20281105T070000
END:STANDARD
END:VTIMEZONE
BEGIN:VEVENT
DTSTART;TZID=America/Chicago:20270928T104500
DTEND;TZID=America/Chicago:20270928T120000
DTSTAMP:20260424T190513
CREATED:20240617T141656Z
LAST-MODIFIED:20260107T154114Z
UID:10008845-1822128300-1822132800@www.algonquintownship.com
SUMMARY:Simple Strength
DESCRIPTION:
URL:https://www.algonquintownship.com/event/simple-strength/2027-09-28/
LOCATION:Meeting Room 1 Bingo Room
END:VEVENT
BEGIN:VEVENT
DTSTART;TZID=America/Chicago:20270928T130000
DTEND;TZID=America/Chicago:20270928T160000
DTSTAMP:20260424T190513
CREATED:20240617T141848Z
LAST-MODIFIED:20240617T141848Z
UID:10004414-1822136400-1822147200@www.algonquintownship.com
SUMMARY:Tuesday Bridge Group
DESCRIPTION:Tuesday’s at 1pm – 4pm.
URL:https://www.algonquintownship.com/event/tuesday-bridge-group/2027-09-28/
LOCATION:Meeting Room 1 Bingo Room
END:VEVENT
BEGIN:VEVENT
DTSTART;TZID=America/Chicago:20270929T090000
DTEND;TZID=America/Chicago:20270929T153000
DTSTAMP:20260424T190513
CREATED:20240617T145751Z
LAST-MODIFIED:20240617T145751Z
UID:10005563-1822208400-1822231800@www.algonquintownship.com
SUMMARY:Crystal Lake Duplicate Bridge Club
DESCRIPTION:
URL:https://www.algonquintownship.com/event/crystal-lake-duplicate-bridge-club/2027-09-29/
LOCATION:Meeting Room 1 Bingo Room
END:VEVENT
BEGIN:VEVENT
DTSTART;TZID=America/Chicago:20270930T104500
DTEND;TZID=America/Chicago:20270930T114500
DTSTAMP:20260424T190513
CREATED:20240617T143636Z
LAST-MODIFIED:20260107T154319Z
UID:10006783-1822301100-1822304700@www.algonquintownship.com
SUMMARY:Chair Yoga
DESCRIPTION:
URL:https://www.algonquintownship.com/event/chair-yoga-2024-10-03/2027-09-30/
LOCATION:Meeting Room 1 Bingo Room
END:VEVENT
BEGIN:VEVENT
DTSTART;TZID=America/Chicago:20270930T123000
DTEND;TZID=America/Chicago:20270930T163000
DTSTAMP:20260424T190513
CREATED:20240617T162539Z
LAST-MODIFIED:20260127T171535Z
UID:10007578-1822307400-1822321800@www.algonquintownship.com
SUMMARY:Gazebo Quilters
DESCRIPTION:
URL:https://www.algonquintownship.com/event/gazebo-quilters-2025-01-30-2025-04-24/2027-09-30/
LOCATION:Meeting Room 1 Bingo Room
END:VEVENT
BEGIN:VEVENT
DTSTART;TZID=America/Chicago:20270930T130000
DTEND;TZID=America/Chicago:20270930T160000
DTSTAMP:20260424T190513
CREATED:20240617T144914Z
LAST-MODIFIED:20240617T144914Z
UID:10005250-1822309200-1822320000@www.algonquintownship.com
SUMMARY:Thursday Bridge Group
DESCRIPTION:
URL:https://www.algonquintownship.com/event/thursday-bridge-group/2027-09-30/
LOCATION:Meeting Room 1 Bingo Room
END:VEVENT
BEGIN:VEVENT
DTSTART;TZID=America/Chicago:20271001T090000
DTEND;TZID=America/Chicago:20271001T153000
DTSTAMP:20260424T190513
CREATED:20240617T145919Z
LAST-MODIFIED:20240913T193901Z
UID:10009148-1822381200-1822404600@www.algonquintownship.com
SUMMARY:Crystal Lake Duplicate Bridge Club
DESCRIPTION:
URL:https://www.algonquintownship.com/event/crystal-lake-duplicate-bridge-club-2-2025-07-25/2027-10-01/
LOCATION:Meeting Room 1 Bingo Room
END:VEVENT
BEGIN:VEVENT
DTSTART;TZID=America/Chicago:20271004T090000
DTEND;TZID=America/Chicago:20271004T130000
DTSTAMP:20260424T190513
CREATED:20240617T154337Z
LAST-MODIFIED:20250828T144203Z
UID:10006073-1822640400-1822654800@www.algonquintownship.com
SUMMARY:Bingo
DESCRIPTION:
URL:https://www.algonquintownship.com/event/bingo-2/2027-10-04/
LOCATION:Meeting Room 1 Bingo Room
END:VEVENT
BEGIN:VEVENT
DTSTART;TZID=America/Chicago:20271005T104500
DTEND;TZID=America/Chicago:20271005T120000
DTSTAMP:20260424T190513
CREATED:20240617T141656Z
LAST-MODIFIED:20260107T154114Z
UID:10008846-1822733100-1822737600@www.algonquintownship.com
SUMMARY:Simple Strength
DESCRIPTION:
URL:https://www.algonquintownship.com/event/simple-strength/2027-10-05/
LOCATION:Meeting Room 1 Bingo Room
END:VEVENT
BEGIN:VEVENT
DTSTART;TZID=America/Chicago:20271005T130000
DTEND;TZID=America/Chicago:20271005T160000
DTSTAMP:20260424T190513
CREATED:20240617T141848Z
LAST-MODIFIED:20240617T141848Z
UID:10004415-1822741200-1822752000@www.algonquintownship.com
SUMMARY:Tuesday Bridge Group
DESCRIPTION:Tuesday’s at 1pm – 4pm.
URL:https://www.algonquintownship.com/event/tuesday-bridge-group/2027-10-05/
LOCATION:Meeting Room 1 Bingo Room
END:VEVENT
BEGIN:VEVENT
DTSTART;TZID=America/Chicago:20271005T180000
DTEND;TZID=America/Chicago:20271005T213000
DTSTAMP:20260424T190513
CREATED:20240617T172239Z
LAST-MODIFIED:20240617T172239Z
UID:10006121-1822759200-1822771800@www.algonquintownship.com
SUMMARY:McHenry County Wireless Association (MCWA)
DESCRIPTION:
URL:https://www.algonquintownship.com/event/mchenry-county-wireless-association-mcwa/2027-10-05/
LOCATION:Meeting Room 1 Bingo Room
END:VEVENT
BEGIN:VEVENT
DTSTART;TZID=America/Chicago:20271006T090000
DTEND;TZID=America/Chicago:20271006T153000
DTSTAMP:20260424T190513
CREATED:20240617T145751Z
LAST-MODIFIED:20240617T145751Z
UID:10005564-1822813200-1822836600@www.algonquintownship.com
SUMMARY:Crystal Lake Duplicate Bridge Club
DESCRIPTION:
URL:https://www.algonquintownship.com/event/crystal-lake-duplicate-bridge-club/2027-10-06/
LOCATION:Meeting Room 1 Bingo Room
END:VEVENT
BEGIN:VEVENT
DTSTART;TZID=America/Chicago:20271007T104500
DTEND;TZID=America/Chicago:20271007T114500
DTSTAMP:20260424T190513
CREATED:20240617T143636Z
LAST-MODIFIED:20260107T154319Z
UID:10006784-1822905900-1822909500@www.algonquintownship.com
SUMMARY:Chair Yoga
DESCRIPTION:
URL:https://www.algonquintownship.com/event/chair-yoga-2024-10-03/2027-10-07/
LOCATION:Meeting Room 1 Bingo Room
END:VEVENT
BEGIN:VEVENT
DTSTART;TZID=America/Chicago:20271007T130000
DTEND;TZID=America/Chicago:20271007T160000
DTSTAMP:20260424T190513
CREATED:20240617T144914Z
LAST-MODIFIED:20240617T144914Z
UID:10005251-1822914000-1822924800@www.algonquintownship.com
SUMMARY:Thursday Bridge Group
DESCRIPTION:
URL:https://www.algonquintownship.com/event/thursday-bridge-group/2027-10-07/
LOCATION:Meeting Room 1 Bingo Room
END:VEVENT
BEGIN:VEVENT
DTSTART;TZID=America/Chicago:20271008T090000
DTEND;TZID=America/Chicago:20271008T153000
DTSTAMP:20260424T190513
CREATED:20240617T145919Z
LAST-MODIFIED:20240913T193901Z
UID:10009149-1822986000-1823009400@www.algonquintownship.com
SUMMARY:Crystal Lake Duplicate Bridge Club
DESCRIPTION:
URL:https://www.algonquintownship.com/event/crystal-lake-duplicate-bridge-club-2-2025-07-25/2027-10-08/
LOCATION:Meeting Room 1 Bingo Room
END:VEVENT
BEGIN:VEVENT
DTSTART;TZID=America/Chicago:20271009T173000
DTEND;TZID=America/Chicago:20271009T223000
DTSTAMP:20260424T190513
CREATED:20240617T162106Z
LAST-MODIFIED:20260127T163241Z
UID:10006505-1823103000-1823121000@www.algonquintownship.com
SUMMARY:IPMS Cars in Miniature
DESCRIPTION:
URL:https://www.algonquintownship.com/event/ipms-cars-in-miniature/2027-10-09/
LOCATION:Meeting Room 1 Bingo Room
END:VEVENT
BEGIN:VEVENT
DTSTART;TZID=America/Chicago:20271010T100000
DTEND;TZID=America/Chicago:20271010T160000
DTSTAMP:20260424T190513
CREATED:20240617T172039Z
LAST-MODIFIED:20260127T172609Z
UID:10006554-1823162400-1823184000@www.algonquintownship.com
SUMMARY:Crystal Lake Midwest Quilt Guild
DESCRIPTION:
URL:https://www.algonquintownship.com/event/crystal-lake-midwest-quilt-guild/2027-10-10/
LOCATION:Meeting Room 1 Bingo Room
END:VEVENT
BEGIN:VEVENT
DTSTART;TZID=America/Chicago:20271011T190000
DTEND;TZID=America/Chicago:20271011T210000
DTSTAMP:20260424T190513
CREATED:20240617T170507Z
LAST-MODIFIED:20260127T165221Z
UID:10006313-1823281200-1823288400@www.algonquintownship.com
SUMMARY:Cary Junior Trojans
DESCRIPTION:
URL:https://www.algonquintownship.com/event/cary-junior-trojans/2027-10-11/
LOCATION:Meeting Room 1 Bingo Room
END:VEVENT
BEGIN:VEVENT
DTSTART;TZID=America/Chicago:20271012T104500
DTEND;TZID=America/Chicago:20271012T120000
DTSTAMP:20260424T190513
CREATED:20240617T141656Z
LAST-MODIFIED:20260107T154114Z
UID:10008847-1823337900-1823342400@www.algonquintownship.com
SUMMARY:Simple Strength
DESCRIPTION:
URL:https://www.algonquintownship.com/event/simple-strength/2027-10-12/
LOCATION:Meeting Room 1 Bingo Room
END:VEVENT
BEGIN:VEVENT
DTSTART;TZID=America/Chicago:20271012T130000
DTEND;TZID=America/Chicago:20271012T160000
DTSTAMP:20260424T190513
CREATED:20240617T141848Z
LAST-MODIFIED:20240617T141848Z
UID:10004416-1823346000-1823356800@www.algonquintownship.com
SUMMARY:Tuesday Bridge Group
DESCRIPTION:Tuesday’s at 1pm – 4pm.
URL:https://www.algonquintownship.com/event/tuesday-bridge-group/2027-10-12/
LOCATION:Meeting Room 1 Bingo Room
END:VEVENT
BEGIN:VEVENT
DTSTART;TZID=America/Chicago:20271013T090000
DTEND;TZID=America/Chicago:20271013T153000
DTSTAMP:20260424T190513
CREATED:20240617T145751Z
LAST-MODIFIED:20240617T145751Z
UID:10005565-1823418000-1823441400@www.algonquintownship.com
SUMMARY:Crystal Lake Duplicate Bridge Club
DESCRIPTION:
URL:https://www.algonquintownship.com/event/crystal-lake-duplicate-bridge-club/2027-10-13/
LOCATION:Meeting Room 1 Bingo Room
END:VEVENT
BEGIN:VEVENT
DTSTART;TZID=America/Chicago:20271014T104500
DTEND;TZID=America/Chicago:20271014T114500
DTSTAMP:20260424T190513
CREATED:20240617T143636Z
LAST-MODIFIED:20260107T154319Z
UID:10006785-1823510700-1823514300@www.algonquintownship.com
SUMMARY:Chair Yoga
DESCRIPTION:
URL:https://www.algonquintownship.com/event/chair-yoga-2024-10-03/2027-10-14/
LOCATION:Meeting Room 1 Bingo Room
END:VEVENT
BEGIN:VEVENT
DTSTART;TZID=America/Chicago:20271014T130000
DTEND;TZID=America/Chicago:20271014T160000
DTSTAMP:20260424T190513
CREATED:20240617T144914Z
LAST-MODIFIED:20240617T144914Z
UID:10005252-1823518800-1823529600@www.algonquintownship.com
SUMMARY:Thursday Bridge Group
DESCRIPTION:
URL:https://www.algonquintownship.com/event/thursday-bridge-group/2027-10-14/
LOCATION:Meeting Room 1 Bingo Room
END:VEVENT
BEGIN:VEVENT
DTSTART;TZID=America/Chicago:20271014T180000
DTEND;TZID=America/Chicago:20271014T210000
DTSTAMP:20260424T190513
CREATED:20241010T192644Z
LAST-MODIFIED:20250117T183941Z
UID:10006952-1823536800-1823547600@www.algonquintownship.com
SUMMARY:McHenry County NOW (National Organization for Women)
DESCRIPTION:2nd Thursday of Every Month.
URL:https://www.algonquintownship.com/event/mchenry-county-now-national-organization-for-women/2027-10-14/
LOCATION:Meeting Room 1 Bingo Room
END:VEVENT
BEGIN:VEVENT
DTSTART;TZID=America/Chicago:20271015T090000
DTEND;TZID=America/Chicago:20271015T153000
DTSTAMP:20260424T190513
CREATED:20240617T145919Z
LAST-MODIFIED:20240913T193901Z
UID:10009150-1823590800-1823614200@www.algonquintownship.com
SUMMARY:Crystal Lake Duplicate Bridge Club
DESCRIPTION:
URL:https://www.algonquintownship.com/event/crystal-lake-duplicate-bridge-club-2-2025-07-25/2027-10-15/
LOCATION:Meeting Room 1 Bingo Room
END:VEVENT
BEGIN:VEVENT
DTSTART;TZID=America/Chicago:20271019T104500
DTEND;TZID=America/Chicago:20271019T120000
DTSTAMP:20260424T190513
CREATED:20240617T141656Z
LAST-MODIFIED:20260107T154114Z
UID:10008848-1823942700-1823947200@www.algonquintownship.com
SUMMARY:Simple Strength
DESCRIPTION:
URL:https://www.algonquintownship.com/event/simple-strength/2027-10-19/
LOCATION:Meeting Room 1 Bingo Room
END:VEVENT
BEGIN:VEVENT
DTSTART;TZID=America/Chicago:20271019T130000
DTEND;TZID=America/Chicago:20271019T160000
DTSTAMP:20260424T190513
CREATED:20240617T141848Z
LAST-MODIFIED:20240617T141848Z
UID:10004417-1823950800-1823961600@www.algonquintownship.com
SUMMARY:Tuesday Bridge Group
DESCRIPTION:Tuesday’s at 1pm – 4pm.
URL:https://www.algonquintownship.com/event/tuesday-bridge-group/2027-10-19/
LOCATION:Meeting Room 1 Bingo Room
END:VEVENT
BEGIN:VEVENT
DTSTART;TZID=America/Chicago:20271020T090000
DTEND;TZID=America/Chicago:20271020T153000
DTSTAMP:20260424T190513
CREATED:20240617T145751Z
LAST-MODIFIED:20240617T145751Z
UID:10005566-1824022800-1824046200@www.algonquintownship.com
SUMMARY:Crystal Lake Duplicate Bridge Club
DESCRIPTION:
URL:https://www.algonquintownship.com/event/crystal-lake-duplicate-bridge-club/2027-10-20/
LOCATION:Meeting Room 1 Bingo Room
END:VEVENT
BEGIN:VEVENT
DTSTART;TZID=America/Chicago:20271021T104500
DTEND;TZID=America/Chicago:20271021T114500
DTSTAMP:20260424T190513
CREATED:20240617T143636Z
LAST-MODIFIED:20260107T154319Z
UID:10006786-1824115500-1824119100@www.algonquintownship.com
SUMMARY:Chair Yoga
DESCRIPTION:
URL:https://www.algonquintownship.com/event/chair-yoga-2024-10-03/2027-10-21/
LOCATION:Meeting Room 1 Bingo Room
END:VEVENT
BEGIN:VEVENT
DTSTART;TZID=America/Chicago:20271021T130000
DTEND;TZID=America/Chicago:20271021T160000
DTSTAMP:20260424T190513
CREATED:20240617T144914Z
LAST-MODIFIED:20240617T144914Z
UID:10005253-1824123600-1824134400@www.algonquintownship.com
SUMMARY:Thursday Bridge Group
DESCRIPTION:
URL:https://www.algonquintownship.com/event/thursday-bridge-group/2027-10-21/
LOCATION:Meeting Room 1 Bingo Room
END:VEVENT
END:VCALENDAR