BEGIN:VCALENDAR
VERSION:2.0
PRODID:-//Algonquin Township - ECPv6.15.18//NONSGML v1.0//EN
CALSCALE:GREGORIAN
METHOD:PUBLISH
X-ORIGINAL-URL:https://www.algonquintownship.com
X-WR-CALDESC:Events for Algonquin Township
REFRESH-INTERVAL;VALUE=DURATION:PT1H
X-Robots-Tag:noindex
X-PUBLISHED-TTL:PT1H
BEGIN:VTIMEZONE
TZID:America/Chicago
BEGIN:DAYLIGHT
TZOFFSETFROM:-0600
TZOFFSETTO:-0500
TZNAME:CDT
DTSTART:20260308T080000
END:DAYLIGHT
BEGIN:STANDARD
TZOFFSETFROM:-0500
TZOFFSETTO:-0600
TZNAME:CST
DTSTART:20261101T070000
END:STANDARD
BEGIN:DAYLIGHT
TZOFFSETFROM:-0600
TZOFFSETTO:-0500
TZNAME:CDT
DTSTART:20270314T080000
END:DAYLIGHT
BEGIN:STANDARD
TZOFFSETFROM:-0500
TZOFFSETTO:-0600
TZNAME:CST
DTSTART:20271107T070000
END:STANDARD
BEGIN:DAYLIGHT
TZOFFSETFROM:-0600
TZOFFSETTO:-0500
TZNAME:CDT
DTSTART:20280312T080000
END:DAYLIGHT
BEGIN:STANDARD
TZOFFSETFROM:-0500
TZOFFSETTO:-0600
TZNAME:CST
DTSTART:20281105T070000
END:STANDARD
END:VTIMEZONE
BEGIN:VEVENT
DTSTART;TZID=America/Chicago:20270906T090000
DTEND;TZID=America/Chicago:20270906T130000
DTSTAMP:20260424T154454
CREATED:20240617T154337Z
LAST-MODIFIED:20250828T144203Z
UID:10006072-1820221200-1820235600@www.algonquintownship.com
SUMMARY:Bingo
DESCRIPTION:
URL:https://www.algonquintownship.com/event/bingo-2/2027-09-06/
LOCATION:Meeting Room 1 Bingo Room
END:VEVENT
BEGIN:VEVENT
DTSTART;TZID=America/Chicago:20270907T104500
DTEND;TZID=America/Chicago:20270907T120000
DTSTAMP:20260424T154454
CREATED:20240617T141656Z
LAST-MODIFIED:20260107T154114Z
UID:10008842-1820313900-1820318400@www.algonquintownship.com
SUMMARY:Simple Strength
DESCRIPTION:
URL:https://www.algonquintownship.com/event/simple-strength/2027-09-07/
LOCATION:Meeting Room 1 Bingo Room
END:VEVENT
BEGIN:VEVENT
DTSTART;TZID=America/Chicago:20270907T130000
DTEND;TZID=America/Chicago:20270907T160000
DTSTAMP:20260424T154454
CREATED:20240617T141848Z
LAST-MODIFIED:20240617T141848Z
UID:10004411-1820322000-1820332800@www.algonquintownship.com
SUMMARY:Tuesday Bridge Group
DESCRIPTION:Tuesday’s at 1pm – 4pm.
URL:https://www.algonquintownship.com/event/tuesday-bridge-group/2027-09-07/
LOCATION:Meeting Room 1 Bingo Room
END:VEVENT
BEGIN:VEVENT
DTSTART;TZID=America/Chicago:20270907T180000
DTEND;TZID=America/Chicago:20270907T213000
DTSTAMP:20260424T154454
CREATED:20240617T172239Z
LAST-MODIFIED:20240617T172239Z
UID:10006120-1820340000-1820352600@www.algonquintownship.com
SUMMARY:McHenry County Wireless Association (MCWA)
DESCRIPTION:
URL:https://www.algonquintownship.com/event/mchenry-county-wireless-association-mcwa/2027-09-07/
LOCATION:Meeting Room 1 Bingo Room
END:VEVENT
BEGIN:VEVENT
DTSTART;TZID=America/Chicago:20270908T090000
DTEND;TZID=America/Chicago:20270908T153000
DTSTAMP:20260424T154454
CREATED:20240617T145751Z
LAST-MODIFIED:20240617T145751Z
UID:10005560-1820394000-1820417400@www.algonquintownship.com
SUMMARY:Crystal Lake Duplicate Bridge Club
DESCRIPTION:
URL:https://www.algonquintownship.com/event/crystal-lake-duplicate-bridge-club/2027-09-08/
LOCATION:Meeting Room 1 Bingo Room
END:VEVENT
BEGIN:VEVENT
DTSTART;TZID=America/Chicago:20270909T104500
DTEND;TZID=America/Chicago:20270909T114500
DTSTAMP:20260424T154454
CREATED:20240617T143636Z
LAST-MODIFIED:20260107T154319Z
UID:10006780-1820486700-1820490300@www.algonquintownship.com
SUMMARY:Chair Yoga
DESCRIPTION:
URL:https://www.algonquintownship.com/event/chair-yoga-2024-10-03/2027-09-09/
LOCATION:Meeting Room 1 Bingo Room
END:VEVENT
BEGIN:VEVENT
DTSTART;TZID=America/Chicago:20270909T130000
DTEND;TZID=America/Chicago:20270909T160000
DTSTAMP:20260424T154454
CREATED:20240617T144914Z
LAST-MODIFIED:20240617T144914Z
UID:10005247-1820494800-1820505600@www.algonquintownship.com
SUMMARY:Thursday Bridge Group
DESCRIPTION:
URL:https://www.algonquintownship.com/event/thursday-bridge-group/2027-09-09/
LOCATION:Meeting Room 1 Bingo Room
END:VEVENT
BEGIN:VEVENT
DTSTART;TZID=America/Chicago:20270909T180000
DTEND;TZID=America/Chicago:20270909T210000
DTSTAMP:20260424T154455
CREATED:20241010T192644Z
LAST-MODIFIED:20250117T183941Z
UID:10006951-1820512800-1820523600@www.algonquintownship.com
SUMMARY:McHenry County NOW (National Organization for Women)
DESCRIPTION:2nd Thursday of Every Month.
URL:https://www.algonquintownship.com/event/mchenry-county-now-national-organization-for-women/2027-09-09/
LOCATION:Meeting Room 1 Bingo Room
END:VEVENT
BEGIN:VEVENT
DTSTART;TZID=America/Chicago:20270910T090000
DTEND;TZID=America/Chicago:20270910T153000
DTSTAMP:20260424T154455
CREATED:20240617T145919Z
LAST-MODIFIED:20240913T193901Z
UID:10009145-1820566800-1820590200@www.algonquintownship.com
SUMMARY:Crystal Lake Duplicate Bridge Club
DESCRIPTION:
URL:https://www.algonquintownship.com/event/crystal-lake-duplicate-bridge-club-2-2025-07-25/2027-09-10/
LOCATION:Meeting Room 1 Bingo Room
END:VEVENT
BEGIN:VEVENT
DTSTART;TZID=America/Chicago:20270911T173000
DTEND;TZID=America/Chicago:20270911T223000
DTSTAMP:20260424T154455
CREATED:20240617T162106Z
LAST-MODIFIED:20260127T163241Z
UID:10006504-1820683800-1820701800@www.algonquintownship.com
SUMMARY:IPMS Cars in Miniature
DESCRIPTION:
URL:https://www.algonquintownship.com/event/ipms-cars-in-miniature/2027-09-11/
LOCATION:Meeting Room 1 Bingo Room
END:VEVENT
BEGIN:VEVENT
DTSTART;TZID=America/Chicago:20270912T100000
DTEND;TZID=America/Chicago:20270912T160000
DTSTAMP:20260424T154455
CREATED:20240617T172039Z
LAST-MODIFIED:20260127T172609Z
UID:10006553-1820743200-1820764800@www.algonquintownship.com
SUMMARY:Crystal Lake Midwest Quilt Guild
DESCRIPTION:
URL:https://www.algonquintownship.com/event/crystal-lake-midwest-quilt-guild/2027-09-12/
LOCATION:Meeting Room 1 Bingo Room
END:VEVENT
BEGIN:VEVENT
DTSTART;TZID=America/Chicago:20270913T190000
DTEND;TZID=America/Chicago:20270913T210000
DTSTAMP:20260424T154455
CREATED:20240617T170507Z
LAST-MODIFIED:20260127T165221Z
UID:10006312-1820862000-1820869200@www.algonquintownship.com
SUMMARY:Cary Junior Trojans
DESCRIPTION:
URL:https://www.algonquintownship.com/event/cary-junior-trojans/2027-09-13/
LOCATION:Meeting Room 1 Bingo Room
END:VEVENT
BEGIN:VEVENT
DTSTART;TZID=America/Chicago:20270914T104500
DTEND;TZID=America/Chicago:20270914T120000
DTSTAMP:20260424T154455
CREATED:20240617T141656Z
LAST-MODIFIED:20260107T154114Z
UID:10008843-1820918700-1820923200@www.algonquintownship.com
SUMMARY:Simple Strength
DESCRIPTION:
URL:https://www.algonquintownship.com/event/simple-strength/2027-09-14/
LOCATION:Meeting Room 1 Bingo Room
END:VEVENT
BEGIN:VEVENT
DTSTART;TZID=America/Chicago:20270914T130000
DTEND;TZID=America/Chicago:20270914T160000
DTSTAMP:20260424T154455
CREATED:20240617T141848Z
LAST-MODIFIED:20240617T141848Z
UID:10004412-1820926800-1820937600@www.algonquintownship.com
SUMMARY:Tuesday Bridge Group
DESCRIPTION:Tuesday’s at 1pm – 4pm.
URL:https://www.algonquintownship.com/event/tuesday-bridge-group/2027-09-14/
LOCATION:Meeting Room 1 Bingo Room
END:VEVENT
BEGIN:VEVENT
DTSTART;TZID=America/Chicago:20270915T090000
DTEND;TZID=America/Chicago:20270915T153000
DTSTAMP:20260424T154455
CREATED:20240617T145751Z
LAST-MODIFIED:20240617T145751Z
UID:10005561-1820998800-1821022200@www.algonquintownship.com
SUMMARY:Crystal Lake Duplicate Bridge Club
DESCRIPTION:
URL:https://www.algonquintownship.com/event/crystal-lake-duplicate-bridge-club/2027-09-15/
LOCATION:Meeting Room 1 Bingo Room
END:VEVENT
BEGIN:VEVENT
DTSTART;TZID=America/Chicago:20270916T104500
DTEND;TZID=America/Chicago:20270916T114500
DTSTAMP:20260424T154455
CREATED:20240617T143636Z
LAST-MODIFIED:20260107T154319Z
UID:10006781-1821091500-1821095100@www.algonquintownship.com
SUMMARY:Chair Yoga
DESCRIPTION:
URL:https://www.algonquintownship.com/event/chair-yoga-2024-10-03/2027-09-16/
LOCATION:Meeting Room 1 Bingo Room
END:VEVENT
BEGIN:VEVENT
DTSTART;TZID=America/Chicago:20270916T130000
DTEND;TZID=America/Chicago:20270916T160000
DTSTAMP:20260424T154455
CREATED:20240617T144914Z
LAST-MODIFIED:20240617T144914Z
UID:10005248-1821099600-1821110400@www.algonquintownship.com
SUMMARY:Thursday Bridge Group
DESCRIPTION:
URL:https://www.algonquintownship.com/event/thursday-bridge-group/2027-09-16/
LOCATION:Meeting Room 1 Bingo Room
END:VEVENT
BEGIN:VEVENT
DTSTART;TZID=America/Chicago:20270917T090000
DTEND;TZID=America/Chicago:20270917T153000
DTSTAMP:20260424T154455
CREATED:20240617T145919Z
LAST-MODIFIED:20240913T193901Z
UID:10009146-1821171600-1821195000@www.algonquintownship.com
SUMMARY:Crystal Lake Duplicate Bridge Club
DESCRIPTION:
URL:https://www.algonquintownship.com/event/crystal-lake-duplicate-bridge-club-2-2025-07-25/2027-09-17/
LOCATION:Meeting Room 1 Bingo Room
END:VEVENT
BEGIN:VEVENT
DTSTART;TZID=America/Chicago:20270921T104500
DTEND;TZID=America/Chicago:20270921T120000
DTSTAMP:20260424T154455
CREATED:20240617T141656Z
LAST-MODIFIED:20260107T154114Z
UID:10008844-1821523500-1821528000@www.algonquintownship.com
SUMMARY:Simple Strength
DESCRIPTION:
URL:https://www.algonquintownship.com/event/simple-strength/2027-09-21/
LOCATION:Meeting Room 1 Bingo Room
END:VEVENT
BEGIN:VEVENT
DTSTART;TZID=America/Chicago:20270921T130000
DTEND;TZID=America/Chicago:20270921T160000
DTSTAMP:20260424T154455
CREATED:20240617T141848Z
LAST-MODIFIED:20240617T141848Z
UID:10004413-1821531600-1821542400@www.algonquintownship.com
SUMMARY:Tuesday Bridge Group
DESCRIPTION:Tuesday’s at 1pm – 4pm.
URL:https://www.algonquintownship.com/event/tuesday-bridge-group/2027-09-21/
LOCATION:Meeting Room 1 Bingo Room
END:VEVENT
BEGIN:VEVENT
DTSTART;TZID=America/Chicago:20270922T090000
DTEND;TZID=America/Chicago:20270922T153000
DTSTAMP:20260424T154455
CREATED:20240617T145751Z
LAST-MODIFIED:20240617T145751Z
UID:10005562-1821603600-1821627000@www.algonquintownship.com
SUMMARY:Crystal Lake Duplicate Bridge Club
DESCRIPTION:
URL:https://www.algonquintownship.com/event/crystal-lake-duplicate-bridge-club/2027-09-22/
LOCATION:Meeting Room 1 Bingo Room
END:VEVENT
BEGIN:VEVENT
DTSTART;TZID=America/Chicago:20270923T104500
DTEND;TZID=America/Chicago:20270923T114500
DTSTAMP:20260424T154455
CREATED:20240617T143636Z
LAST-MODIFIED:20260107T154319Z
UID:10006782-1821696300-1821699900@www.algonquintownship.com
SUMMARY:Chair Yoga
DESCRIPTION:
URL:https://www.algonquintownship.com/event/chair-yoga-2024-10-03/2027-09-23/
LOCATION:Meeting Room 1 Bingo Room
END:VEVENT
BEGIN:VEVENT
DTSTART;TZID=America/Chicago:20270923T130000
DTEND;TZID=America/Chicago:20270923T160000
DTSTAMP:20260424T154455
CREATED:20240617T144914Z
LAST-MODIFIED:20240617T144914Z
UID:10005249-1821704400-1821715200@www.algonquintownship.com
SUMMARY:Thursday Bridge Group
DESCRIPTION:
URL:https://www.algonquintownship.com/event/thursday-bridge-group/2027-09-23/
LOCATION:Meeting Room 1 Bingo Room
END:VEVENT
BEGIN:VEVENT
DTSTART;TZID=America/Chicago:20270924T090000
DTEND;TZID=America/Chicago:20270924T153000
DTSTAMP:20260424T154455
CREATED:20240617T145919Z
LAST-MODIFIED:20240913T193901Z
UID:10009147-1821776400-1821799800@www.algonquintownship.com
SUMMARY:Crystal Lake Duplicate Bridge Club
DESCRIPTION:
URL:https://www.algonquintownship.com/event/crystal-lake-duplicate-bridge-club-2-2025-07-25/2027-09-24/
LOCATION:Meeting Room 1 Bingo Room
END:VEVENT
BEGIN:VEVENT
DTSTART;TZID=America/Chicago:20270928T104500
DTEND;TZID=America/Chicago:20270928T120000
DTSTAMP:20260424T154455
CREATED:20240617T141656Z
LAST-MODIFIED:20260107T154114Z
UID:10008845-1822128300-1822132800@www.algonquintownship.com
SUMMARY:Simple Strength
DESCRIPTION:
URL:https://www.algonquintownship.com/event/simple-strength/2027-09-28/
LOCATION:Meeting Room 1 Bingo Room
END:VEVENT
BEGIN:VEVENT
DTSTART;TZID=America/Chicago:20270928T130000
DTEND;TZID=America/Chicago:20270928T160000
DTSTAMP:20260424T154455
CREATED:20240617T141848Z
LAST-MODIFIED:20240617T141848Z
UID:10004414-1822136400-1822147200@www.algonquintownship.com
SUMMARY:Tuesday Bridge Group
DESCRIPTION:Tuesday’s at 1pm – 4pm.
URL:https://www.algonquintownship.com/event/tuesday-bridge-group/2027-09-28/
LOCATION:Meeting Room 1 Bingo Room
END:VEVENT
BEGIN:VEVENT
DTSTART;TZID=America/Chicago:20270929T090000
DTEND;TZID=America/Chicago:20270929T153000
DTSTAMP:20260424T154455
CREATED:20240617T145751Z
LAST-MODIFIED:20240617T145751Z
UID:10005563-1822208400-1822231800@www.algonquintownship.com
SUMMARY:Crystal Lake Duplicate Bridge Club
DESCRIPTION:
URL:https://www.algonquintownship.com/event/crystal-lake-duplicate-bridge-club/2027-09-29/
LOCATION:Meeting Room 1 Bingo Room
END:VEVENT
BEGIN:VEVENT
DTSTART;TZID=America/Chicago:20270930T104500
DTEND;TZID=America/Chicago:20270930T114500
DTSTAMP:20260424T154455
CREATED:20240617T143636Z
LAST-MODIFIED:20260107T154319Z
UID:10006783-1822301100-1822304700@www.algonquintownship.com
SUMMARY:Chair Yoga
DESCRIPTION:
URL:https://www.algonquintownship.com/event/chair-yoga-2024-10-03/2027-09-30/
LOCATION:Meeting Room 1 Bingo Room
END:VEVENT
BEGIN:VEVENT
DTSTART;TZID=America/Chicago:20270930T123000
DTEND;TZID=America/Chicago:20270930T163000
DTSTAMP:20260424T154455
CREATED:20240617T162539Z
LAST-MODIFIED:20260127T171535Z
UID:10007578-1822307400-1822321800@www.algonquintownship.com
SUMMARY:Gazebo Quilters
DESCRIPTION:
URL:https://www.algonquintownship.com/event/gazebo-quilters-2025-01-30-2025-04-24/2027-09-30/
LOCATION:Meeting Room 1 Bingo Room
END:VEVENT
BEGIN:VEVENT
DTSTART;TZID=America/Chicago:20270930T130000
DTEND;TZID=America/Chicago:20270930T160000
DTSTAMP:20260424T154455
CREATED:20240617T144914Z
LAST-MODIFIED:20240617T144914Z
UID:10005250-1822309200-1822320000@www.algonquintownship.com
SUMMARY:Thursday Bridge Group
DESCRIPTION:
URL:https://www.algonquintownship.com/event/thursday-bridge-group/2027-09-30/
LOCATION:Meeting Room 1 Bingo Room
END:VEVENT
END:VCALENDAR