BEGIN:VCALENDAR
VERSION:2.0
PRODID:-//Algonquin Township - ECPv6.15.18//NONSGML v1.0//EN
CALSCALE:GREGORIAN
METHOD:PUBLISH
X-ORIGINAL-URL:https://www.algonquintownship.com
X-WR-CALDESC:Events for Algonquin Township
REFRESH-INTERVAL;VALUE=DURATION:PT1H
X-Robots-Tag:noindex
X-PUBLISHED-TTL:PT1H
BEGIN:VTIMEZONE
TZID:America/Chicago
BEGIN:DAYLIGHT
TZOFFSETFROM:-0600
TZOFFSETTO:-0500
TZNAME:CDT
DTSTART:20260308T080000
END:DAYLIGHT
BEGIN:STANDARD
TZOFFSETFROM:-0500
TZOFFSETTO:-0600
TZNAME:CST
DTSTART:20261101T070000
END:STANDARD
BEGIN:DAYLIGHT
TZOFFSETFROM:-0600
TZOFFSETTO:-0500
TZNAME:CDT
DTSTART:20270314T080000
END:DAYLIGHT
BEGIN:STANDARD
TZOFFSETFROM:-0500
TZOFFSETTO:-0600
TZNAME:CST
DTSTART:20271107T070000
END:STANDARD
BEGIN:DAYLIGHT
TZOFFSETFROM:-0600
TZOFFSETTO:-0500
TZNAME:CDT
DTSTART:20280312T080000
END:DAYLIGHT
BEGIN:STANDARD
TZOFFSETFROM:-0500
TZOFFSETTO:-0600
TZNAME:CST
DTSTART:20281105T070000
END:STANDARD
END:VTIMEZONE
BEGIN:VEVENT
DTSTART;TZID=America/Chicago:20270811T090000
DTEND;TZID=America/Chicago:20270811T153000
DTSTAMP:20260424T122023
CREATED:20240617T145751Z
LAST-MODIFIED:20240617T145751Z
UID:10005556-1817974800-1817998200@www.algonquintownship.com
SUMMARY:Crystal Lake Duplicate Bridge Club
DESCRIPTION:
URL:https://www.algonquintownship.com/event/crystal-lake-duplicate-bridge-club/2027-08-11/
LOCATION:Meeting Room 1 Bingo Room
END:VEVENT
BEGIN:VEVENT
DTSTART;TZID=America/Chicago:20270812T104500
DTEND;TZID=America/Chicago:20270812T114500
DTSTAMP:20260424T122023
CREATED:20240617T143636Z
LAST-MODIFIED:20260107T154319Z
UID:10006776-1818067500-1818071100@www.algonquintownship.com
SUMMARY:Chair Yoga
DESCRIPTION:
URL:https://www.algonquintownship.com/event/chair-yoga-2024-10-03/2027-08-12/
LOCATION:Meeting Room 1 Bingo Room
END:VEVENT
BEGIN:VEVENT
DTSTART;TZID=America/Chicago:20270812T130000
DTEND;TZID=America/Chicago:20270812T160000
DTSTAMP:20260424T122023
CREATED:20240617T144914Z
LAST-MODIFIED:20240617T144914Z
UID:10005243-1818075600-1818086400@www.algonquintownship.com
SUMMARY:Thursday Bridge Group
DESCRIPTION:
URL:https://www.algonquintownship.com/event/thursday-bridge-group/2027-08-12/
LOCATION:Meeting Room 1 Bingo Room
END:VEVENT
BEGIN:VEVENT
DTSTART;TZID=America/Chicago:20270812T180000
DTEND;TZID=America/Chicago:20270812T210000
DTSTAMP:20260424T122023
CREATED:20241010T192644Z
LAST-MODIFIED:20250117T183941Z
UID:10006950-1818093600-1818104400@www.algonquintownship.com
SUMMARY:McHenry County NOW (National Organization for Women)
DESCRIPTION:2nd Thursday of Every Month.
URL:https://www.algonquintownship.com/event/mchenry-county-now-national-organization-for-women/2027-08-12/
LOCATION:Meeting Room 1 Bingo Room
END:VEVENT
BEGIN:VEVENT
DTSTART;TZID=America/Chicago:20270813T090000
DTEND;TZID=America/Chicago:20270813T153000
DTSTAMP:20260424T122023
CREATED:20240617T145919Z
LAST-MODIFIED:20240913T193901Z
UID:10009141-1818147600-1818171000@www.algonquintownship.com
SUMMARY:Crystal Lake Duplicate Bridge Club
DESCRIPTION:
URL:https://www.algonquintownship.com/event/crystal-lake-duplicate-bridge-club-2-2025-07-25/2027-08-13/
LOCATION:Meeting Room 1 Bingo Room
END:VEVENT
BEGIN:VEVENT
DTSTART;TZID=America/Chicago:20270814T173000
DTEND;TZID=America/Chicago:20270814T223000
DTSTAMP:20260424T122023
CREATED:20240617T162106Z
LAST-MODIFIED:20260127T163241Z
UID:10006503-1818264600-1818282600@www.algonquintownship.com
SUMMARY:IPMS Cars in Miniature
DESCRIPTION:
URL:https://www.algonquintownship.com/event/ipms-cars-in-miniature/2027-08-14/
LOCATION:Meeting Room 1 Bingo Room
END:VEVENT
BEGIN:VEVENT
DTSTART;TZID=America/Chicago:20270817T104500
DTEND;TZID=America/Chicago:20270817T120000
DTSTAMP:20260424T122023
CREATED:20240617T141656Z
LAST-MODIFIED:20260107T154114Z
UID:10008839-1818499500-1818504000@www.algonquintownship.com
SUMMARY:Simple Strength
DESCRIPTION:
URL:https://www.algonquintownship.com/event/simple-strength/2027-08-17/
LOCATION:Meeting Room 1 Bingo Room
END:VEVENT
BEGIN:VEVENT
DTSTART;TZID=America/Chicago:20270817T130000
DTEND;TZID=America/Chicago:20270817T160000
DTSTAMP:20260424T122023
CREATED:20240617T141848Z
LAST-MODIFIED:20240617T141848Z
UID:10004408-1818507600-1818518400@www.algonquintownship.com
SUMMARY:Tuesday Bridge Group
DESCRIPTION:Tuesday’s at 1pm – 4pm.
URL:https://www.algonquintownship.com/event/tuesday-bridge-group/2027-08-17/
LOCATION:Meeting Room 1 Bingo Room
END:VEVENT
BEGIN:VEVENT
DTSTART;TZID=America/Chicago:20270818T090000
DTEND;TZID=America/Chicago:20270818T153000
DTSTAMP:20260424T122023
CREATED:20240617T145751Z
LAST-MODIFIED:20240617T145751Z
UID:10005557-1818579600-1818603000@www.algonquintownship.com
SUMMARY:Crystal Lake Duplicate Bridge Club
DESCRIPTION:
URL:https://www.algonquintownship.com/event/crystal-lake-duplicate-bridge-club/2027-08-18/
LOCATION:Meeting Room 1 Bingo Room
END:VEVENT
BEGIN:VEVENT
DTSTART;TZID=America/Chicago:20270819T104500
DTEND;TZID=America/Chicago:20270819T114500
DTSTAMP:20260424T122023
CREATED:20240617T143636Z
LAST-MODIFIED:20260107T154319Z
UID:10006777-1818672300-1818675900@www.algonquintownship.com
SUMMARY:Chair Yoga
DESCRIPTION:
URL:https://www.algonquintownship.com/event/chair-yoga-2024-10-03/2027-08-19/
LOCATION:Meeting Room 1 Bingo Room
END:VEVENT
BEGIN:VEVENT
DTSTART;TZID=America/Chicago:20270819T130000
DTEND;TZID=America/Chicago:20270819T160000
DTSTAMP:20260424T122023
CREATED:20240617T144914Z
LAST-MODIFIED:20240617T144914Z
UID:10005244-1818680400-1818691200@www.algonquintownship.com
SUMMARY:Thursday Bridge Group
DESCRIPTION:
URL:https://www.algonquintownship.com/event/thursday-bridge-group/2027-08-19/
LOCATION:Meeting Room 1 Bingo Room
END:VEVENT
BEGIN:VEVENT
DTSTART;TZID=America/Chicago:20270820T090000
DTEND;TZID=America/Chicago:20270820T153000
DTSTAMP:20260424T122023
CREATED:20240617T145919Z
LAST-MODIFIED:20240913T193901Z
UID:10009142-1818752400-1818775800@www.algonquintownship.com
SUMMARY:Crystal Lake Duplicate Bridge Club
DESCRIPTION:
URL:https://www.algonquintownship.com/event/crystal-lake-duplicate-bridge-club-2-2025-07-25/2027-08-20/
LOCATION:Meeting Room 1 Bingo Room
END:VEVENT
BEGIN:VEVENT
DTSTART;TZID=America/Chicago:20270824T104500
DTEND;TZID=America/Chicago:20270824T120000
DTSTAMP:20260424T122023
CREATED:20240617T141656Z
LAST-MODIFIED:20260107T154114Z
UID:10008840-1819104300-1819108800@www.algonquintownship.com
SUMMARY:Simple Strength
DESCRIPTION:
URL:https://www.algonquintownship.com/event/simple-strength/2027-08-24/
LOCATION:Meeting Room 1 Bingo Room
END:VEVENT
BEGIN:VEVENT
DTSTART;TZID=America/Chicago:20270824T130000
DTEND;TZID=America/Chicago:20270824T160000
DTSTAMP:20260424T122023
CREATED:20240617T141848Z
LAST-MODIFIED:20240617T141848Z
UID:10004409-1819112400-1819123200@www.algonquintownship.com
SUMMARY:Tuesday Bridge Group
DESCRIPTION:Tuesday’s at 1pm – 4pm.
URL:https://www.algonquintownship.com/event/tuesday-bridge-group/2027-08-24/
LOCATION:Meeting Room 1 Bingo Room
END:VEVENT
BEGIN:VEVENT
DTSTART;TZID=America/Chicago:20270825T090000
DTEND;TZID=America/Chicago:20270825T153000
DTSTAMP:20260424T122023
CREATED:20240617T145751Z
LAST-MODIFIED:20240617T145751Z
UID:10005558-1819184400-1819207800@www.algonquintownship.com
SUMMARY:Crystal Lake Duplicate Bridge Club
DESCRIPTION:
URL:https://www.algonquintownship.com/event/crystal-lake-duplicate-bridge-club/2027-08-25/
LOCATION:Meeting Room 1 Bingo Room
END:VEVENT
BEGIN:VEVENT
DTSTART;TZID=America/Chicago:20270826T104500
DTEND;TZID=America/Chicago:20270826T114500
DTSTAMP:20260424T122023
CREATED:20240617T143636Z
LAST-MODIFIED:20260107T154319Z
UID:10006778-1819277100-1819280700@www.algonquintownship.com
SUMMARY:Chair Yoga
DESCRIPTION:
URL:https://www.algonquintownship.com/event/chair-yoga-2024-10-03/2027-08-26/
LOCATION:Meeting Room 1 Bingo Room
END:VEVENT
BEGIN:VEVENT
DTSTART;TZID=America/Chicago:20270826T123000
DTEND;TZID=America/Chicago:20270826T163000
DTSTAMP:20260424T122023
CREATED:20240617T162539Z
LAST-MODIFIED:20260127T171535Z
UID:10007577-1819283400-1819297800@www.algonquintownship.com
SUMMARY:Gazebo Quilters
DESCRIPTION:
URL:https://www.algonquintownship.com/event/gazebo-quilters-2025-01-30-2025-04-24/2027-08-26/
LOCATION:Meeting Room 1 Bingo Room
END:VEVENT
BEGIN:VEVENT
DTSTART;TZID=America/Chicago:20270826T130000
DTEND;TZID=America/Chicago:20270826T160000
DTSTAMP:20260424T122023
CREATED:20240617T144914Z
LAST-MODIFIED:20240617T144914Z
UID:10005245-1819285200-1819296000@www.algonquintownship.com
SUMMARY:Thursday Bridge Group
DESCRIPTION:
URL:https://www.algonquintownship.com/event/thursday-bridge-group/2027-08-26/
LOCATION:Meeting Room 1 Bingo Room
END:VEVENT
BEGIN:VEVENT
DTSTART;TZID=America/Chicago:20270827T090000
DTEND;TZID=America/Chicago:20270827T153000
DTSTAMP:20260424T122023
CREATED:20240617T145919Z
LAST-MODIFIED:20240913T193901Z
UID:10009143-1819357200-1819380600@www.algonquintownship.com
SUMMARY:Crystal Lake Duplicate Bridge Club
DESCRIPTION:
URL:https://www.algonquintownship.com/event/crystal-lake-duplicate-bridge-club-2-2025-07-25/2027-08-27/
LOCATION:Meeting Room 1 Bingo Room
END:VEVENT
BEGIN:VEVENT
DTSTART;TZID=America/Chicago:20270831T104500
DTEND;TZID=America/Chicago:20270831T120000
DTSTAMP:20260424T122023
CREATED:20240617T141656Z
LAST-MODIFIED:20260107T154114Z
UID:10008841-1819709100-1819713600@www.algonquintownship.com
SUMMARY:Simple Strength
DESCRIPTION:
URL:https://www.algonquintownship.com/event/simple-strength/2027-08-31/
LOCATION:Meeting Room 1 Bingo Room
END:VEVENT
BEGIN:VEVENT
DTSTART;TZID=America/Chicago:20270831T130000
DTEND;TZID=America/Chicago:20270831T160000
DTSTAMP:20260424T122023
CREATED:20240617T141848Z
LAST-MODIFIED:20240617T141848Z
UID:10004410-1819717200-1819728000@www.algonquintownship.com
SUMMARY:Tuesday Bridge Group
DESCRIPTION:Tuesday’s at 1pm – 4pm.
URL:https://www.algonquintownship.com/event/tuesday-bridge-group/2027-08-31/
LOCATION:Meeting Room 1 Bingo Room
END:VEVENT
BEGIN:VEVENT
DTSTART;TZID=America/Chicago:20270901T090000
DTEND;TZID=America/Chicago:20270901T153000
DTSTAMP:20260424T122023
CREATED:20240617T145751Z
LAST-MODIFIED:20240617T145751Z
UID:10005559-1819789200-1819812600@www.algonquintownship.com
SUMMARY:Crystal Lake Duplicate Bridge Club
DESCRIPTION:
URL:https://www.algonquintownship.com/event/crystal-lake-duplicate-bridge-club/2027-09-01/
LOCATION:Meeting Room 1 Bingo Room
END:VEVENT
BEGIN:VEVENT
DTSTART;TZID=America/Chicago:20270902T104500
DTEND;TZID=America/Chicago:20270902T114500
DTSTAMP:20260424T122023
CREATED:20240617T143636Z
LAST-MODIFIED:20260107T154319Z
UID:10006779-1819881900-1819885500@www.algonquintownship.com
SUMMARY:Chair Yoga
DESCRIPTION:
URL:https://www.algonquintownship.com/event/chair-yoga-2024-10-03/2027-09-02/
LOCATION:Meeting Room 1 Bingo Room
END:VEVENT
BEGIN:VEVENT
DTSTART;TZID=America/Chicago:20270902T130000
DTEND;TZID=America/Chicago:20270902T160000
DTSTAMP:20260424T122023
CREATED:20240617T144914Z
LAST-MODIFIED:20240617T144914Z
UID:10005246-1819890000-1819900800@www.algonquintownship.com
SUMMARY:Thursday Bridge Group
DESCRIPTION:
URL:https://www.algonquintownship.com/event/thursday-bridge-group/2027-09-02/
LOCATION:Meeting Room 1 Bingo Room
END:VEVENT
BEGIN:VEVENT
DTSTART;TZID=America/Chicago:20270903T090000
DTEND;TZID=America/Chicago:20270903T153000
DTSTAMP:20260424T122023
CREATED:20240617T145919Z
LAST-MODIFIED:20240913T193901Z
UID:10009144-1819962000-1819985400@www.algonquintownship.com
SUMMARY:Crystal Lake Duplicate Bridge Club
DESCRIPTION:
URL:https://www.algonquintownship.com/event/crystal-lake-duplicate-bridge-club-2-2025-07-25/2027-09-03/
LOCATION:Meeting Room 1 Bingo Room
END:VEVENT
BEGIN:VEVENT
DTSTART;TZID=America/Chicago:20270906T090000
DTEND;TZID=America/Chicago:20270906T130000
DTSTAMP:20260424T122023
CREATED:20240617T154337Z
LAST-MODIFIED:20250828T144203Z
UID:10006072-1820221200-1820235600@www.algonquintownship.com
SUMMARY:Bingo
DESCRIPTION:
URL:https://www.algonquintownship.com/event/bingo-2/2027-09-06/
LOCATION:Meeting Room 1 Bingo Room
END:VEVENT
BEGIN:VEVENT
DTSTART;TZID=America/Chicago:20270907T104500
DTEND;TZID=America/Chicago:20270907T120000
DTSTAMP:20260424T122023
CREATED:20240617T141656Z
LAST-MODIFIED:20260107T154114Z
UID:10008842-1820313900-1820318400@www.algonquintownship.com
SUMMARY:Simple Strength
DESCRIPTION:
URL:https://www.algonquintownship.com/event/simple-strength/2027-09-07/
LOCATION:Meeting Room 1 Bingo Room
END:VEVENT
BEGIN:VEVENT
DTSTART;TZID=America/Chicago:20270907T130000
DTEND;TZID=America/Chicago:20270907T160000
DTSTAMP:20260424T122023
CREATED:20240617T141848Z
LAST-MODIFIED:20240617T141848Z
UID:10004411-1820322000-1820332800@www.algonquintownship.com
SUMMARY:Tuesday Bridge Group
DESCRIPTION:Tuesday’s at 1pm – 4pm.
URL:https://www.algonquintownship.com/event/tuesday-bridge-group/2027-09-07/
LOCATION:Meeting Room 1 Bingo Room
END:VEVENT
BEGIN:VEVENT
DTSTART;TZID=America/Chicago:20270907T180000
DTEND;TZID=America/Chicago:20270907T213000
DTSTAMP:20260424T122023
CREATED:20240617T172239Z
LAST-MODIFIED:20240617T172239Z
UID:10006120-1820340000-1820352600@www.algonquintownship.com
SUMMARY:McHenry County Wireless Association (MCWA)
DESCRIPTION:
URL:https://www.algonquintownship.com/event/mchenry-county-wireless-association-mcwa/2027-09-07/
LOCATION:Meeting Room 1 Bingo Room
END:VEVENT
BEGIN:VEVENT
DTSTART;TZID=America/Chicago:20270908T090000
DTEND;TZID=America/Chicago:20270908T153000
DTSTAMP:20260424T122023
CREATED:20240617T145751Z
LAST-MODIFIED:20240617T145751Z
UID:10005560-1820394000-1820417400@www.algonquintownship.com
SUMMARY:Crystal Lake Duplicate Bridge Club
DESCRIPTION:
URL:https://www.algonquintownship.com/event/crystal-lake-duplicate-bridge-club/2027-09-08/
LOCATION:Meeting Room 1 Bingo Room
END:VEVENT
END:VCALENDAR