BEGIN:VCALENDAR
VERSION:2.0
PRODID:-//Algonquin Township - ECPv6.15.18//NONSGML v1.0//EN
CALSCALE:GREGORIAN
METHOD:PUBLISH
X-ORIGINAL-URL:https://www.algonquintownship.com
X-WR-CALDESC:Events for Algonquin Township
REFRESH-INTERVAL;VALUE=DURATION:PT1H
X-Robots-Tag:noindex
X-PUBLISHED-TTL:PT1H
BEGIN:VTIMEZONE
TZID:America/Chicago
BEGIN:DAYLIGHT
TZOFFSETFROM:-0600
TZOFFSETTO:-0500
TZNAME:CDT
DTSTART:20260308T080000
END:DAYLIGHT
BEGIN:STANDARD
TZOFFSETFROM:-0500
TZOFFSETTO:-0600
TZNAME:CST
DTSTART:20261101T070000
END:STANDARD
BEGIN:DAYLIGHT
TZOFFSETFROM:-0600
TZOFFSETTO:-0500
TZNAME:CDT
DTSTART:20270314T080000
END:DAYLIGHT
BEGIN:STANDARD
TZOFFSETFROM:-0500
TZOFFSETTO:-0600
TZNAME:CST
DTSTART:20271107T070000
END:STANDARD
BEGIN:DAYLIGHT
TZOFFSETFROM:-0600
TZOFFSETTO:-0500
TZNAME:CDT
DTSTART:20280312T080000
END:DAYLIGHT
BEGIN:STANDARD
TZOFFSETFROM:-0500
TZOFFSETTO:-0600
TZNAME:CST
DTSTART:20281105T070000
END:STANDARD
END:VTIMEZONE
BEGIN:VEVENT
DTSTART;TZID=America/Chicago:20270513T130000
DTEND;TZID=America/Chicago:20270513T160000
DTSTAMP:20260423T212345
CREATED:20240617T144914Z
LAST-MODIFIED:20240617T144914Z
UID:10005230-1810213200-1810224000@www.algonquintownship.com
SUMMARY:Thursday Bridge Group
DESCRIPTION:
URL:https://www.algonquintownship.com/event/thursday-bridge-group/2027-05-13/
LOCATION:Meeting Room 1 Bingo Room
END:VEVENT
BEGIN:VEVENT
DTSTART;TZID=America/Chicago:20270513T180000
DTEND;TZID=America/Chicago:20270513T210000
DTSTAMP:20260423T212345
CREATED:20241010T192644Z
LAST-MODIFIED:20250117T183941Z
UID:10006947-1810231200-1810242000@www.algonquintownship.com
SUMMARY:McHenry County NOW (National Organization for Women)
DESCRIPTION:2nd Thursday of Every Month.
URL:https://www.algonquintownship.com/event/mchenry-county-now-national-organization-for-women/2027-05-13/
LOCATION:Meeting Room 1 Bingo Room
END:VEVENT
BEGIN:VEVENT
DTSTART;TZID=America/Chicago:20270514T090000
DTEND;TZID=America/Chicago:20270514T153000
DTSTAMP:20260423T212345
CREATED:20240617T145919Z
LAST-MODIFIED:20240913T193901Z
UID:10009128-1810285200-1810308600@www.algonquintownship.com
SUMMARY:Crystal Lake Duplicate Bridge Club
DESCRIPTION:
URL:https://www.algonquintownship.com/event/crystal-lake-duplicate-bridge-club-2-2025-07-25/2027-05-14/
LOCATION:Meeting Room 1 Bingo Room
END:VEVENT
BEGIN:VEVENT
DTSTART;TZID=America/Chicago:20270518T104500
DTEND;TZID=America/Chicago:20270518T120000
DTSTAMP:20260423T212345
CREATED:20240617T141656Z
LAST-MODIFIED:20260107T154114Z
UID:10008826-1810637100-1810641600@www.algonquintownship.com
SUMMARY:Simple Strength
DESCRIPTION:
URL:https://www.algonquintownship.com/event/simple-strength/2027-05-18/
LOCATION:Meeting Room 1 Bingo Room
END:VEVENT
BEGIN:VEVENT
DTSTART;TZID=America/Chicago:20270518T130000
DTEND;TZID=America/Chicago:20270518T160000
DTSTAMP:20260423T212345
CREATED:20240617T141848Z
LAST-MODIFIED:20240617T141848Z
UID:10004395-1810645200-1810656000@www.algonquintownship.com
SUMMARY:Tuesday Bridge Group
DESCRIPTION:Tuesday’s at 1pm – 4pm.
URL:https://www.algonquintownship.com/event/tuesday-bridge-group/2027-05-18/
LOCATION:Meeting Room 1 Bingo Room
END:VEVENT
BEGIN:VEVENT
DTSTART;TZID=America/Chicago:20270519T090000
DTEND;TZID=America/Chicago:20270519T153000
DTSTAMP:20260423T212345
CREATED:20240617T145751Z
LAST-MODIFIED:20240617T145751Z
UID:10005544-1810717200-1810740600@www.algonquintownship.com
SUMMARY:Crystal Lake Duplicate Bridge Club
DESCRIPTION:
URL:https://www.algonquintownship.com/event/crystal-lake-duplicate-bridge-club/2027-05-19/
LOCATION:Meeting Room 1 Bingo Room
END:VEVENT
BEGIN:VEVENT
DTSTART;TZID=America/Chicago:20270520T104500
DTEND;TZID=America/Chicago:20270520T114500
DTSTAMP:20260423T212345
CREATED:20240617T143636Z
LAST-MODIFIED:20260107T154319Z
UID:10006764-1810809900-1810813500@www.algonquintownship.com
SUMMARY:Chair Yoga
DESCRIPTION:
URL:https://www.algonquintownship.com/event/chair-yoga-2024-10-03/2027-05-20/
LOCATION:Meeting Room 1 Bingo Room
END:VEVENT
BEGIN:VEVENT
DTSTART;TZID=America/Chicago:20270520T130000
DTEND;TZID=America/Chicago:20270520T160000
DTSTAMP:20260423T212345
CREATED:20240617T144914Z
LAST-MODIFIED:20240617T144914Z
UID:10005231-1810818000-1810828800@www.algonquintownship.com
SUMMARY:Thursday Bridge Group
DESCRIPTION:
URL:https://www.algonquintownship.com/event/thursday-bridge-group/2027-05-20/
LOCATION:Meeting Room 1 Bingo Room
END:VEVENT
BEGIN:VEVENT
DTSTART;TZID=America/Chicago:20270521T090000
DTEND;TZID=America/Chicago:20270521T153000
DTSTAMP:20260423T212345
CREATED:20240617T145919Z
LAST-MODIFIED:20240913T193901Z
UID:10009129-1810890000-1810913400@www.algonquintownship.com
SUMMARY:Crystal Lake Duplicate Bridge Club
DESCRIPTION:
URL:https://www.algonquintownship.com/event/crystal-lake-duplicate-bridge-club-2-2025-07-25/2027-05-21/
LOCATION:Meeting Room 1 Bingo Room
END:VEVENT
BEGIN:VEVENT
DTSTART;TZID=America/Chicago:20270525T104500
DTEND;TZID=America/Chicago:20270525T120000
DTSTAMP:20260423T212345
CREATED:20240617T141656Z
LAST-MODIFIED:20260107T154114Z
UID:10008827-1811241900-1811246400@www.algonquintownship.com
SUMMARY:Simple Strength
DESCRIPTION:
URL:https://www.algonquintownship.com/event/simple-strength/2027-05-25/
LOCATION:Meeting Room 1 Bingo Room
END:VEVENT
BEGIN:VEVENT
DTSTART;TZID=America/Chicago:20270525T130000
DTEND;TZID=America/Chicago:20270525T160000
DTSTAMP:20260423T212345
CREATED:20240617T141848Z
LAST-MODIFIED:20240617T141848Z
UID:10004396-1811250000-1811260800@www.algonquintownship.com
SUMMARY:Tuesday Bridge Group
DESCRIPTION:Tuesday’s at 1pm – 4pm.
URL:https://www.algonquintownship.com/event/tuesday-bridge-group/2027-05-25/
LOCATION:Meeting Room 1 Bingo Room
END:VEVENT
BEGIN:VEVENT
DTSTART;TZID=America/Chicago:20270526T090000
DTEND;TZID=America/Chicago:20270526T153000
DTSTAMP:20260423T212345
CREATED:20240617T145751Z
LAST-MODIFIED:20240617T145751Z
UID:10005545-1811322000-1811345400@www.algonquintownship.com
SUMMARY:Crystal Lake Duplicate Bridge Club
DESCRIPTION:
URL:https://www.algonquintownship.com/event/crystal-lake-duplicate-bridge-club/2027-05-26/
LOCATION:Meeting Room 1 Bingo Room
END:VEVENT
BEGIN:VEVENT
DTSTART;TZID=America/Chicago:20270527T104500
DTEND;TZID=America/Chicago:20270527T114500
DTSTAMP:20260423T212345
CREATED:20240617T143636Z
LAST-MODIFIED:20260107T154319Z
UID:10006765-1811414700-1811418300@www.algonquintownship.com
SUMMARY:Chair Yoga
DESCRIPTION:
URL:https://www.algonquintownship.com/event/chair-yoga-2024-10-03/2027-05-27/
LOCATION:Meeting Room 1 Bingo Room
END:VEVENT
BEGIN:VEVENT
DTSTART;TZID=America/Chicago:20270527T123000
DTEND;TZID=America/Chicago:20270527T163000
DTSTAMP:20260423T212345
CREATED:20240617T162539Z
LAST-MODIFIED:20260127T171535Z
UID:10007574-1811421000-1811435400@www.algonquintownship.com
SUMMARY:Gazebo Quilters
DESCRIPTION:
URL:https://www.algonquintownship.com/event/gazebo-quilters-2025-01-30-2025-04-24/2027-05-27/
LOCATION:Meeting Room 1 Bingo Room
END:VEVENT
BEGIN:VEVENT
DTSTART;TZID=America/Chicago:20270527T130000
DTEND;TZID=America/Chicago:20270527T160000
DTSTAMP:20260423T212345
CREATED:20240617T144914Z
LAST-MODIFIED:20240617T144914Z
UID:10005232-1811422800-1811433600@www.algonquintownship.com
SUMMARY:Thursday Bridge Group
DESCRIPTION:
URL:https://www.algonquintownship.com/event/thursday-bridge-group/2027-05-27/
LOCATION:Meeting Room 1 Bingo Room
END:VEVENT
BEGIN:VEVENT
DTSTART;TZID=America/Chicago:20270528T090000
DTEND;TZID=America/Chicago:20270528T153000
DTSTAMP:20260423T212345
CREATED:20240617T145919Z
LAST-MODIFIED:20240913T193901Z
UID:10009130-1811494800-1811518200@www.algonquintownship.com
SUMMARY:Crystal Lake Duplicate Bridge Club
DESCRIPTION:
URL:https://www.algonquintownship.com/event/crystal-lake-duplicate-bridge-club-2-2025-07-25/2027-05-28/
LOCATION:Meeting Room 1 Bingo Room
END:VEVENT
BEGIN:VEVENT
DTSTART;TZID=America/Chicago:20270601T104500
DTEND;TZID=America/Chicago:20270601T120000
DTSTAMP:20260423T212345
CREATED:20240617T141656Z
LAST-MODIFIED:20260107T154114Z
UID:10008828-1811846700-1811851200@www.algonquintownship.com
SUMMARY:Simple Strength
DESCRIPTION:
URL:https://www.algonquintownship.com/event/simple-strength/2027-06-01/
LOCATION:Meeting Room 1 Bingo Room
END:VEVENT
BEGIN:VEVENT
DTSTART;TZID=America/Chicago:20270601T130000
DTEND;TZID=America/Chicago:20270601T160000
DTSTAMP:20260423T212345
CREATED:20240617T141848Z
LAST-MODIFIED:20240617T141848Z
UID:10004397-1811854800-1811865600@www.algonquintownship.com
SUMMARY:Tuesday Bridge Group
DESCRIPTION:Tuesday’s at 1pm – 4pm.
URL:https://www.algonquintownship.com/event/tuesday-bridge-group/2027-06-01/
LOCATION:Meeting Room 1 Bingo Room
END:VEVENT
BEGIN:VEVENT
DTSTART;TZID=America/Chicago:20270601T180000
DTEND;TZID=America/Chicago:20270601T213000
DTSTAMP:20260423T212345
CREATED:20240617T172239Z
LAST-MODIFIED:20240617T172239Z
UID:10006117-1811872800-1811885400@www.algonquintownship.com
SUMMARY:McHenry County Wireless Association (MCWA)
DESCRIPTION:
URL:https://www.algonquintownship.com/event/mchenry-county-wireless-association-mcwa/2027-06-01/
LOCATION:Meeting Room 1 Bingo Room
END:VEVENT
BEGIN:VEVENT
DTSTART;TZID=America/Chicago:20270602T090000
DTEND;TZID=America/Chicago:20270602T153000
DTSTAMP:20260423T212345
CREATED:20240617T145751Z
LAST-MODIFIED:20240617T145751Z
UID:10005546-1811926800-1811950200@www.algonquintownship.com
SUMMARY:Crystal Lake Duplicate Bridge Club
DESCRIPTION:
URL:https://www.algonquintownship.com/event/crystal-lake-duplicate-bridge-club/2027-06-02/
LOCATION:Meeting Room 1 Bingo Room
END:VEVENT
BEGIN:VEVENT
DTSTART;TZID=America/Chicago:20270603T104500
DTEND;TZID=America/Chicago:20270603T114500
DTSTAMP:20260423T212345
CREATED:20240617T143636Z
LAST-MODIFIED:20260107T154319Z
UID:10006766-1812019500-1812023100@www.algonquintownship.com
SUMMARY:Chair Yoga
DESCRIPTION:
URL:https://www.algonquintownship.com/event/chair-yoga-2024-10-03/2027-06-03/
LOCATION:Meeting Room 1 Bingo Room
END:VEVENT
BEGIN:VEVENT
DTSTART;TZID=America/Chicago:20270603T130000
DTEND;TZID=America/Chicago:20270603T160000
DTSTAMP:20260423T212345
CREATED:20240617T144914Z
LAST-MODIFIED:20240617T144914Z
UID:10005233-1812027600-1812038400@www.algonquintownship.com
SUMMARY:Thursday Bridge Group
DESCRIPTION:
URL:https://www.algonquintownship.com/event/thursday-bridge-group/2027-06-03/
LOCATION:Meeting Room 1 Bingo Room
END:VEVENT
BEGIN:VEVENT
DTSTART;TZID=America/Chicago:20270604T090000
DTEND;TZID=America/Chicago:20270604T153000
DTSTAMP:20260423T212345
CREATED:20240617T145919Z
LAST-MODIFIED:20240913T193901Z
UID:10009131-1812099600-1812123000@www.algonquintownship.com
SUMMARY:Crystal Lake Duplicate Bridge Club
DESCRIPTION:
URL:https://www.algonquintownship.com/event/crystal-lake-duplicate-bridge-club-2-2025-07-25/2027-06-04/
LOCATION:Meeting Room 1 Bingo Room
END:VEVENT
BEGIN:VEVENT
DTSTART;TZID=America/Chicago:20270607T090000
DTEND;TZID=America/Chicago:20270607T130000
DTSTAMP:20260423T212345
CREATED:20240617T154337Z
LAST-MODIFIED:20250828T144203Z
UID:10006069-1812358800-1812373200@www.algonquintownship.com
SUMMARY:Bingo
DESCRIPTION:
URL:https://www.algonquintownship.com/event/bingo-2/2027-06-07/
LOCATION:Meeting Room 1 Bingo Room
END:VEVENT
BEGIN:VEVENT
DTSTART;TZID=America/Chicago:20270608T104500
DTEND;TZID=America/Chicago:20270608T120000
DTSTAMP:20260423T212345
CREATED:20240617T141656Z
LAST-MODIFIED:20260107T154114Z
UID:10008829-1812451500-1812456000@www.algonquintownship.com
SUMMARY:Simple Strength
DESCRIPTION:
URL:https://www.algonquintownship.com/event/simple-strength/2027-06-08/
LOCATION:Meeting Room 1 Bingo Room
END:VEVENT
BEGIN:VEVENT
DTSTART;TZID=America/Chicago:20270608T130000
DTEND;TZID=America/Chicago:20270608T160000
DTSTAMP:20260423T212345
CREATED:20240617T141848Z
LAST-MODIFIED:20240617T141848Z
UID:10004398-1812459600-1812470400@www.algonquintownship.com
SUMMARY:Tuesday Bridge Group
DESCRIPTION:Tuesday’s at 1pm – 4pm.
URL:https://www.algonquintownship.com/event/tuesday-bridge-group/2027-06-08/
LOCATION:Meeting Room 1 Bingo Room
END:VEVENT
BEGIN:VEVENT
DTSTART;TZID=America/Chicago:20270609T090000
DTEND;TZID=America/Chicago:20270609T153000
DTSTAMP:20260423T212345
CREATED:20240617T145751Z
LAST-MODIFIED:20240617T145751Z
UID:10005547-1812531600-1812555000@www.algonquintownship.com
SUMMARY:Crystal Lake Duplicate Bridge Club
DESCRIPTION:
URL:https://www.algonquintownship.com/event/crystal-lake-duplicate-bridge-club/2027-06-09/
LOCATION:Meeting Room 1 Bingo Room
END:VEVENT
BEGIN:VEVENT
DTSTART;TZID=America/Chicago:20270610T104500
DTEND;TZID=America/Chicago:20270610T114500
DTSTAMP:20260423T212345
CREATED:20240617T143636Z
LAST-MODIFIED:20260107T154319Z
UID:10006767-1812624300-1812627900@www.algonquintownship.com
SUMMARY:Chair Yoga
DESCRIPTION:
URL:https://www.algonquintownship.com/event/chair-yoga-2024-10-03/2027-06-10/
LOCATION:Meeting Room 1 Bingo Room
END:VEVENT
BEGIN:VEVENT
DTSTART;TZID=America/Chicago:20270610T130000
DTEND;TZID=America/Chicago:20270610T160000
DTSTAMP:20260423T212345
CREATED:20240617T144914Z
LAST-MODIFIED:20240617T144914Z
UID:10005234-1812632400-1812643200@www.algonquintownship.com
SUMMARY:Thursday Bridge Group
DESCRIPTION:
URL:https://www.algonquintownship.com/event/thursday-bridge-group/2027-06-10/
LOCATION:Meeting Room 1 Bingo Room
END:VEVENT
BEGIN:VEVENT
DTSTART;TZID=America/Chicago:20270610T180000
DTEND;TZID=America/Chicago:20270610T210000
DTSTAMP:20260423T212345
CREATED:20241010T192644Z
LAST-MODIFIED:20250117T183941Z
UID:10006948-1812650400-1812661200@www.algonquintownship.com
SUMMARY:McHenry County NOW (National Organization for Women)
DESCRIPTION:2nd Thursday of Every Month.
URL:https://www.algonquintownship.com/event/mchenry-county-now-national-organization-for-women/2027-06-10/
LOCATION:Meeting Room 1 Bingo Room
END:VEVENT
END:VCALENDAR