BEGIN:VCALENDAR
VERSION:2.0
PRODID:-//Algonquin Township - ECPv6.15.18//NONSGML v1.0//EN
CALSCALE:GREGORIAN
METHOD:PUBLISH
X-WR-CALNAME:Algonquin Township
X-ORIGINAL-URL:https://www.algonquintownship.com
X-WR-CALDESC:Events for Algonquin Township
REFRESH-INTERVAL;VALUE=DURATION:PT1H
X-Robots-Tag:noindex
X-PUBLISHED-TTL:PT1H
BEGIN:VTIMEZONE
TZID:America/Chicago
BEGIN:DAYLIGHT
TZOFFSETFROM:-0600
TZOFFSETTO:-0500
TZNAME:CDT
DTSTART:20260308T080000
END:DAYLIGHT
BEGIN:STANDARD
TZOFFSETFROM:-0500
TZOFFSETTO:-0600
TZNAME:CST
DTSTART:20261101T070000
END:STANDARD
BEGIN:DAYLIGHT
TZOFFSETFROM:-0600
TZOFFSETTO:-0500
TZNAME:CDT
DTSTART:20270314T080000
END:DAYLIGHT
BEGIN:STANDARD
TZOFFSETFROM:-0500
TZOFFSETTO:-0600
TZNAME:CST
DTSTART:20271107T070000
END:STANDARD
BEGIN:DAYLIGHT
TZOFFSETFROM:-0600
TZOFFSETTO:-0500
TZNAME:CDT
DTSTART:20280312T080000
END:DAYLIGHT
BEGIN:STANDARD
TZOFFSETFROM:-0500
TZOFFSETTO:-0600
TZNAME:CST
DTSTART:20281105T070000
END:STANDARD
END:VTIMEZONE
BEGIN:VEVENT
DTSTART;TZID=America/Chicago:20270202T180000
DTEND;TZID=America/Chicago:20270202T213000
DTSTAMP:20260423T054617
CREATED:20240617T172239Z
LAST-MODIFIED:20240617T172239Z
UID:10006113-1801591200-1801603800@www.algonquintownship.com
SUMMARY:McHenry County Wireless Association (MCWA)
DESCRIPTION:
URL:https://www.algonquintownship.com/event/mchenry-county-wireless-association-mcwa/2027-02-02/
LOCATION:Meeting Room 1 Bingo Room
END:VEVENT
BEGIN:VEVENT
DTSTART;TZID=America/Chicago:20270203T090000
DTEND;TZID=America/Chicago:20270203T153000
DTSTAMP:20260423T054617
CREATED:20240617T145751Z
LAST-MODIFIED:20240617T145751Z
UID:10005529-1801645200-1801668600@www.algonquintownship.com
SUMMARY:Crystal Lake Duplicate Bridge Club
DESCRIPTION:
URL:https://www.algonquintownship.com/event/crystal-lake-duplicate-bridge-club/2027-02-03/
LOCATION:Meeting Room 1 Bingo Room
END:VEVENT
BEGIN:VEVENT
DTSTART;TZID=America/Chicago:20270204T104500
DTEND;TZID=America/Chicago:20270204T114500
DTSTAMP:20260423T054617
CREATED:20240617T143636Z
LAST-MODIFIED:20260107T154319Z
UID:10006749-1801737900-1801741500@www.algonquintownship.com
SUMMARY:Chair Yoga
DESCRIPTION:
URL:https://www.algonquintownship.com/event/chair-yoga-2024-10-03/2027-02-04/
LOCATION:Meeting Room 1 Bingo Room
END:VEVENT
BEGIN:VEVENT
DTSTART;TZID=America/Chicago:20270204T130000
DTEND;TZID=America/Chicago:20270204T160000
DTSTAMP:20260423T054617
CREATED:20240617T144914Z
LAST-MODIFIED:20240617T144914Z
UID:10005216-1801746000-1801756800@www.algonquintownship.com
SUMMARY:Thursday Bridge Group
DESCRIPTION:
URL:https://www.algonquintownship.com/event/thursday-bridge-group/2027-02-04/
LOCATION:Meeting Room 1 Bingo Room
END:VEVENT
BEGIN:VEVENT
DTSTART;TZID=America/Chicago:20270205T090000
DTEND;TZID=America/Chicago:20270205T153000
DTSTAMP:20260423T054617
CREATED:20240617T145919Z
LAST-MODIFIED:20240913T193901Z
UID:10009114-1801818000-1801841400@www.algonquintownship.com
SUMMARY:Crystal Lake Duplicate Bridge Club
DESCRIPTION:
URL:https://www.algonquintownship.com/event/crystal-lake-duplicate-bridge-club-2-2025-07-25/2027-02-05/
LOCATION:Meeting Room 1 Bingo Room
END:VEVENT
BEGIN:VEVENT
DTSTART;TZID=America/Chicago:20270208T190000
DTEND;TZID=America/Chicago:20270208T210000
DTSTAMP:20260423T054617
CREATED:20240617T170507Z
LAST-MODIFIED:20260127T165221Z
UID:10006305-1802113200-1802120400@www.algonquintownship.com
SUMMARY:Cary Junior Trojans
DESCRIPTION:
URL:https://www.algonquintownship.com/event/cary-junior-trojans/2027-02-08/
LOCATION:Meeting Room 1 Bingo Room
END:VEVENT
BEGIN:VEVENT
DTSTART;TZID=America/Chicago:20270209T104500
DTEND;TZID=America/Chicago:20270209T120000
DTSTAMP:20260423T054617
CREATED:20240617T141656Z
LAST-MODIFIED:20260107T154114Z
UID:10008812-1802169900-1802174400@www.algonquintownship.com
SUMMARY:Simple Strength
DESCRIPTION:
URL:https://www.algonquintownship.com/event/simple-strength/2027-02-09/
LOCATION:Meeting Room 1 Bingo Room
END:VEVENT
BEGIN:VEVENT
DTSTART;TZID=America/Chicago:20270209T130000
DTEND;TZID=America/Chicago:20270209T160000
DTSTAMP:20260423T054617
CREATED:20240617T141848Z
LAST-MODIFIED:20240617T141848Z
UID:10004381-1802178000-1802188800@www.algonquintownship.com
SUMMARY:Tuesday Bridge Group
DESCRIPTION:Tuesday’s at 1pm – 4pm.
URL:https://www.algonquintownship.com/event/tuesday-bridge-group/2027-02-09/
LOCATION:Meeting Room 1 Bingo Room
END:VEVENT
BEGIN:VEVENT
DTSTART;TZID=America/Chicago:20270210T090000
DTEND;TZID=America/Chicago:20270210T153000
DTSTAMP:20260423T054617
CREATED:20240617T145751Z
LAST-MODIFIED:20240617T145751Z
UID:10005530-1802250000-1802273400@www.algonquintownship.com
SUMMARY:Crystal Lake Duplicate Bridge Club
DESCRIPTION:
URL:https://www.algonquintownship.com/event/crystal-lake-duplicate-bridge-club/2027-02-10/
LOCATION:Meeting Room 1 Bingo Room
END:VEVENT
BEGIN:VEVENT
DTSTART;TZID=America/Chicago:20270211T104500
DTEND;TZID=America/Chicago:20270211T114500
DTSTAMP:20260423T054617
CREATED:20240617T143636Z
LAST-MODIFIED:20260107T154319Z
UID:10006750-1802342700-1802346300@www.algonquintownship.com
SUMMARY:Chair Yoga
DESCRIPTION:
URL:https://www.algonquintownship.com/event/chair-yoga-2024-10-03/2027-02-11/
LOCATION:Meeting Room 1 Bingo Room
END:VEVENT
BEGIN:VEVENT
DTSTART;TZID=America/Chicago:20270211T130000
DTEND;TZID=America/Chicago:20270211T160000
DTSTAMP:20260423T054617
CREATED:20240617T144914Z
LAST-MODIFIED:20240617T144914Z
UID:10005217-1802350800-1802361600@www.algonquintownship.com
SUMMARY:Thursday Bridge Group
DESCRIPTION:
URL:https://www.algonquintownship.com/event/thursday-bridge-group/2027-02-11/
LOCATION:Meeting Room 1 Bingo Room
END:VEVENT
BEGIN:VEVENT
DTSTART;TZID=America/Chicago:20270211T180000
DTEND;TZID=America/Chicago:20270211T210000
DTSTAMP:20260423T054617
CREATED:20241010T192644Z
LAST-MODIFIED:20250117T183941Z
UID:10006944-1802368800-1802379600@www.algonquintownship.com
SUMMARY:McHenry County NOW (National Organization for Women)
DESCRIPTION:2nd Thursday of Every Month.
URL:https://www.algonquintownship.com/event/mchenry-county-now-national-organization-for-women/2027-02-11/
LOCATION:Meeting Room 1 Bingo Room
END:VEVENT
BEGIN:VEVENT
DTSTART;TZID=America/Chicago:20270212T090000
DTEND;TZID=America/Chicago:20270212T153000
DTSTAMP:20260423T054617
CREATED:20240617T145919Z
LAST-MODIFIED:20240913T193901Z
UID:10009115-1802422800-1802446200@www.algonquintownship.com
SUMMARY:Crystal Lake Duplicate Bridge Club
DESCRIPTION:
URL:https://www.algonquintownship.com/event/crystal-lake-duplicate-bridge-club-2-2025-07-25/2027-02-12/
LOCATION:Meeting Room 1 Bingo Room
END:VEVENT
BEGIN:VEVENT
DTSTART;TZID=America/Chicago:20270213T173000
DTEND;TZID=America/Chicago:20270213T223000
DTSTAMP:20260423T054617
CREATED:20240617T162106Z
LAST-MODIFIED:20260127T163241Z
UID:10006497-1802539800-1802557800@www.algonquintownship.com
SUMMARY:IPMS Cars in Miniature
DESCRIPTION:
URL:https://www.algonquintownship.com/event/ipms-cars-in-miniature/2027-02-13/
LOCATION:Meeting Room 1 Bingo Room
END:VEVENT
BEGIN:VEVENT
DTSTART;TZID=America/Chicago:20270214T100000
DTEND;TZID=America/Chicago:20270214T160000
DTSTAMP:20260423T054617
CREATED:20240617T172039Z
LAST-MODIFIED:20260127T172609Z
UID:10006546-1802599200-1802620800@www.algonquintownship.com
SUMMARY:Crystal Lake Midwest Quilt Guild
DESCRIPTION:
URL:https://www.algonquintownship.com/event/crystal-lake-midwest-quilt-guild/2027-02-14/
LOCATION:Meeting Room 1 Bingo Room
END:VEVENT
BEGIN:VEVENT
DTSTART;TZID=America/Chicago:20270216T104500
DTEND;TZID=America/Chicago:20270216T120000
DTSTAMP:20260423T054617
CREATED:20240617T141656Z
LAST-MODIFIED:20260107T154114Z
UID:10008813-1802774700-1802779200@www.algonquintownship.com
SUMMARY:Simple Strength
DESCRIPTION:
URL:https://www.algonquintownship.com/event/simple-strength/2027-02-16/
LOCATION:Meeting Room 1 Bingo Room
END:VEVENT
BEGIN:VEVENT
DTSTART;TZID=America/Chicago:20270216T130000
DTEND;TZID=America/Chicago:20270216T160000
DTSTAMP:20260423T054617
CREATED:20240617T141848Z
LAST-MODIFIED:20240617T141848Z
UID:10004382-1802782800-1802793600@www.algonquintownship.com
SUMMARY:Tuesday Bridge Group
DESCRIPTION:Tuesday’s at 1pm – 4pm.
URL:https://www.algonquintownship.com/event/tuesday-bridge-group/2027-02-16/
LOCATION:Meeting Room 1 Bingo Room
END:VEVENT
BEGIN:VEVENT
DTSTART;TZID=America/Chicago:20270217T090000
DTEND;TZID=America/Chicago:20270217T153000
DTSTAMP:20260423T054617
CREATED:20240617T145751Z
LAST-MODIFIED:20240617T145751Z
UID:10005531-1802854800-1802878200@www.algonquintownship.com
SUMMARY:Crystal Lake Duplicate Bridge Club
DESCRIPTION:
URL:https://www.algonquintownship.com/event/crystal-lake-duplicate-bridge-club/2027-02-17/
LOCATION:Meeting Room 1 Bingo Room
END:VEVENT
BEGIN:VEVENT
DTSTART;TZID=America/Chicago:20270218T104500
DTEND;TZID=America/Chicago:20270218T114500
DTSTAMP:20260423T054617
CREATED:20240617T143636Z
LAST-MODIFIED:20260107T154319Z
UID:10006751-1802947500-1802951100@www.algonquintownship.com
SUMMARY:Chair Yoga
DESCRIPTION:
URL:https://www.algonquintownship.com/event/chair-yoga-2024-10-03/2027-02-18/
LOCATION:Meeting Room 1 Bingo Room
END:VEVENT
BEGIN:VEVENT
DTSTART;TZID=America/Chicago:20270218T130000
DTEND;TZID=America/Chicago:20270218T160000
DTSTAMP:20260423T054617
CREATED:20240617T144914Z
LAST-MODIFIED:20240617T144914Z
UID:10005218-1802955600-1802966400@www.algonquintownship.com
SUMMARY:Thursday Bridge Group
DESCRIPTION:
URL:https://www.algonquintownship.com/event/thursday-bridge-group/2027-02-18/
LOCATION:Meeting Room 1 Bingo Room
END:VEVENT
BEGIN:VEVENT
DTSTART;TZID=America/Chicago:20270219T090000
DTEND;TZID=America/Chicago:20270219T153000
DTSTAMP:20260423T054617
CREATED:20240617T145919Z
LAST-MODIFIED:20240913T193901Z
UID:10009116-1803027600-1803051000@www.algonquintownship.com
SUMMARY:Crystal Lake Duplicate Bridge Club
DESCRIPTION:
URL:https://www.algonquintownship.com/event/crystal-lake-duplicate-bridge-club-2-2025-07-25/2027-02-19/
LOCATION:Meeting Room 1 Bingo Room
END:VEVENT
BEGIN:VEVENT
DTSTART;TZID=America/Chicago:20270223T104500
DTEND;TZID=America/Chicago:20270223T120000
DTSTAMP:20260423T054617
CREATED:20240617T141656Z
LAST-MODIFIED:20260107T154114Z
UID:10008814-1803379500-1803384000@www.algonquintownship.com
SUMMARY:Simple Strength
DESCRIPTION:
URL:https://www.algonquintownship.com/event/simple-strength/2027-02-23/
LOCATION:Meeting Room 1 Bingo Room
END:VEVENT
BEGIN:VEVENT
DTSTART;TZID=America/Chicago:20270223T130000
DTEND;TZID=America/Chicago:20270223T160000
DTSTAMP:20260423T054617
CREATED:20240617T141848Z
LAST-MODIFIED:20240617T141848Z
UID:10004383-1803387600-1803398400@www.algonquintownship.com
SUMMARY:Tuesday Bridge Group
DESCRIPTION:Tuesday’s at 1pm – 4pm.
URL:https://www.algonquintownship.com/event/tuesday-bridge-group/2027-02-23/
LOCATION:Meeting Room 1 Bingo Room
END:VEVENT
BEGIN:VEVENT
DTSTART;TZID=America/Chicago:20270224T090000
DTEND;TZID=America/Chicago:20270224T153000
DTSTAMP:20260423T054617
CREATED:20240617T145751Z
LAST-MODIFIED:20240617T145751Z
UID:10005532-1803459600-1803483000@www.algonquintownship.com
SUMMARY:Crystal Lake Duplicate Bridge Club
DESCRIPTION:
URL:https://www.algonquintownship.com/event/crystal-lake-duplicate-bridge-club/2027-02-24/
LOCATION:Meeting Room 1 Bingo Room
END:VEVENT
BEGIN:VEVENT
DTSTART;TZID=America/Chicago:20270225T104500
DTEND;TZID=America/Chicago:20270225T114500
DTSTAMP:20260423T054617
CREATED:20240617T143636Z
LAST-MODIFIED:20260107T154319Z
UID:10006752-1803552300-1803555900@www.algonquintownship.com
SUMMARY:Chair Yoga
DESCRIPTION:
URL:https://www.algonquintownship.com/event/chair-yoga-2024-10-03/2027-02-25/
LOCATION:Meeting Room 1 Bingo Room
END:VEVENT
BEGIN:VEVENT
DTSTART;TZID=America/Chicago:20270225T123000
DTEND;TZID=America/Chicago:20270225T163000
DTSTAMP:20260423T054617
CREATED:20240617T162539Z
LAST-MODIFIED:20260127T171535Z
UID:10007571-1803558600-1803573000@www.algonquintownship.com
SUMMARY:Gazebo Quilters
DESCRIPTION:
URL:https://www.algonquintownship.com/event/gazebo-quilters-2025-01-30-2025-04-24/2027-02-25/
LOCATION:Meeting Room 1 Bingo Room
END:VEVENT
BEGIN:VEVENT
DTSTART;TZID=America/Chicago:20270225T130000
DTEND;TZID=America/Chicago:20270225T160000
DTSTAMP:20260423T054617
CREATED:20240617T144914Z
LAST-MODIFIED:20240617T144914Z
UID:10005219-1803560400-1803571200@www.algonquintownship.com
SUMMARY:Thursday Bridge Group
DESCRIPTION:
URL:https://www.algonquintownship.com/event/thursday-bridge-group/2027-02-25/
LOCATION:Meeting Room 1 Bingo Room
END:VEVENT
BEGIN:VEVENT
DTSTART;TZID=America/Chicago:20270226T090000
DTEND;TZID=America/Chicago:20270226T153000
DTSTAMP:20260423T054617
CREATED:20240617T145919Z
LAST-MODIFIED:20240913T193901Z
UID:10009117-1803632400-1803655800@www.algonquintownship.com
SUMMARY:Crystal Lake Duplicate Bridge Club
DESCRIPTION:
URL:https://www.algonquintownship.com/event/crystal-lake-duplicate-bridge-club-2-2025-07-25/2027-02-26/
LOCATION:Meeting Room 1 Bingo Room
END:VEVENT
BEGIN:VEVENT
DTSTART;TZID=America/Chicago:20270301T090000
DTEND;TZID=America/Chicago:20270301T130000
DTSTAMP:20260423T054617
CREATED:20240617T154337Z
LAST-MODIFIED:20250828T144203Z
UID:10006066-1803891600-1803906000@www.algonquintownship.com
SUMMARY:Bingo
DESCRIPTION:
URL:https://www.algonquintownship.com/event/bingo-2/2027-03-01/
LOCATION:Meeting Room 1 Bingo Room
END:VEVENT
BEGIN:VEVENT
DTSTART;TZID=America/Chicago:20270302T104500
DTEND;TZID=America/Chicago:20270302T120000
DTSTAMP:20260423T054617
CREATED:20240617T141656Z
LAST-MODIFIED:20260107T154114Z
UID:10008815-1803984300-1803988800@www.algonquintownship.com
SUMMARY:Simple Strength
DESCRIPTION:
URL:https://www.algonquintownship.com/event/simple-strength/2027-03-02/
LOCATION:Meeting Room 1 Bingo Room
END:VEVENT
END:VCALENDAR