BEGIN:VCALENDAR
VERSION:2.0
PRODID:-//Algonquin Township - ECPv6.15.18//NONSGML v1.0//EN
CALSCALE:GREGORIAN
METHOD:PUBLISH
X-ORIGINAL-URL:https://www.algonquintownship.com
X-WR-CALDESC:Events for Algonquin Township
REFRESH-INTERVAL;VALUE=DURATION:PT1H
X-Robots-Tag:noindex
X-PUBLISHED-TTL:PT1H
BEGIN:VTIMEZONE
TZID:America/Chicago
BEGIN:DAYLIGHT
TZOFFSETFROM:-0600
TZOFFSETTO:-0500
TZNAME:CDT
DTSTART:20260308T080000
END:DAYLIGHT
BEGIN:STANDARD
TZOFFSETFROM:-0500
TZOFFSETTO:-0600
TZNAME:CST
DTSTART:20261101T070000
END:STANDARD
BEGIN:DAYLIGHT
TZOFFSETFROM:-0600
TZOFFSETTO:-0500
TZNAME:CDT
DTSTART:20270314T080000
END:DAYLIGHT
BEGIN:STANDARD
TZOFFSETFROM:-0500
TZOFFSETTO:-0600
TZNAME:CST
DTSTART:20271107T070000
END:STANDARD
BEGIN:DAYLIGHT
TZOFFSETFROM:-0600
TZOFFSETTO:-0500
TZNAME:CDT
DTSTART:20280312T080000
END:DAYLIGHT
BEGIN:STANDARD
TZOFFSETFROM:-0500
TZOFFSETTO:-0600
TZNAME:CST
DTSTART:20281105T070000
END:STANDARD
END:VTIMEZONE
BEGIN:VEVENT
DTSTART;TZID=America/Chicago:20270111T190000
DTEND;TZID=America/Chicago:20270111T210000
DTSTAMP:20260423T005920
CREATED:20240617T170507Z
LAST-MODIFIED:20260127T165221Z
UID:10006304-1799694000-1799701200@www.algonquintownship.com
SUMMARY:Cary Junior Trojans
DESCRIPTION:
URL:https://www.algonquintownship.com/event/cary-junior-trojans/2027-01-11/
LOCATION:Meeting Room 1 Bingo Room
END:VEVENT
BEGIN:VEVENT
DTSTART;TZID=America/Chicago:20270112T104500
DTEND;TZID=America/Chicago:20270112T120000
DTSTAMP:20260423T005920
CREATED:20240617T141656Z
LAST-MODIFIED:20260107T154114Z
UID:10008808-1799750700-1799755200@www.algonquintownship.com
SUMMARY:Simple Strength
DESCRIPTION:
URL:https://www.algonquintownship.com/event/simple-strength/2027-01-12/
LOCATION:Meeting Room 1 Bingo Room
END:VEVENT
BEGIN:VEVENT
DTSTART;TZID=America/Chicago:20270112T130000
DTEND;TZID=America/Chicago:20270112T160000
DTSTAMP:20260423T005920
CREATED:20240617T141848Z
LAST-MODIFIED:20240617T141848Z
UID:10004377-1799758800-1799769600@www.algonquintownship.com
SUMMARY:Tuesday Bridge Group
DESCRIPTION:Tuesday’s at 1pm – 4pm.
URL:https://www.algonquintownship.com/event/tuesday-bridge-group/2027-01-12/
LOCATION:Meeting Room 1 Bingo Room
END:VEVENT
BEGIN:VEVENT
DTSTART;TZID=America/Chicago:20270113T090000
DTEND;TZID=America/Chicago:20270113T153000
DTSTAMP:20260423T005920
CREATED:20240617T145751Z
LAST-MODIFIED:20240617T145751Z
UID:10005526-1799830800-1799854200@www.algonquintownship.com
SUMMARY:Crystal Lake Duplicate Bridge Club
DESCRIPTION:
URL:https://www.algonquintownship.com/event/crystal-lake-duplicate-bridge-club/2027-01-13/
LOCATION:Meeting Room 1 Bingo Room
END:VEVENT
BEGIN:VEVENT
DTSTART;TZID=America/Chicago:20270114T104500
DTEND;TZID=America/Chicago:20270114T114500
DTSTAMP:20260423T005920
CREATED:20240617T143636Z
LAST-MODIFIED:20260107T154319Z
UID:10006746-1799923500-1799927100@www.algonquintownship.com
SUMMARY:Chair Yoga
DESCRIPTION:
URL:https://www.algonquintownship.com/event/chair-yoga-2024-10-03/2027-01-14/
LOCATION:Meeting Room 1 Bingo Room
END:VEVENT
BEGIN:VEVENT
DTSTART;TZID=America/Chicago:20270114T130000
DTEND;TZID=America/Chicago:20270114T160000
DTSTAMP:20260423T005920
CREATED:20240617T144914Z
LAST-MODIFIED:20240617T144914Z
UID:10005213-1799931600-1799942400@www.algonquintownship.com
SUMMARY:Thursday Bridge Group
DESCRIPTION:
URL:https://www.algonquintownship.com/event/thursday-bridge-group/2027-01-14/
LOCATION:Meeting Room 1 Bingo Room
END:VEVENT
BEGIN:VEVENT
DTSTART;TZID=America/Chicago:20270114T180000
DTEND;TZID=America/Chicago:20270114T210000
DTSTAMP:20260423T005920
CREATED:20241010T192644Z
LAST-MODIFIED:20250117T183941Z
UID:10006943-1799949600-1799960400@www.algonquintownship.com
SUMMARY:McHenry County NOW (National Organization for Women)
DESCRIPTION:2nd Thursday of Every Month.
URL:https://www.algonquintownship.com/event/mchenry-county-now-national-organization-for-women/2027-01-14/
LOCATION:Meeting Room 1 Bingo Room
END:VEVENT
BEGIN:VEVENT
DTSTART;TZID=America/Chicago:20270115T090000
DTEND;TZID=America/Chicago:20270115T153000
DTSTAMP:20260423T005920
CREATED:20240617T145919Z
LAST-MODIFIED:20240913T193901Z
UID:10009111-1800003600-1800027000@www.algonquintownship.com
SUMMARY:Crystal Lake Duplicate Bridge Club
DESCRIPTION:
URL:https://www.algonquintownship.com/event/crystal-lake-duplicate-bridge-club-2-2025-07-25/2027-01-15/
LOCATION:Meeting Room 1 Bingo Room
END:VEVENT
BEGIN:VEVENT
DTSTART;TZID=America/Chicago:20270119T104500
DTEND;TZID=America/Chicago:20270119T120000
DTSTAMP:20260423T005920
CREATED:20240617T141656Z
LAST-MODIFIED:20260107T154114Z
UID:10008809-1800355500-1800360000@www.algonquintownship.com
SUMMARY:Simple Strength
DESCRIPTION:
URL:https://www.algonquintownship.com/event/simple-strength/2027-01-19/
LOCATION:Meeting Room 1 Bingo Room
END:VEVENT
BEGIN:VEVENT
DTSTART;TZID=America/Chicago:20270119T130000
DTEND;TZID=America/Chicago:20270119T160000
DTSTAMP:20260423T005920
CREATED:20240617T141848Z
LAST-MODIFIED:20240617T141848Z
UID:10004378-1800363600-1800374400@www.algonquintownship.com
SUMMARY:Tuesday Bridge Group
DESCRIPTION:Tuesday’s at 1pm – 4pm.
URL:https://www.algonquintownship.com/event/tuesday-bridge-group/2027-01-19/
LOCATION:Meeting Room 1 Bingo Room
END:VEVENT
BEGIN:VEVENT
DTSTART;TZID=America/Chicago:20270120T090000
DTEND;TZID=America/Chicago:20270120T153000
DTSTAMP:20260423T005920
CREATED:20240617T145751Z
LAST-MODIFIED:20240617T145751Z
UID:10005527-1800435600-1800459000@www.algonquintownship.com
SUMMARY:Crystal Lake Duplicate Bridge Club
DESCRIPTION:
URL:https://www.algonquintownship.com/event/crystal-lake-duplicate-bridge-club/2027-01-20/
LOCATION:Meeting Room 1 Bingo Room
END:VEVENT
BEGIN:VEVENT
DTSTART;TZID=America/Chicago:20270121T104500
DTEND;TZID=America/Chicago:20270121T114500
DTSTAMP:20260423T005920
CREATED:20240617T143636Z
LAST-MODIFIED:20260107T154319Z
UID:10006747-1800528300-1800531900@www.algonquintownship.com
SUMMARY:Chair Yoga
DESCRIPTION:
URL:https://www.algonquintownship.com/event/chair-yoga-2024-10-03/2027-01-21/
LOCATION:Meeting Room 1 Bingo Room
END:VEVENT
BEGIN:VEVENT
DTSTART;TZID=America/Chicago:20270121T130000
DTEND;TZID=America/Chicago:20270121T160000
DTSTAMP:20260423T005920
CREATED:20240617T144914Z
LAST-MODIFIED:20240617T144914Z
UID:10005214-1800536400-1800547200@www.algonquintownship.com
SUMMARY:Thursday Bridge Group
DESCRIPTION:
URL:https://www.algonquintownship.com/event/thursday-bridge-group/2027-01-21/
LOCATION:Meeting Room 1 Bingo Room
END:VEVENT
BEGIN:VEVENT
DTSTART;TZID=America/Chicago:20270122T090000
DTEND;TZID=America/Chicago:20270122T153000
DTSTAMP:20260423T005920
CREATED:20240617T145919Z
LAST-MODIFIED:20240913T193901Z
UID:10009112-1800608400-1800631800@www.algonquintownship.com
SUMMARY:Crystal Lake Duplicate Bridge Club
DESCRIPTION:
URL:https://www.algonquintownship.com/event/crystal-lake-duplicate-bridge-club-2-2025-07-25/2027-01-22/
LOCATION:Meeting Room 1 Bingo Room
END:VEVENT
BEGIN:VEVENT
DTSTART;TZID=America/Chicago:20270126T104500
DTEND;TZID=America/Chicago:20270126T120000
DTSTAMP:20260423T005920
CREATED:20240617T141656Z
LAST-MODIFIED:20260107T154114Z
UID:10008810-1800960300-1800964800@www.algonquintownship.com
SUMMARY:Simple Strength
DESCRIPTION:
URL:https://www.algonquintownship.com/event/simple-strength/2027-01-26/
LOCATION:Meeting Room 1 Bingo Room
END:VEVENT
BEGIN:VEVENT
DTSTART;TZID=America/Chicago:20270126T130000
DTEND;TZID=America/Chicago:20270126T160000
DTSTAMP:20260423T005920
CREATED:20240617T141848Z
LAST-MODIFIED:20240617T141848Z
UID:10004379-1800968400-1800979200@www.algonquintownship.com
SUMMARY:Tuesday Bridge Group
DESCRIPTION:Tuesday’s at 1pm – 4pm.
URL:https://www.algonquintownship.com/event/tuesday-bridge-group/2027-01-26/
LOCATION:Meeting Room 1 Bingo Room
END:VEVENT
BEGIN:VEVENT
DTSTART;TZID=America/Chicago:20270127T090000
DTEND;TZID=America/Chicago:20270127T153000
DTSTAMP:20260423T005920
CREATED:20240617T145751Z
LAST-MODIFIED:20240617T145751Z
UID:10005528-1801040400-1801063800@www.algonquintownship.com
SUMMARY:Crystal Lake Duplicate Bridge Club
DESCRIPTION:
URL:https://www.algonquintownship.com/event/crystal-lake-duplicate-bridge-club/2027-01-27/
LOCATION:Meeting Room 1 Bingo Room
END:VEVENT
BEGIN:VEVENT
DTSTART;TZID=America/Chicago:20270128T104500
DTEND;TZID=America/Chicago:20270128T114500
DTSTAMP:20260423T005920
CREATED:20240617T143636Z
LAST-MODIFIED:20260107T154319Z
UID:10006748-1801133100-1801136700@www.algonquintownship.com
SUMMARY:Chair Yoga
DESCRIPTION:
URL:https://www.algonquintownship.com/event/chair-yoga-2024-10-03/2027-01-28/
LOCATION:Meeting Room 1 Bingo Room
END:VEVENT
BEGIN:VEVENT
DTSTART;TZID=America/Chicago:20270128T123000
DTEND;TZID=America/Chicago:20270128T163000
DTSTAMP:20260423T005920
CREATED:20240617T162539Z
LAST-MODIFIED:20260127T171535Z
UID:10007570-1801139400-1801153800@www.algonquintownship.com
SUMMARY:Gazebo Quilters
DESCRIPTION:
URL:https://www.algonquintownship.com/event/gazebo-quilters-2025-01-30-2025-04-24/2027-01-28/
LOCATION:Meeting Room 1 Bingo Room
END:VEVENT
BEGIN:VEVENT
DTSTART;TZID=America/Chicago:20270128T130000
DTEND;TZID=America/Chicago:20270128T160000
DTSTAMP:20260423T005920
CREATED:20240617T144914Z
LAST-MODIFIED:20240617T144914Z
UID:10005215-1801141200-1801152000@www.algonquintownship.com
SUMMARY:Thursday Bridge Group
DESCRIPTION:
URL:https://www.algonquintownship.com/event/thursday-bridge-group/2027-01-28/
LOCATION:Meeting Room 1 Bingo Room
END:VEVENT
BEGIN:VEVENT
DTSTART;TZID=America/Chicago:20270129T090000
DTEND;TZID=America/Chicago:20270129T153000
DTSTAMP:20260423T005920
CREATED:20240617T145919Z
LAST-MODIFIED:20240913T193901Z
UID:10009113-1801213200-1801236600@www.algonquintownship.com
SUMMARY:Crystal Lake Duplicate Bridge Club
DESCRIPTION:
URL:https://www.algonquintownship.com/event/crystal-lake-duplicate-bridge-club-2-2025-07-25/2027-01-29/
LOCATION:Meeting Room 1 Bingo Room
END:VEVENT
BEGIN:VEVENT
DTSTART;TZID=America/Chicago:20270201T090000
DTEND;TZID=America/Chicago:20270201T130000
DTSTAMP:20260423T005920
CREATED:20240617T154337Z
LAST-MODIFIED:20250828T144203Z
UID:10006065-1801472400-1801486800@www.algonquintownship.com
SUMMARY:Bingo
DESCRIPTION:
URL:https://www.algonquintownship.com/event/bingo-2/2027-02-01/
LOCATION:Meeting Room 1 Bingo Room
END:VEVENT
BEGIN:VEVENT
DTSTART;TZID=America/Chicago:20270202T104500
DTEND;TZID=America/Chicago:20270202T120000
DTSTAMP:20260423T005920
CREATED:20240617T141656Z
LAST-MODIFIED:20260107T154114Z
UID:10008811-1801565100-1801569600@www.algonquintownship.com
SUMMARY:Simple Strength
DESCRIPTION:
URL:https://www.algonquintownship.com/event/simple-strength/2027-02-02/
LOCATION:Meeting Room 1 Bingo Room
END:VEVENT
BEGIN:VEVENT
DTSTART;TZID=America/Chicago:20270202T130000
DTEND;TZID=America/Chicago:20270202T160000
DTSTAMP:20260423T005920
CREATED:20240617T141848Z
LAST-MODIFIED:20240617T141848Z
UID:10004380-1801573200-1801584000@www.algonquintownship.com
SUMMARY:Tuesday Bridge Group
DESCRIPTION:Tuesday’s at 1pm – 4pm.
URL:https://www.algonquintownship.com/event/tuesday-bridge-group/2027-02-02/
LOCATION:Meeting Room 1 Bingo Room
END:VEVENT
BEGIN:VEVENT
DTSTART;TZID=America/Chicago:20270202T180000
DTEND;TZID=America/Chicago:20270202T213000
DTSTAMP:20260423T005920
CREATED:20240617T172239Z
LAST-MODIFIED:20240617T172239Z
UID:10006113-1801591200-1801603800@www.algonquintownship.com
SUMMARY:McHenry County Wireless Association (MCWA)
DESCRIPTION:
URL:https://www.algonquintownship.com/event/mchenry-county-wireless-association-mcwa/2027-02-02/
LOCATION:Meeting Room 1 Bingo Room
END:VEVENT
BEGIN:VEVENT
DTSTART;TZID=America/Chicago:20270203T090000
DTEND;TZID=America/Chicago:20270203T153000
DTSTAMP:20260423T005920
CREATED:20240617T145751Z
LAST-MODIFIED:20240617T145751Z
UID:10005529-1801645200-1801668600@www.algonquintownship.com
SUMMARY:Crystal Lake Duplicate Bridge Club
DESCRIPTION:
URL:https://www.algonquintownship.com/event/crystal-lake-duplicate-bridge-club/2027-02-03/
LOCATION:Meeting Room 1 Bingo Room
END:VEVENT
BEGIN:VEVENT
DTSTART;TZID=America/Chicago:20270204T104500
DTEND;TZID=America/Chicago:20270204T114500
DTSTAMP:20260423T005920
CREATED:20240617T143636Z
LAST-MODIFIED:20260107T154319Z
UID:10006749-1801737900-1801741500@www.algonquintownship.com
SUMMARY:Chair Yoga
DESCRIPTION:
URL:https://www.algonquintownship.com/event/chair-yoga-2024-10-03/2027-02-04/
LOCATION:Meeting Room 1 Bingo Room
END:VEVENT
BEGIN:VEVENT
DTSTART;TZID=America/Chicago:20270204T130000
DTEND;TZID=America/Chicago:20270204T160000
DTSTAMP:20260423T005920
CREATED:20240617T144914Z
LAST-MODIFIED:20240617T144914Z
UID:10005216-1801746000-1801756800@www.algonquintownship.com
SUMMARY:Thursday Bridge Group
DESCRIPTION:
URL:https://www.algonquintownship.com/event/thursday-bridge-group/2027-02-04/
LOCATION:Meeting Room 1 Bingo Room
END:VEVENT
BEGIN:VEVENT
DTSTART;TZID=America/Chicago:20270205T090000
DTEND;TZID=America/Chicago:20270205T153000
DTSTAMP:20260423T005920
CREATED:20240617T145919Z
LAST-MODIFIED:20240913T193901Z
UID:10009114-1801818000-1801841400@www.algonquintownship.com
SUMMARY:Crystal Lake Duplicate Bridge Club
DESCRIPTION:
URL:https://www.algonquintownship.com/event/crystal-lake-duplicate-bridge-club-2-2025-07-25/2027-02-05/
LOCATION:Meeting Room 1 Bingo Room
END:VEVENT
BEGIN:VEVENT
DTSTART;TZID=America/Chicago:20270208T190000
DTEND;TZID=America/Chicago:20270208T210000
DTSTAMP:20260423T005920
CREATED:20240617T170507Z
LAST-MODIFIED:20260127T165221Z
UID:10006305-1802113200-1802120400@www.algonquintownship.com
SUMMARY:Cary Junior Trojans
DESCRIPTION:
URL:https://www.algonquintownship.com/event/cary-junior-trojans/2027-02-08/
LOCATION:Meeting Room 1 Bingo Room
END:VEVENT
END:VCALENDAR