BEGIN:VCALENDAR
VERSION:2.0
PRODID:-//Algonquin Township - ECPv6.15.18//NONSGML v1.0//EN
CALSCALE:GREGORIAN
METHOD:PUBLISH
X-WR-CALNAME:Algonquin Township
X-ORIGINAL-URL:https://www.algonquintownship.com
X-WR-CALDESC:Events for Algonquin Township
REFRESH-INTERVAL;VALUE=DURATION:PT1H
X-Robots-Tag:noindex
X-PUBLISHED-TTL:PT1H
BEGIN:VTIMEZONE
TZID:America/Chicago
BEGIN:DAYLIGHT
TZOFFSETFROM:-0600
TZOFFSETTO:-0500
TZNAME:CDT
DTSTART:20250309T080000
END:DAYLIGHT
BEGIN:STANDARD
TZOFFSETFROM:-0500
TZOFFSETTO:-0600
TZNAME:CST
DTSTART:20251102T070000
END:STANDARD
BEGIN:DAYLIGHT
TZOFFSETFROM:-0600
TZOFFSETTO:-0500
TZNAME:CDT
DTSTART:20260308T080000
END:DAYLIGHT
BEGIN:STANDARD
TZOFFSETFROM:-0500
TZOFFSETTO:-0600
TZNAME:CST
DTSTART:20261101T070000
END:STANDARD
BEGIN:DAYLIGHT
TZOFFSETFROM:-0600
TZOFFSETTO:-0500
TZNAME:CDT
DTSTART:20270314T080000
END:DAYLIGHT
BEGIN:STANDARD
TZOFFSETFROM:-0500
TZOFFSETTO:-0600
TZNAME:CST
DTSTART:20271107T070000
END:STANDARD
BEGIN:DAYLIGHT
TZOFFSETFROM:-0600
TZOFFSETTO:-0500
TZNAME:CDT
DTSTART:20280312T080000
END:DAYLIGHT
BEGIN:STANDARD
TZOFFSETFROM:-0500
TZOFFSETTO:-0600
TZNAME:CST
DTSTART:20281105T070000
END:STANDARD
END:VTIMEZONE
BEGIN:VEVENT
DTSTART;TZID=America/Chicago:20261217T130000
DTEND;TZID=America/Chicago:20261217T160000
DTSTAMP:20260422T211856
CREATED:20240617T144914Z
LAST-MODIFIED:20240617T144914Z
UID:10005209-1797512400-1797523200@www.algonquintownship.com
SUMMARY:Thursday Bridge Group
DESCRIPTION:
URL:https://www.algonquintownship.com/event/thursday-bridge-group/2026-12-17/
LOCATION:Meeting Room 1 Bingo Room
END:VEVENT
BEGIN:VEVENT
DTSTART;TZID=America/Chicago:20261218T090000
DTEND;TZID=America/Chicago:20261218T153000
DTSTAMP:20260422T211856
CREATED:20240617T145919Z
LAST-MODIFIED:20240913T193901Z
UID:10009107-1797584400-1797607800@www.algonquintownship.com
SUMMARY:Crystal Lake Duplicate Bridge Club
DESCRIPTION:
URL:https://www.algonquintownship.com/event/crystal-lake-duplicate-bridge-club-2-2025-07-25/2026-12-18/
LOCATION:Meeting Room 1 Bingo Room
END:VEVENT
BEGIN:VEVENT
DTSTART;TZID=America/Chicago:20261222T104500
DTEND;TZID=America/Chicago:20261222T120000
DTSTAMP:20260422T211856
CREATED:20240617T141656Z
LAST-MODIFIED:20260107T154114Z
UID:10008805-1797936300-1797940800@www.algonquintownship.com
SUMMARY:Simple Strength
DESCRIPTION:
URL:https://www.algonquintownship.com/event/simple-strength/2026-12-22/
LOCATION:Meeting Room 1 Bingo Room
END:VEVENT
BEGIN:VEVENT
DTSTART;TZID=America/Chicago:20261222T130000
DTEND;TZID=America/Chicago:20261222T160000
DTSTAMP:20260422T211856
CREATED:20240617T141848Z
LAST-MODIFIED:20240617T141848Z
UID:10004374-1797944400-1797955200@www.algonquintownship.com
SUMMARY:Tuesday Bridge Group
DESCRIPTION:Tuesday’s at 1pm – 4pm.
URL:https://www.algonquintownship.com/event/tuesday-bridge-group/2026-12-22/
LOCATION:Meeting Room 1 Bingo Room
END:VEVENT
BEGIN:VEVENT
DTSTART;TZID=America/Chicago:20261223T090000
DTEND;TZID=America/Chicago:20261223T153000
DTSTAMP:20260422T211856
CREATED:20240617T145751Z
LAST-MODIFIED:20240617T145751Z
UID:10005523-1798016400-1798039800@www.algonquintownship.com
SUMMARY:Crystal Lake Duplicate Bridge Club
DESCRIPTION:
URL:https://www.algonquintownship.com/event/crystal-lake-duplicate-bridge-club/2026-12-23/
LOCATION:Meeting Room 1 Bingo Room
END:VEVENT
BEGIN:VEVENT
DTSTART;TZID=America/Chicago:20261224T104500
DTEND;TZID=America/Chicago:20261224T114500
DTSTAMP:20260422T211856
CREATED:20240617T143636Z
LAST-MODIFIED:20260107T154319Z
UID:10006743-1798109100-1798112700@www.algonquintownship.com
SUMMARY:Chair Yoga
DESCRIPTION:
URL:https://www.algonquintownship.com/event/chair-yoga-2024-10-03/2026-12-24/
LOCATION:Meeting Room 1 Bingo Room
END:VEVENT
BEGIN:VEVENT
DTSTART;TZID=America/Chicago:20261224T130000
DTEND;TZID=America/Chicago:20261224T160000
DTSTAMP:20260422T211856
CREATED:20240617T144914Z
LAST-MODIFIED:20240617T144914Z
UID:10005210-1798117200-1798128000@www.algonquintownship.com
SUMMARY:Thursday Bridge Group
DESCRIPTION:
URL:https://www.algonquintownship.com/event/thursday-bridge-group/2026-12-24/
LOCATION:Meeting Room 1 Bingo Room
END:VEVENT
BEGIN:VEVENT
DTSTART;TZID=America/Chicago:20261225T090000
DTEND;TZID=America/Chicago:20261225T153000
DTSTAMP:20260422T211856
CREATED:20240617T145919Z
LAST-MODIFIED:20240913T193901Z
UID:10009108-1798189200-1798212600@www.algonquintownship.com
SUMMARY:Crystal Lake Duplicate Bridge Club
DESCRIPTION:
URL:https://www.algonquintownship.com/event/crystal-lake-duplicate-bridge-club-2-2025-07-25/2026-12-25/
LOCATION:Meeting Room 1 Bingo Room
END:VEVENT
BEGIN:VEVENT
DTSTART;TZID=America/Chicago:20261229T104500
DTEND;TZID=America/Chicago:20261229T120000
DTSTAMP:20260422T211856
CREATED:20240617T141656Z
LAST-MODIFIED:20260107T154114Z
UID:10008806-1798541100-1798545600@www.algonquintownship.com
SUMMARY:Simple Strength
DESCRIPTION:
URL:https://www.algonquintownship.com/event/simple-strength/2026-12-29/
LOCATION:Meeting Room 1 Bingo Room
END:VEVENT
BEGIN:VEVENT
DTSTART;TZID=America/Chicago:20261229T130000
DTEND;TZID=America/Chicago:20261229T160000
DTSTAMP:20260422T211856
CREATED:20240617T141848Z
LAST-MODIFIED:20240617T141848Z
UID:10004375-1798549200-1798560000@www.algonquintownship.com
SUMMARY:Tuesday Bridge Group
DESCRIPTION:Tuesday’s at 1pm – 4pm.
URL:https://www.algonquintownship.com/event/tuesday-bridge-group/2026-12-29/
LOCATION:Meeting Room 1 Bingo Room
END:VEVENT
BEGIN:VEVENT
DTSTART;TZID=America/Chicago:20261230T090000
DTEND;TZID=America/Chicago:20261230T153000
DTSTAMP:20260422T211856
CREATED:20240617T145751Z
LAST-MODIFIED:20240617T145751Z
UID:10005524-1798621200-1798644600@www.algonquintownship.com
SUMMARY:Crystal Lake Duplicate Bridge Club
DESCRIPTION:
URL:https://www.algonquintownship.com/event/crystal-lake-duplicate-bridge-club/2026-12-30/
LOCATION:Meeting Room 1 Bingo Room
END:VEVENT
BEGIN:VEVENT
DTSTART;TZID=America/Chicago:20261231T104500
DTEND;TZID=America/Chicago:20261231T114500
DTSTAMP:20260422T211856
CREATED:20240617T143636Z
LAST-MODIFIED:20260107T154319Z
UID:10006744-1798713900-1798717500@www.algonquintownship.com
SUMMARY:Chair Yoga
DESCRIPTION:
URL:https://www.algonquintownship.com/event/chair-yoga-2024-10-03/2026-12-31/
LOCATION:Meeting Room 1 Bingo Room
END:VEVENT
BEGIN:VEVENT
DTSTART;TZID=America/Chicago:20261231T130000
DTEND;TZID=America/Chicago:20261231T160000
DTSTAMP:20260422T211856
CREATED:20240617T144914Z
LAST-MODIFIED:20240617T144914Z
UID:10005211-1798722000-1798732800@www.algonquintownship.com
SUMMARY:Thursday Bridge Group
DESCRIPTION:
URL:https://www.algonquintownship.com/event/thursday-bridge-group/2026-12-31/
LOCATION:Meeting Room 1 Bingo Room
END:VEVENT
BEGIN:VEVENT
DTSTART;TZID=America/Chicago:20270101T090000
DTEND;TZID=America/Chicago:20270101T153000
DTSTAMP:20260422T211856
CREATED:20240617T145919Z
LAST-MODIFIED:20240913T193901Z
UID:10009109-1798794000-1798817400@www.algonquintownship.com
SUMMARY:Crystal Lake Duplicate Bridge Club
DESCRIPTION:
URL:https://www.algonquintownship.com/event/crystal-lake-duplicate-bridge-club-2-2025-07-25/2027-01-01/
LOCATION:Meeting Room 1 Bingo Room
END:VEVENT
BEGIN:VEVENT
DTSTART;TZID=America/Chicago:20270104T090000
DTEND;TZID=America/Chicago:20270104T130000
DTSTAMP:20260422T211856
CREATED:20240617T154337Z
LAST-MODIFIED:20250828T144203Z
UID:10006064-1799053200-1799067600@www.algonquintownship.com
SUMMARY:Bingo
DESCRIPTION:
URL:https://www.algonquintownship.com/event/bingo-2/2027-01-04/
LOCATION:Meeting Room 1 Bingo Room
END:VEVENT
BEGIN:VEVENT
DTSTART;TZID=America/Chicago:20270105T104500
DTEND;TZID=America/Chicago:20270105T120000
DTSTAMP:20260422T211856
CREATED:20240617T141656Z
LAST-MODIFIED:20260107T154114Z
UID:10008807-1799145900-1799150400@www.algonquintownship.com
SUMMARY:Simple Strength
DESCRIPTION:
URL:https://www.algonquintownship.com/event/simple-strength/2027-01-05/
LOCATION:Meeting Room 1 Bingo Room
END:VEVENT
BEGIN:VEVENT
DTSTART;TZID=America/Chicago:20270105T130000
DTEND;TZID=America/Chicago:20270105T160000
DTSTAMP:20260422T211856
CREATED:20240617T141848Z
LAST-MODIFIED:20240617T141848Z
UID:10004376-1799154000-1799164800@www.algonquintownship.com
SUMMARY:Tuesday Bridge Group
DESCRIPTION:Tuesday’s at 1pm – 4pm.
URL:https://www.algonquintownship.com/event/tuesday-bridge-group/2027-01-05/
LOCATION:Meeting Room 1 Bingo Room
END:VEVENT
BEGIN:VEVENT
DTSTART;TZID=America/Chicago:20270105T180000
DTEND;TZID=America/Chicago:20270105T213000
DTSTAMP:20260422T211856
CREATED:20240617T172239Z
LAST-MODIFIED:20240617T172239Z
UID:10006112-1799172000-1799184600@www.algonquintownship.com
SUMMARY:McHenry County Wireless Association (MCWA)
DESCRIPTION:
URL:https://www.algonquintownship.com/event/mchenry-county-wireless-association-mcwa/2027-01-05/
LOCATION:Meeting Room 1 Bingo Room
END:VEVENT
BEGIN:VEVENT
DTSTART;TZID=America/Chicago:20270106T090000
DTEND;TZID=America/Chicago:20270106T153000
DTSTAMP:20260422T211856
CREATED:20240617T145751Z
LAST-MODIFIED:20240617T145751Z
UID:10005525-1799226000-1799249400@www.algonquintownship.com
SUMMARY:Crystal Lake Duplicate Bridge Club
DESCRIPTION:
URL:https://www.algonquintownship.com/event/crystal-lake-duplicate-bridge-club/2027-01-06/
LOCATION:Meeting Room 1 Bingo Room
END:VEVENT
BEGIN:VEVENT
DTSTART;TZID=America/Chicago:20270107T104500
DTEND;TZID=America/Chicago:20270107T114500
DTSTAMP:20260422T211856
CREATED:20240617T143636Z
LAST-MODIFIED:20260107T154319Z
UID:10006745-1799318700-1799322300@www.algonquintownship.com
SUMMARY:Chair Yoga
DESCRIPTION:
URL:https://www.algonquintownship.com/event/chair-yoga-2024-10-03/2027-01-07/
LOCATION:Meeting Room 1 Bingo Room
END:VEVENT
BEGIN:VEVENT
DTSTART;TZID=America/Chicago:20270107T130000
DTEND;TZID=America/Chicago:20270107T160000
DTSTAMP:20260422T211856
CREATED:20240617T144914Z
LAST-MODIFIED:20240617T144914Z
UID:10005212-1799326800-1799337600@www.algonquintownship.com
SUMMARY:Thursday Bridge Group
DESCRIPTION:
URL:https://www.algonquintownship.com/event/thursday-bridge-group/2027-01-07/
LOCATION:Meeting Room 1 Bingo Room
END:VEVENT
BEGIN:VEVENT
DTSTART;TZID=America/Chicago:20270108T090000
DTEND;TZID=America/Chicago:20270108T153000
DTSTAMP:20260422T211856
CREATED:20240617T145919Z
LAST-MODIFIED:20240913T193901Z
UID:10009110-1799398800-1799422200@www.algonquintownship.com
SUMMARY:Crystal Lake Duplicate Bridge Club
DESCRIPTION:
URL:https://www.algonquintownship.com/event/crystal-lake-duplicate-bridge-club-2-2025-07-25/2027-01-08/
LOCATION:Meeting Room 1 Bingo Room
END:VEVENT
BEGIN:VEVENT
DTSTART;TZID=America/Chicago:20270109T173000
DTEND;TZID=America/Chicago:20270109T223000
DTSTAMP:20260422T211856
CREATED:20240617T162106Z
LAST-MODIFIED:20260127T163241Z
UID:10006496-1799515800-1799533800@www.algonquintownship.com
SUMMARY:IPMS Cars in Miniature
DESCRIPTION:
URL:https://www.algonquintownship.com/event/ipms-cars-in-miniature/2027-01-09/
LOCATION:Meeting Room 1 Bingo Room
END:VEVENT
BEGIN:VEVENT
DTSTART;TZID=America/Chicago:20270110T100000
DTEND;TZID=America/Chicago:20270110T160000
DTSTAMP:20260422T211856
CREATED:20240617T172039Z
LAST-MODIFIED:20260127T172609Z
UID:10006545-1799575200-1799596800@www.algonquintownship.com
SUMMARY:Crystal Lake Midwest Quilt Guild
DESCRIPTION:
URL:https://www.algonquintownship.com/event/crystal-lake-midwest-quilt-guild/2027-01-10/
LOCATION:Meeting Room 1 Bingo Room
END:VEVENT
BEGIN:VEVENT
DTSTART;TZID=America/Chicago:20270111T190000
DTEND;TZID=America/Chicago:20270111T210000
DTSTAMP:20260422T211856
CREATED:20240617T170507Z
LAST-MODIFIED:20260127T165221Z
UID:10006304-1799694000-1799701200@www.algonquintownship.com
SUMMARY:Cary Junior Trojans
DESCRIPTION:
URL:https://www.algonquintownship.com/event/cary-junior-trojans/2027-01-11/
LOCATION:Meeting Room 1 Bingo Room
END:VEVENT
BEGIN:VEVENT
DTSTART;TZID=America/Chicago:20270112T104500
DTEND;TZID=America/Chicago:20270112T120000
DTSTAMP:20260422T211856
CREATED:20240617T141656Z
LAST-MODIFIED:20260107T154114Z
UID:10008808-1799750700-1799755200@www.algonquintownship.com
SUMMARY:Simple Strength
DESCRIPTION:
URL:https://www.algonquintownship.com/event/simple-strength/2027-01-12/
LOCATION:Meeting Room 1 Bingo Room
END:VEVENT
BEGIN:VEVENT
DTSTART;TZID=America/Chicago:20270112T130000
DTEND;TZID=America/Chicago:20270112T160000
DTSTAMP:20260422T211856
CREATED:20240617T141848Z
LAST-MODIFIED:20240617T141848Z
UID:10004377-1799758800-1799769600@www.algonquintownship.com
SUMMARY:Tuesday Bridge Group
DESCRIPTION:Tuesday’s at 1pm – 4pm.
URL:https://www.algonquintownship.com/event/tuesday-bridge-group/2027-01-12/
LOCATION:Meeting Room 1 Bingo Room
END:VEVENT
BEGIN:VEVENT
DTSTART;TZID=America/Chicago:20270113T090000
DTEND;TZID=America/Chicago:20270113T153000
DTSTAMP:20260422T211856
CREATED:20240617T145751Z
LAST-MODIFIED:20240617T145751Z
UID:10005526-1799830800-1799854200@www.algonquintownship.com
SUMMARY:Crystal Lake Duplicate Bridge Club
DESCRIPTION:
URL:https://www.algonquintownship.com/event/crystal-lake-duplicate-bridge-club/2027-01-13/
LOCATION:Meeting Room 1 Bingo Room
END:VEVENT
BEGIN:VEVENT
DTSTART;TZID=America/Chicago:20270114T104500
DTEND;TZID=America/Chicago:20270114T114500
DTSTAMP:20260422T211856
CREATED:20240617T143636Z
LAST-MODIFIED:20260107T154319Z
UID:10006746-1799923500-1799927100@www.algonquintownship.com
SUMMARY:Chair Yoga
DESCRIPTION:
URL:https://www.algonquintownship.com/event/chair-yoga-2024-10-03/2027-01-14/
LOCATION:Meeting Room 1 Bingo Room
END:VEVENT
BEGIN:VEVENT
DTSTART;TZID=America/Chicago:20270114T130000
DTEND;TZID=America/Chicago:20270114T160000
DTSTAMP:20260422T211856
CREATED:20240617T144914Z
LAST-MODIFIED:20240617T144914Z
UID:10005213-1799931600-1799942400@www.algonquintownship.com
SUMMARY:Thursday Bridge Group
DESCRIPTION:
URL:https://www.algonquintownship.com/event/thursday-bridge-group/2027-01-14/
LOCATION:Meeting Room 1 Bingo Room
END:VEVENT
END:VCALENDAR