BEGIN:VCALENDAR
VERSION:2.0
PRODID:-//Algonquin Township - ECPv6.15.18//NONSGML v1.0//EN
CALSCALE:GREGORIAN
METHOD:PUBLISH
X-ORIGINAL-URL:https://www.algonquintownship.com
X-WR-CALDESC:Events for Algonquin Township
REFRESH-INTERVAL;VALUE=DURATION:PT1H
X-Robots-Tag:noindex
X-PUBLISHED-TTL:PT1H
BEGIN:VTIMEZONE
TZID:America/Chicago
BEGIN:DAYLIGHT
TZOFFSETFROM:-0600
TZOFFSETTO:-0500
TZNAME:CDT
DTSTART:20250309T080000
END:DAYLIGHT
BEGIN:STANDARD
TZOFFSETFROM:-0500
TZOFFSETTO:-0600
TZNAME:CST
DTSTART:20251102T070000
END:STANDARD
BEGIN:DAYLIGHT
TZOFFSETFROM:-0600
TZOFFSETTO:-0500
TZNAME:CDT
DTSTART:20260308T080000
END:DAYLIGHT
BEGIN:STANDARD
TZOFFSETFROM:-0500
TZOFFSETTO:-0600
TZNAME:CST
DTSTART:20261101T070000
END:STANDARD
BEGIN:DAYLIGHT
TZOFFSETFROM:-0600
TZOFFSETTO:-0500
TZNAME:CDT
DTSTART:20270314T080000
END:DAYLIGHT
BEGIN:STANDARD
TZOFFSETFROM:-0500
TZOFFSETTO:-0600
TZNAME:CST
DTSTART:20271107T070000
END:STANDARD
END:VTIMEZONE
BEGIN:VEVENT
DTSTART;TZID=America/Chicago:20261118T090000
DTEND;TZID=America/Chicago:20261118T153000
DTSTAMP:20260422T161031
CREATED:20240617T145751Z
LAST-MODIFIED:20240617T145751Z
UID:10005518-1794992400-1795015800@www.algonquintownship.com
SUMMARY:Crystal Lake Duplicate Bridge Club
DESCRIPTION:
URL:https://www.algonquintownship.com/event/crystal-lake-duplicate-bridge-club/2026-11-18/
LOCATION:Meeting Room 1 Bingo Room
END:VEVENT
BEGIN:VEVENT
DTSTART;TZID=America/Chicago:20261118T180000
DTEND;TZID=America/Chicago:20261118T210000
DTSTAMP:20260422T161031
CREATED:20260127T155711Z
LAST-MODIFIED:20260127T155711Z
UID:10009962-1795024800-1795035600@www.algonquintownship.com
SUMMARY:West Lake HOA
DESCRIPTION:
URL:https://www.algonquintownship.com/event/west-lake-hoa/2026-11-18/
LOCATION:Meeting Room 1 Bingo Room
END:VEVENT
BEGIN:VEVENT
DTSTART;TZID=America/Chicago:20261119T104500
DTEND;TZID=America/Chicago:20261119T114500
DTSTAMP:20260422T161031
CREATED:20240617T143636Z
LAST-MODIFIED:20260107T154319Z
UID:10006738-1795085100-1795088700@www.algonquintownship.com
SUMMARY:Chair Yoga
DESCRIPTION:
URL:https://www.algonquintownship.com/event/chair-yoga-2024-10-03/2026-11-19/
LOCATION:Meeting Room 1 Bingo Room
END:VEVENT
BEGIN:VEVENT
DTSTART;TZID=America/Chicago:20261119T130000
DTEND;TZID=America/Chicago:20261119T160000
DTSTAMP:20260422T161031
CREATED:20240617T144914Z
LAST-MODIFIED:20240617T144914Z
UID:10005205-1795093200-1795104000@www.algonquintownship.com
SUMMARY:Thursday Bridge Group
DESCRIPTION:
URL:https://www.algonquintownship.com/event/thursday-bridge-group/2026-11-19/
LOCATION:Meeting Room 1 Bingo Room
END:VEVENT
BEGIN:VEVENT
DTSTART;TZID=America/Chicago:20261120T090000
DTEND;TZID=America/Chicago:20261120T153000
DTSTAMP:20260422T161031
CREATED:20240617T145919Z
LAST-MODIFIED:20240913T193901Z
UID:10009103-1795165200-1795188600@www.algonquintownship.com
SUMMARY:Crystal Lake Duplicate Bridge Club
DESCRIPTION:
URL:https://www.algonquintownship.com/event/crystal-lake-duplicate-bridge-club-2-2025-07-25/2026-11-20/
LOCATION:Meeting Room 1 Bingo Room
END:VEVENT
BEGIN:VEVENT
DTSTART;TZID=America/Chicago:20261124T104500
DTEND;TZID=America/Chicago:20261124T120000
DTSTAMP:20260422T161031
CREATED:20240617T141656Z
LAST-MODIFIED:20260107T154114Z
UID:10008801-1795517100-1795521600@www.algonquintownship.com
SUMMARY:Simple Strength
DESCRIPTION:
URL:https://www.algonquintownship.com/event/simple-strength/2026-11-24/
LOCATION:Meeting Room 1 Bingo Room
END:VEVENT
BEGIN:VEVENT
DTSTART;TZID=America/Chicago:20261124T130000
DTEND;TZID=America/Chicago:20261124T160000
DTSTAMP:20260422T161031
CREATED:20240617T141848Z
LAST-MODIFIED:20240617T141848Z
UID:10004370-1795525200-1795536000@www.algonquintownship.com
SUMMARY:Tuesday Bridge Group
DESCRIPTION:Tuesday’s at 1pm – 4pm.
URL:https://www.algonquintownship.com/event/tuesday-bridge-group/2026-11-24/
LOCATION:Meeting Room 1 Bingo Room
END:VEVENT
BEGIN:VEVENT
DTSTART;TZID=America/Chicago:20261125T090000
DTEND;TZID=America/Chicago:20261125T153000
DTSTAMP:20260422T161031
CREATED:20240617T145751Z
LAST-MODIFIED:20240617T145751Z
UID:10005519-1795597200-1795620600@www.algonquintownship.com
SUMMARY:Crystal Lake Duplicate Bridge Club
DESCRIPTION:
URL:https://www.algonquintownship.com/event/crystal-lake-duplicate-bridge-club/2026-11-25/
LOCATION:Meeting Room 1 Bingo Room
END:VEVENT
BEGIN:VEVENT
DTSTART;TZID=America/Chicago:20261126T104500
DTEND;TZID=America/Chicago:20261126T114500
DTSTAMP:20260422T161031
CREATED:20240617T143636Z
LAST-MODIFIED:20260107T154319Z
UID:10006739-1795689900-1795693500@www.algonquintownship.com
SUMMARY:Chair Yoga
DESCRIPTION:
URL:https://www.algonquintownship.com/event/chair-yoga-2024-10-03/2026-11-26/
LOCATION:Meeting Room 1 Bingo Room
END:VEVENT
BEGIN:VEVENT
DTSTART;TZID=America/Chicago:20261126T130000
DTEND;TZID=America/Chicago:20261126T160000
DTSTAMP:20260422T161031
CREATED:20240617T144914Z
LAST-MODIFIED:20240617T144914Z
UID:10005206-1795698000-1795708800@www.algonquintownship.com
SUMMARY:Thursday Bridge Group
DESCRIPTION:
URL:https://www.algonquintownship.com/event/thursday-bridge-group/2026-11-26/
LOCATION:Meeting Room 1 Bingo Room
END:VEVENT
BEGIN:VEVENT
DTSTART;TZID=America/Chicago:20261127T090000
DTEND;TZID=America/Chicago:20261127T153000
DTSTAMP:20260422T161031
CREATED:20240617T145919Z
LAST-MODIFIED:20240913T193901Z
UID:10009104-1795770000-1795793400@www.algonquintownship.com
SUMMARY:Crystal Lake Duplicate Bridge Club
DESCRIPTION:
URL:https://www.algonquintownship.com/event/crystal-lake-duplicate-bridge-club-2-2025-07-25/2026-11-27/
LOCATION:Meeting Room 1 Bingo Room
END:VEVENT
BEGIN:VEVENT
DTSTART;TZID=America/Chicago:20261201T104500
DTEND;TZID=America/Chicago:20261201T120000
DTSTAMP:20260422T161031
CREATED:20240617T141656Z
LAST-MODIFIED:20260107T154114Z
UID:10008802-1796121900-1796126400@www.algonquintownship.com
SUMMARY:Simple Strength
DESCRIPTION:
URL:https://www.algonquintownship.com/event/simple-strength/2026-12-01/
LOCATION:Meeting Room 1 Bingo Room
END:VEVENT
BEGIN:VEVENT
DTSTART;TZID=America/Chicago:20261201T130000
DTEND;TZID=America/Chicago:20261201T160000
DTSTAMP:20260422T161031
CREATED:20240617T141848Z
LAST-MODIFIED:20240617T141848Z
UID:10004371-1796130000-1796140800@www.algonquintownship.com
SUMMARY:Tuesday Bridge Group
DESCRIPTION:Tuesday’s at 1pm – 4pm.
URL:https://www.algonquintownship.com/event/tuesday-bridge-group/2026-12-01/
LOCATION:Meeting Room 1 Bingo Room
END:VEVENT
BEGIN:VEVENT
DTSTART;TZID=America/Chicago:20261201T180000
DTEND;TZID=America/Chicago:20261201T213000
DTSTAMP:20260422T161031
CREATED:20240617T172239Z
LAST-MODIFIED:20240617T172239Z
UID:10006111-1796148000-1796160600@www.algonquintownship.com
SUMMARY:McHenry County Wireless Association (MCWA)
DESCRIPTION:
URL:https://www.algonquintownship.com/event/mchenry-county-wireless-association-mcwa/2026-12-01/
LOCATION:Meeting Room 1 Bingo Room
END:VEVENT
BEGIN:VEVENT
DTSTART;TZID=America/Chicago:20261202T090000
DTEND;TZID=America/Chicago:20261202T153000
DTSTAMP:20260422T161031
CREATED:20240617T145751Z
LAST-MODIFIED:20240617T145751Z
UID:10005520-1796202000-1796225400@www.algonquintownship.com
SUMMARY:Crystal Lake Duplicate Bridge Club
DESCRIPTION:
URL:https://www.algonquintownship.com/event/crystal-lake-duplicate-bridge-club/2026-12-02/
LOCATION:Meeting Room 1 Bingo Room
END:VEVENT
BEGIN:VEVENT
DTSTART;TZID=America/Chicago:20261202T180000
DTEND;TZID=America/Chicago:20261202T210000
DTSTAMP:20260422T161031
CREATED:20260127T155711Z
LAST-MODIFIED:20260127T155711Z
UID:10009963-1796234400-1796245200@www.algonquintownship.com
SUMMARY:West Lake HOA
DESCRIPTION:
URL:https://www.algonquintownship.com/event/west-lake-hoa/2026-12-02/
LOCATION:Meeting Room 1 Bingo Room
END:VEVENT
BEGIN:VEVENT
DTSTART;TZID=America/Chicago:20261203T104500
DTEND;TZID=America/Chicago:20261203T114500
DTSTAMP:20260422T161031
CREATED:20240617T143636Z
LAST-MODIFIED:20260107T154319Z
UID:10006740-1796294700-1796298300@www.algonquintownship.com
SUMMARY:Chair Yoga
DESCRIPTION:
URL:https://www.algonquintownship.com/event/chair-yoga-2024-10-03/2026-12-03/
LOCATION:Meeting Room 1 Bingo Room
END:VEVENT
BEGIN:VEVENT
DTSTART;TZID=America/Chicago:20261203T130000
DTEND;TZID=America/Chicago:20261203T160000
DTSTAMP:20260422T161031
CREATED:20240617T144914Z
LAST-MODIFIED:20240617T144914Z
UID:10005207-1796302800-1796313600@www.algonquintownship.com
SUMMARY:Thursday Bridge Group
DESCRIPTION:
URL:https://www.algonquintownship.com/event/thursday-bridge-group/2026-12-03/
LOCATION:Meeting Room 1 Bingo Room
END:VEVENT
BEGIN:VEVENT
DTSTART;TZID=America/Chicago:20261203T190000
DTEND;TZID=America/Chicago:20261203T210000
DTSTAMP:20260422T161031
CREATED:20260127T175954Z
LAST-MODIFIED:20260127T175954Z
UID:10010014-1796324400-1796331600@www.algonquintownship.com
SUMMARY:Towns at Three Oaks Square HOA
DESCRIPTION:
URL:https://www.algonquintownship.com/event/towns-at-three-oaks-square-hoa/2026-12-03/
LOCATION:Meeting Room 1 Bingo Room
END:VEVENT
BEGIN:VEVENT
DTSTART;TZID=America/Chicago:20261204T090000
DTEND;TZID=America/Chicago:20261204T153000
DTSTAMP:20260422T161031
CREATED:20240617T145919Z
LAST-MODIFIED:20240913T193901Z
UID:10009105-1796374800-1796398200@www.algonquintownship.com
SUMMARY:Crystal Lake Duplicate Bridge Club
DESCRIPTION:
URL:https://www.algonquintownship.com/event/crystal-lake-duplicate-bridge-club-2-2025-07-25/2026-12-04/
LOCATION:Meeting Room 1 Bingo Room
END:VEVENT
BEGIN:VEVENT
DTSTART;TZID=America/Chicago:20261207T090000
DTEND;TZID=America/Chicago:20261207T130000
DTSTAMP:20260422T161031
CREATED:20240617T154337Z
LAST-MODIFIED:20250828T144203Z
UID:10006063-1796634000-1796648400@www.algonquintownship.com
SUMMARY:Bingo
DESCRIPTION:
URL:https://www.algonquintownship.com/event/bingo-2/2026-12-07/
LOCATION:Meeting Room 1 Bingo Room
END:VEVENT
BEGIN:VEVENT
DTSTART;TZID=America/Chicago:20261208T104500
DTEND;TZID=America/Chicago:20261208T120000
DTSTAMP:20260422T161031
CREATED:20240617T141656Z
LAST-MODIFIED:20260107T154114Z
UID:10008803-1796726700-1796731200@www.algonquintownship.com
SUMMARY:Simple Strength
DESCRIPTION:
URL:https://www.algonquintownship.com/event/simple-strength/2026-12-08/
LOCATION:Meeting Room 1 Bingo Room
END:VEVENT
BEGIN:VEVENT
DTSTART;TZID=America/Chicago:20261208T130000
DTEND;TZID=America/Chicago:20261208T160000
DTSTAMP:20260422T161031
CREATED:20240617T141848Z
LAST-MODIFIED:20240617T141848Z
UID:10004372-1796734800-1796745600@www.algonquintownship.com
SUMMARY:Tuesday Bridge Group
DESCRIPTION:Tuesday’s at 1pm – 4pm.
URL:https://www.algonquintownship.com/event/tuesday-bridge-group/2026-12-08/
LOCATION:Meeting Room 1 Bingo Room
END:VEVENT
BEGIN:VEVENT
DTSTART;TZID=America/Chicago:20261209T090000
DTEND;TZID=America/Chicago:20261209T153000
DTSTAMP:20260422T161031
CREATED:20240617T145751Z
LAST-MODIFIED:20240617T145751Z
UID:10005521-1796806800-1796830200@www.algonquintownship.com
SUMMARY:Crystal Lake Duplicate Bridge Club
DESCRIPTION:
URL:https://www.algonquintownship.com/event/crystal-lake-duplicate-bridge-club/2026-12-09/
LOCATION:Meeting Room 1 Bingo Room
END:VEVENT
BEGIN:VEVENT
DTSTART;TZID=America/Chicago:20261210T104500
DTEND;TZID=America/Chicago:20261210T114500
DTSTAMP:20260422T161031
CREATED:20240617T143636Z
LAST-MODIFIED:20260107T154319Z
UID:10006741-1796899500-1796903100@www.algonquintownship.com
SUMMARY:Chair Yoga
DESCRIPTION:
URL:https://www.algonquintownship.com/event/chair-yoga-2024-10-03/2026-12-10/
LOCATION:Meeting Room 1 Bingo Room
END:VEVENT
BEGIN:VEVENT
DTSTART;TZID=America/Chicago:20261210T130000
DTEND;TZID=America/Chicago:20261210T160000
DTSTAMP:20260422T161031
CREATED:20240617T144914Z
LAST-MODIFIED:20240617T144914Z
UID:10005208-1796907600-1796918400@www.algonquintownship.com
SUMMARY:Thursday Bridge Group
DESCRIPTION:
URL:https://www.algonquintownship.com/event/thursday-bridge-group/2026-12-10/
LOCATION:Meeting Room 1 Bingo Room
END:VEVENT
BEGIN:VEVENT
DTSTART;TZID=America/Chicago:20261210T180000
DTEND;TZID=America/Chicago:20261210T210000
DTSTAMP:20260422T161031
CREATED:20241010T192644Z
LAST-MODIFIED:20250117T183941Z
UID:10006942-1796925600-1796936400@www.algonquintownship.com
SUMMARY:McHenry County NOW (National Organization for Women)
DESCRIPTION:2nd Thursday of Every Month.
URL:https://www.algonquintownship.com/event/mchenry-county-now-national-organization-for-women/2026-12-10/
LOCATION:Meeting Room 1 Bingo Room
END:VEVENT
BEGIN:VEVENT
DTSTART;TZID=America/Chicago:20261211T090000
DTEND;TZID=America/Chicago:20261211T153000
DTSTAMP:20260422T161031
CREATED:20240617T145919Z
LAST-MODIFIED:20240913T193901Z
UID:10009106-1796979600-1797003000@www.algonquintownship.com
SUMMARY:Crystal Lake Duplicate Bridge Club
DESCRIPTION:
URL:https://www.algonquintownship.com/event/crystal-lake-duplicate-bridge-club-2-2025-07-25/2026-12-11/
LOCATION:Meeting Room 1 Bingo Room
END:VEVENT
BEGIN:VEVENT
DTSTART;TZID=America/Chicago:20261212T173000
DTEND;TZID=America/Chicago:20261212T223000
DTSTAMP:20260422T161031
CREATED:20240617T162106Z
LAST-MODIFIED:20260127T163241Z
UID:10006495-1797096600-1797114600@www.algonquintownship.com
SUMMARY:IPMS Cars in Miniature
DESCRIPTION:
URL:https://www.algonquintownship.com/event/ipms-cars-in-miniature/2026-12-12/
LOCATION:Meeting Room 1 Bingo Room
END:VEVENT
BEGIN:VEVENT
DTSTART;TZID=America/Chicago:20261213T100000
DTEND;TZID=America/Chicago:20261213T160000
DTSTAMP:20260422T161031
CREATED:20240617T172039Z
LAST-MODIFIED:20260127T172609Z
UID:10006544-1797156000-1797177600@www.algonquintownship.com
SUMMARY:Crystal Lake Midwest Quilt Guild
DESCRIPTION:
URL:https://www.algonquintownship.com/event/crystal-lake-midwest-quilt-guild/2026-12-13/
LOCATION:Meeting Room 1 Bingo Room
END:VEVENT
END:VCALENDAR