BEGIN:VCALENDAR
VERSION:2.0
PRODID:-//Algonquin Township - ECPv6.15.18//NONSGML v1.0//EN
CALSCALE:GREGORIAN
METHOD:PUBLISH
X-WR-CALNAME:Algonquin Township
X-ORIGINAL-URL:https://www.algonquintownship.com
X-WR-CALDESC:Events for Algonquin Township
REFRESH-INTERVAL;VALUE=DURATION:PT1H
X-Robots-Tag:noindex
X-PUBLISHED-TTL:PT1H
BEGIN:VTIMEZONE
TZID:America/Chicago
BEGIN:DAYLIGHT
TZOFFSETFROM:-0600
TZOFFSETTO:-0500
TZNAME:CDT
DTSTART:20250309T080000
END:DAYLIGHT
BEGIN:STANDARD
TZOFFSETFROM:-0500
TZOFFSETTO:-0600
TZNAME:CST
DTSTART:20251102T070000
END:STANDARD
BEGIN:DAYLIGHT
TZOFFSETFROM:-0600
TZOFFSETTO:-0500
TZNAME:CDT
DTSTART:20260308T080000
END:DAYLIGHT
BEGIN:STANDARD
TZOFFSETFROM:-0500
TZOFFSETTO:-0600
TZNAME:CST
DTSTART:20261101T070000
END:STANDARD
BEGIN:DAYLIGHT
TZOFFSETFROM:-0600
TZOFFSETTO:-0500
TZNAME:CDT
DTSTART:20270314T080000
END:DAYLIGHT
BEGIN:STANDARD
TZOFFSETFROM:-0500
TZOFFSETTO:-0600
TZNAME:CST
DTSTART:20271107T070000
END:STANDARD
END:VTIMEZONE
BEGIN:VEVENT
DTSTART;TZID=America/Chicago:20261016T090000
DTEND;TZID=America/Chicago:20261016T153000
DTSTAMP:20260422T112043
CREATED:20240617T145919Z
LAST-MODIFIED:20240913T193901Z
UID:10009098-1792141200-1792164600@www.algonquintownship.com
SUMMARY:Crystal Lake Duplicate Bridge Club
DESCRIPTION:
URL:https://www.algonquintownship.com/event/crystal-lake-duplicate-bridge-club-2-2025-07-25/2026-10-16/
LOCATION:Meeting Room 1 Bingo Room
END:VEVENT
BEGIN:VEVENT
DTSTART;TZID=America/Chicago:20261020T104500
DTEND;TZID=America/Chicago:20261020T120000
DTSTAMP:20260422T112043
CREATED:20240617T141656Z
LAST-MODIFIED:20260107T154114Z
UID:10008796-1792493100-1792497600@www.algonquintownship.com
SUMMARY:Simple Strength
DESCRIPTION:
URL:https://www.algonquintownship.com/event/simple-strength/2026-10-20/
LOCATION:Meeting Room 1 Bingo Room
END:VEVENT
BEGIN:VEVENT
DTSTART;TZID=America/Chicago:20261020T130000
DTEND;TZID=America/Chicago:20261020T160000
DTSTAMP:20260422T112043
CREATED:20240617T141848Z
LAST-MODIFIED:20240617T141848Z
UID:10004365-1792501200-1792512000@www.algonquintownship.com
SUMMARY:Tuesday Bridge Group
DESCRIPTION:Tuesday’s at 1pm – 4pm.
URL:https://www.algonquintownship.com/event/tuesday-bridge-group/2026-10-20/
LOCATION:Meeting Room 1 Bingo Room
END:VEVENT
BEGIN:VEVENT
DTSTART;TZID=America/Chicago:20261021T090000
DTEND;TZID=America/Chicago:20261021T153000
DTSTAMP:20260422T112043
CREATED:20240617T145751Z
LAST-MODIFIED:20240617T145751Z
UID:10005514-1792573200-1792596600@www.algonquintownship.com
SUMMARY:Crystal Lake Duplicate Bridge Club
DESCRIPTION:
URL:https://www.algonquintownship.com/event/crystal-lake-duplicate-bridge-club/2026-10-21/
LOCATION:Meeting Room 1 Bingo Room
END:VEVENT
BEGIN:VEVENT
DTSTART;TZID=America/Chicago:20261021T180000
DTEND;TZID=America/Chicago:20261021T210000
DTSTAMP:20260422T112043
CREATED:20260127T155711Z
LAST-MODIFIED:20260127T155711Z
UID:10009960-1792605600-1792616400@www.algonquintownship.com
SUMMARY:West Lake HOA
DESCRIPTION:
URL:https://www.algonquintownship.com/event/west-lake-hoa/2026-10-21/
LOCATION:Meeting Room 1 Bingo Room
END:VEVENT
BEGIN:VEVENT
DTSTART;TZID=America/Chicago:20261022T104500
DTEND;TZID=America/Chicago:20261022T114500
DTSTAMP:20260422T112043
CREATED:20240617T143636Z
LAST-MODIFIED:20260107T154319Z
UID:10006734-1792665900-1792669500@www.algonquintownship.com
SUMMARY:Chair Yoga
DESCRIPTION:
URL:https://www.algonquintownship.com/event/chair-yoga-2024-10-03/2026-10-22/
LOCATION:Meeting Room 1 Bingo Room
END:VEVENT
BEGIN:VEVENT
DTSTART;TZID=America/Chicago:20261022T130000
DTEND;TZID=America/Chicago:20261022T160000
DTSTAMP:20260422T112043
CREATED:20240617T144914Z
LAST-MODIFIED:20240617T144914Z
UID:10005201-1792674000-1792684800@www.algonquintownship.com
SUMMARY:Thursday Bridge Group
DESCRIPTION:
URL:https://www.algonquintownship.com/event/thursday-bridge-group/2026-10-22/
LOCATION:Meeting Room 1 Bingo Room
END:VEVENT
BEGIN:VEVENT
DTSTART;TZID=America/Chicago:20261023T090000
DTEND;TZID=America/Chicago:20261023T153000
DTSTAMP:20260422T112043
CREATED:20240617T145919Z
LAST-MODIFIED:20240913T193901Z
UID:10009099-1792746000-1792769400@www.algonquintownship.com
SUMMARY:Crystal Lake Duplicate Bridge Club
DESCRIPTION:
URL:https://www.algonquintownship.com/event/crystal-lake-duplicate-bridge-club-2-2025-07-25/2026-10-23/
LOCATION:Meeting Room 1 Bingo Room
END:VEVENT
BEGIN:VEVENT
DTSTART;TZID=America/Chicago:20261027T104500
DTEND;TZID=America/Chicago:20261027T120000
DTSTAMP:20260422T112043
CREATED:20240617T141656Z
LAST-MODIFIED:20260107T154114Z
UID:10008797-1793097900-1793102400@www.algonquintownship.com
SUMMARY:Simple Strength
DESCRIPTION:
URL:https://www.algonquintownship.com/event/simple-strength/2026-10-27/
LOCATION:Meeting Room 1 Bingo Room
END:VEVENT
BEGIN:VEVENT
DTSTART;TZID=America/Chicago:20261027T130000
DTEND;TZID=America/Chicago:20261027T160000
DTSTAMP:20260422T112043
CREATED:20240617T141848Z
LAST-MODIFIED:20240617T141848Z
UID:10004366-1793106000-1793116800@www.algonquintownship.com
SUMMARY:Tuesday Bridge Group
DESCRIPTION:Tuesday’s at 1pm – 4pm.
URL:https://www.algonquintownship.com/event/tuesday-bridge-group/2026-10-27/
LOCATION:Meeting Room 1 Bingo Room
END:VEVENT
BEGIN:VEVENT
DTSTART;TZID=America/Chicago:20261028T090000
DTEND;TZID=America/Chicago:20261028T153000
DTSTAMP:20260422T112043
CREATED:20240617T145751Z
LAST-MODIFIED:20240617T145751Z
UID:10005515-1793178000-1793201400@www.algonquintownship.com
SUMMARY:Crystal Lake Duplicate Bridge Club
DESCRIPTION:
URL:https://www.algonquintownship.com/event/crystal-lake-duplicate-bridge-club/2026-10-28/
LOCATION:Meeting Room 1 Bingo Room
END:VEVENT
BEGIN:VEVENT
DTSTART;TZID=America/Chicago:20261029T104500
DTEND;TZID=America/Chicago:20261029T114500
DTSTAMP:20260422T112043
CREATED:20240617T143636Z
LAST-MODIFIED:20260107T154319Z
UID:10006735-1793270700-1793274300@www.algonquintownship.com
SUMMARY:Chair Yoga
DESCRIPTION:
URL:https://www.algonquintownship.com/event/chair-yoga-2024-10-03/2026-10-29/
LOCATION:Meeting Room 1 Bingo Room
END:VEVENT
BEGIN:VEVENT
DTSTART;TZID=America/Chicago:20261029T123000
DTEND;TZID=America/Chicago:20261029T163000
DTSTAMP:20260422T112043
CREATED:20240617T162539Z
LAST-MODIFIED:20260127T171535Z
UID:10007567-1793277000-1793291400@www.algonquintownship.com
SUMMARY:Gazebo Quilters
DESCRIPTION:
URL:https://www.algonquintownship.com/event/gazebo-quilters-2025-01-30-2025-04-24/2026-10-29/
LOCATION:Meeting Room 1 Bingo Room
END:VEVENT
BEGIN:VEVENT
DTSTART;TZID=America/Chicago:20261029T130000
DTEND;TZID=America/Chicago:20261029T160000
DTSTAMP:20260422T112043
CREATED:20240617T144914Z
LAST-MODIFIED:20240617T144914Z
UID:10005202-1793278800-1793289600@www.algonquintownship.com
SUMMARY:Thursday Bridge Group
DESCRIPTION:
URL:https://www.algonquintownship.com/event/thursday-bridge-group/2026-10-29/
LOCATION:Meeting Room 1 Bingo Room
END:VEVENT
BEGIN:VEVENT
DTSTART;TZID=America/Chicago:20261030T090000
DTEND;TZID=America/Chicago:20261030T153000
DTSTAMP:20260422T112043
CREATED:20240617T145919Z
LAST-MODIFIED:20240913T193901Z
UID:10009100-1793350800-1793374200@www.algonquintownship.com
SUMMARY:Crystal Lake Duplicate Bridge Club
DESCRIPTION:
URL:https://www.algonquintownship.com/event/crystal-lake-duplicate-bridge-club-2-2025-07-25/2026-10-30/
LOCATION:Meeting Room 1 Bingo Room
END:VEVENT
BEGIN:VEVENT
DTSTART;TZID=America/Chicago:20261102T090000
DTEND;TZID=America/Chicago:20261102T130000
DTSTAMP:20260422T112043
CREATED:20240617T154337Z
LAST-MODIFIED:20250828T144203Z
UID:10006062-1793610000-1793624400@www.algonquintownship.com
SUMMARY:Bingo
DESCRIPTION:
URL:https://www.algonquintownship.com/event/bingo-2/2026-11-02/
LOCATION:Meeting Room 1 Bingo Room
END:VEVENT
BEGIN:VEVENT
DTSTART;TZID=America/Chicago:20261103T104500
DTEND;TZID=America/Chicago:20261103T120000
DTSTAMP:20260422T112043
CREATED:20240617T141656Z
LAST-MODIFIED:20260107T154114Z
UID:10008798-1793702700-1793707200@www.algonquintownship.com
SUMMARY:Simple Strength
DESCRIPTION:
URL:https://www.algonquintownship.com/event/simple-strength/2026-11-03/
LOCATION:Meeting Room 1 Bingo Room
END:VEVENT
BEGIN:VEVENT
DTSTART;TZID=America/Chicago:20261103T130000
DTEND;TZID=America/Chicago:20261103T160000
DTSTAMP:20260422T112043
CREATED:20240617T141848Z
LAST-MODIFIED:20240617T141848Z
UID:10004367-1793710800-1793721600@www.algonquintownship.com
SUMMARY:Tuesday Bridge Group
DESCRIPTION:Tuesday’s at 1pm – 4pm.
URL:https://www.algonquintownship.com/event/tuesday-bridge-group/2026-11-03/
LOCATION:Meeting Room 1 Bingo Room
END:VEVENT
BEGIN:VEVENT
DTSTART;TZID=America/Chicago:20261103T180000
DTEND;TZID=America/Chicago:20261103T213000
DTSTAMP:20260422T112043
CREATED:20240617T172239Z
LAST-MODIFIED:20240617T172239Z
UID:10006110-1793728800-1793741400@www.algonquintownship.com
SUMMARY:McHenry County Wireless Association (MCWA)
DESCRIPTION:
URL:https://www.algonquintownship.com/event/mchenry-county-wireless-association-mcwa/2026-11-03/
LOCATION:Meeting Room 1 Bingo Room
END:VEVENT
BEGIN:VEVENT
DTSTART;TZID=America/Chicago:20261104T090000
DTEND;TZID=America/Chicago:20261104T153000
DTSTAMP:20260422T112043
CREATED:20240617T145751Z
LAST-MODIFIED:20240617T145751Z
UID:10005516-1793782800-1793806200@www.algonquintownship.com
SUMMARY:Crystal Lake Duplicate Bridge Club
DESCRIPTION:
URL:https://www.algonquintownship.com/event/crystal-lake-duplicate-bridge-club/2026-11-04/
LOCATION:Meeting Room 1 Bingo Room
END:VEVENT
BEGIN:VEVENT
DTSTART;TZID=America/Chicago:20261104T180000
DTEND;TZID=America/Chicago:20261104T210000
DTSTAMP:20260422T112043
CREATED:20260127T155711Z
LAST-MODIFIED:20260127T155711Z
UID:10009961-1793815200-1793826000@www.algonquintownship.com
SUMMARY:West Lake HOA
DESCRIPTION:
URL:https://www.algonquintownship.com/event/west-lake-hoa/2026-11-04/
LOCATION:Meeting Room 1 Bingo Room
END:VEVENT
BEGIN:VEVENT
DTSTART;TZID=America/Chicago:20261105T104500
DTEND;TZID=America/Chicago:20261105T114500
DTSTAMP:20260422T112043
CREATED:20240617T143636Z
LAST-MODIFIED:20260107T154319Z
UID:10006736-1793875500-1793879100@www.algonquintownship.com
SUMMARY:Chair Yoga
DESCRIPTION:
URL:https://www.algonquintownship.com/event/chair-yoga-2024-10-03/2026-11-05/
LOCATION:Meeting Room 1 Bingo Room
END:VEVENT
BEGIN:VEVENT
DTSTART;TZID=America/Chicago:20261105T130000
DTEND;TZID=America/Chicago:20261105T160000
DTSTAMP:20260422T112043
CREATED:20240617T144914Z
LAST-MODIFIED:20240617T144914Z
UID:10005203-1793883600-1793894400@www.algonquintownship.com
SUMMARY:Thursday Bridge Group
DESCRIPTION:
URL:https://www.algonquintownship.com/event/thursday-bridge-group/2026-11-05/
LOCATION:Meeting Room 1 Bingo Room
END:VEVENT
BEGIN:VEVENT
DTSTART;TZID=America/Chicago:20261106T090000
DTEND;TZID=America/Chicago:20261106T153000
DTSTAMP:20260422T112043
CREATED:20240617T145919Z
LAST-MODIFIED:20240913T193901Z
UID:10009101-1793955600-1793979000@www.algonquintownship.com
SUMMARY:Crystal Lake Duplicate Bridge Club
DESCRIPTION:
URL:https://www.algonquintownship.com/event/crystal-lake-duplicate-bridge-club-2-2025-07-25/2026-11-06/
LOCATION:Meeting Room 1 Bingo Room
END:VEVENT
BEGIN:VEVENT
DTSTART;TZID=America/Chicago:20261108T100000
DTEND;TZID=America/Chicago:20261108T160000
DTSTAMP:20260422T112043
CREATED:20240617T172039Z
LAST-MODIFIED:20260127T172609Z
UID:10006543-1794132000-1794153600@www.algonquintownship.com
SUMMARY:Crystal Lake Midwest Quilt Guild
DESCRIPTION:
URL:https://www.algonquintownship.com/event/crystal-lake-midwest-quilt-guild/2026-11-08/
LOCATION:Meeting Room 1 Bingo Room
END:VEVENT
BEGIN:VEVENT
DTSTART;TZID=America/Chicago:20261109T190000
DTEND;TZID=America/Chicago:20261109T210000
DTSTAMP:20260422T112043
CREATED:20240617T170507Z
LAST-MODIFIED:20260127T165221Z
UID:10006302-1794250800-1794258000@www.algonquintownship.com
SUMMARY:Cary Junior Trojans
DESCRIPTION:
URL:https://www.algonquintownship.com/event/cary-junior-trojans/2026-11-09/
LOCATION:Meeting Room 1 Bingo Room
END:VEVENT
BEGIN:VEVENT
DTSTART;TZID=America/Chicago:20261110T104500
DTEND;TZID=America/Chicago:20261110T120000
DTSTAMP:20260422T112043
CREATED:20240617T141656Z
LAST-MODIFIED:20260107T154114Z
UID:10008799-1794307500-1794312000@www.algonquintownship.com
SUMMARY:Simple Strength
DESCRIPTION:
URL:https://www.algonquintownship.com/event/simple-strength/2026-11-10/
LOCATION:Meeting Room 1 Bingo Room
END:VEVENT
BEGIN:VEVENT
DTSTART;TZID=America/Chicago:20261110T130000
DTEND;TZID=America/Chicago:20261110T160000
DTSTAMP:20260422T112043
CREATED:20240617T141848Z
LAST-MODIFIED:20240617T141848Z
UID:10004368-1794315600-1794326400@www.algonquintownship.com
SUMMARY:Tuesday Bridge Group
DESCRIPTION:Tuesday’s at 1pm – 4pm.
URL:https://www.algonquintownship.com/event/tuesday-bridge-group/2026-11-10/
LOCATION:Meeting Room 1 Bingo Room
END:VEVENT
BEGIN:VEVENT
DTSTART;TZID=America/Chicago:20261111T090000
DTEND;TZID=America/Chicago:20261111T153000
DTSTAMP:20260422T112043
CREATED:20240617T145751Z
LAST-MODIFIED:20240617T145751Z
UID:10005517-1794387600-1794411000@www.algonquintownship.com
SUMMARY:Crystal Lake Duplicate Bridge Club
DESCRIPTION:
URL:https://www.algonquintownship.com/event/crystal-lake-duplicate-bridge-club/2026-11-11/
LOCATION:Meeting Room 1 Bingo Room
END:VEVENT
BEGIN:VEVENT
DTSTART;TZID=America/Chicago:20261112T104500
DTEND;TZID=America/Chicago:20261112T114500
DTSTAMP:20260422T112043
CREATED:20240617T143636Z
LAST-MODIFIED:20260107T154319Z
UID:10006737-1794480300-1794483900@www.algonquintownship.com
SUMMARY:Chair Yoga
DESCRIPTION:
URL:https://www.algonquintownship.com/event/chair-yoga-2024-10-03/2026-11-12/
LOCATION:Meeting Room 1 Bingo Room
END:VEVENT
END:VCALENDAR