BEGIN:VCALENDAR
VERSION:2.0
PRODID:-//Algonquin Township - ECPv6.15.18//NONSGML v1.0//EN
CALSCALE:GREGORIAN
METHOD:PUBLISH
X-WR-CALNAME:Algonquin Township
X-ORIGINAL-URL:https://www.algonquintownship.com
X-WR-CALDESC:Events for Algonquin Township
REFRESH-INTERVAL;VALUE=DURATION:PT1H
X-Robots-Tag:noindex
X-PUBLISHED-TTL:PT1H
BEGIN:VTIMEZONE
TZID:America/Chicago
BEGIN:DAYLIGHT
TZOFFSETFROM:-0600
TZOFFSETTO:-0500
TZNAME:CDT
DTSTART:20260308T080000
END:DAYLIGHT
BEGIN:STANDARD
TZOFFSETFROM:-0500
TZOFFSETTO:-0600
TZNAME:CST
DTSTART:20261101T070000
END:STANDARD
BEGIN:DAYLIGHT
TZOFFSETFROM:-0600
TZOFFSETTO:-0500
TZNAME:CDT
DTSTART:20270314T080000
END:DAYLIGHT
BEGIN:STANDARD
TZOFFSETFROM:-0500
TZOFFSETTO:-0600
TZNAME:CST
DTSTART:20271107T070000
END:STANDARD
BEGIN:DAYLIGHT
TZOFFSETFROM:-0600
TZOFFSETTO:-0500
TZNAME:CDT
DTSTART:20280312T080000
END:DAYLIGHT
BEGIN:STANDARD
TZOFFSETFROM:-0500
TZOFFSETTO:-0600
TZNAME:CST
DTSTART:20281105T070000
END:STANDARD
END:VTIMEZONE
BEGIN:VEVENT
DTSTART;TZID=America/Chicago:20270713T100000
DTEND;TZID=America/Chicago:20270713T140000
DTSTAMP:20260421T080241
CREATED:20250909T183922Z
LAST-MODIFIED:20250909T183924Z
UID:10008606-1815472800-1815487200@www.algonquintownship.com
SUMMARY:Computer Class
DESCRIPTION:Personalized Computer Class.  Meets every other Tuesday.  This is a one-on-one class for 1 hour sessions beginning at 10am
URL:https://www.algonquintownship.com/event/computer-class-2/2027-07-13/
LOCATION:Meeting room #2 Board Room\, 3702 U.S. Highway 14\, Crystal Lake\, IL\, 60012\, United States
END:VEVENT
BEGIN:VEVENT
DTSTART;TZID=America/Chicago:20270713T104500
DTEND;TZID=America/Chicago:20270713T120000
DTSTAMP:20260421T080241
CREATED:20240617T141656Z
LAST-MODIFIED:20260107T154114Z
UID:10008834-1815475500-1815480000@www.algonquintownship.com
SUMMARY:Simple Strength
DESCRIPTION:
URL:https://www.algonquintownship.com/event/simple-strength/2027-07-13/
LOCATION:Meeting Room 1 Bingo Room
END:VEVENT
BEGIN:VEVENT
DTSTART;TZID=America/Chicago:20270713T130000
DTEND;TZID=America/Chicago:20270713T160000
DTSTAMP:20260421T080241
CREATED:20240617T141848Z
LAST-MODIFIED:20240617T141848Z
UID:10004403-1815483600-1815494400@www.algonquintownship.com
SUMMARY:Tuesday Bridge Group
DESCRIPTION:Tuesday’s at 1pm – 4pm.
URL:https://www.algonquintownship.com/event/tuesday-bridge-group/2027-07-13/
LOCATION:Meeting Room 1 Bingo Room
END:VEVENT
BEGIN:VEVENT
DTSTART;TZID=America/Chicago:20270713T180000
DTEND;TZID=America/Chicago:20270713T200000
DTSTAMP:20260421T080241
CREATED:20240617T142319Z
LAST-MODIFIED:20250204T162209Z
UID:10007353-1815501600-1815508800@www.algonquintownship.com
SUMMARY:TOPS
DESCRIPTION:TOPS – Taking off Pounds Sensibly.  Meets every Tuesday 6pm-8pm.
URL:https://www.algonquintownship.com/event/tops-2025-02-04/2027-07-13/
LOCATION:Meeting room #2 Board Room\, 3702 U.S. Highway 14\, Crystal Lake\, IL\, 60012\, United States
END:VEVENT
BEGIN:VEVENT
DTSTART;TZID=America/Chicago:20270713T180000
DTEND;TZID=America/Chicago:20270713T210000
DTSTAMP:20260421T080241
CREATED:20240617T170852Z
LAST-MODIFIED:20240617T170852Z
UID:10006358-1815501600-1815512400@www.algonquintownship.com
SUMMARY:Crystal Lake Camera Club
DESCRIPTION:
URL:https://www.algonquintownship.com/event/crystal-lake-camera-club/2027-07-13/
LOCATION:Meeting room #2 Board Room\, 3702 U.S. Highway 14\, Crystal Lake\, IL\, 60012\, United States
END:VEVENT
END:VCALENDAR